Workbook

Sheet 물량내역서
A1: [ 단풍나무숲길CCTV카메라설치공사 ]
A2: 품 명 | B2: 규 격 | C2: 단위 | D2: 수량 | E2: 재 료 비 | G2: 노 무 비 | I2: 경 비 | K2: 합 계 | M2: 비 고 | N2: 품목코드 | O2: 변수 | P2: 설정 | Q2: 공종코드 | R2: 일위 | S2: 단산 | T2: 자재 | U2: 손료적용 | V2: 손료저장 | W2: 적용율 | X2: JUK1 | Y2: JUK2 | Z2: JUK3 | AA2: JUK4 | AB2: JUK5 | AC2: JUK6 | AD2: JUK7 | AE2: JUK8 | AF2: JUK9 | AG2: JUK10 | AH2: JUK11 | AI2: JUK12 | AJ2: JUK13 | AK2: JUK14 | AL2: JUK15 | AM2: JUK16 | AN2: JUK17 | AO2: JUK18 | AP2: JUK19 | AQ2: JUK20 | AR2: 자재구분 | AS2: 공종구분 | AT2: 공종레벨 | AU2: 공종+자재 | AV2: 고유번호
E3: 단 가 | F3: 금 액 | G3: 단 가 | H3: 금 액 | I3: 단 가 | J3: 금 액 | K3: 단 가 | L3: 금 액
A4: 010101 1-1.CCTV 설치공사(1차) | Q4: 010101
A5: 600V폴리에틸렌케이블 | B5: 0.6/1kV, F-CV, 2C*6㎟ | C5: m | D5: 1229 | F5: =TRUNC(E5*D5, 0) -> 0 | H5: =TRUNC(G5*D5, 0) -> 0 | J5: =TRUNC(I5*D5, 0) -> 0 | K5: =TRUNC(E5+G5+I5, 0) -> 0 | L5: =TRUNC(F5+H5+J5, 0) -> 0 | N5: 5D1135E9478B22AA4028667D4B4665464158D4 | Q5: 010101 | R5: F | S5: F | T5: T | Y5: 2 | AU5: 0101015D1135E9478B22AA4028667D4B4665464158D4 | AV5: 4
A6: 옥외광섬유케이블 | B6: LAP외피광케이블, 광케이블, SM 9/125, 4C | C6: M | D6: 138 | F6: =TRUNC(E6*D6, 0) -> 0 | H6: =TRUNC(G6*D6, 0) -> 0 | J6: =TRUNC(I6*D6, 0) -> 0 | K6: =TRUNC(E6+G6+I6, 0) -> 0 | L6: =TRUNC(F6+H6+J6, 0) -> 0 | N6: 5D1135E9478B22AA522068BA744725A1667215 | Q6: 010101 | R6: F | S6: F | T6: T | Y6: 2 | AU6: 0101015D1135E9478B22AA522068BA744725A1667215 | AV6: 20
A7: 옥외광섬유케이블 | B7: LAP외피광케이블, 광케이블, SM 9/125, 8C | C7: M | D7: 1012 | F7: =TRUNC(E7*D7, 0) -> 0 | H7: =TRUNC(G7*D7, 0) -> 0 | J7: =TRUNC(I7*D7, 0) -> 0 | K7: =TRUNC(E7+G7+I7, 0) -> 0 | L7: =TRUNC(F7+H7+J7, 0) -> 0 | N7: 5D1135E9478B22AA522068BA744725A1667320 | Q7: 010101 | R7: F | S7: F | T7: T | Y7: 2 | AU7: 0101015D1135E9478B22AA522068BA744725A1667320 | AV7: 21
A8: 옥외광섬유케이블 | B8: LAP외피광케이블, 광케이블, SM 9/125, 24C | C8: M | D8: 208 | F8: =TRUNC(E8*D8, 0) -> 0 | H8: =TRUNC(G8*D8, 0) -> 0 | J8: =TRUNC(I8*D8, 0) -> 0 | K8: =TRUNC(E8+G8+I8, 0) -> 0 | L8: =TRUNC(F8+H8+J8, 0) -> 0 | N8: 5D1135E9478B22AA522068BA744725A166706B | Q8: 010101 | R8: F | S8: F | T8: T | Y8: 2 | AU8: 0101015D1135E9478B22AA522068BA744725A166706B | AV8: 22
A9: 핸드홀 | B9: 수공1호 | C9: 조 | D9: 1 | F9: =TRUNC(E9*D9, 0) -> 0 | H9: =TRUNC(G9*D9, 0) -> 0 | J9: =TRUNC(I9*D9, 0) -> 0 | K9: =TRUNC(E9+G9+I9, 0) -> 0 | L9: =TRUNC(F9+H9+J9, 0) -> 0 | N9: 5D00F54A24862E6FA42F61F5B94CD11BC56203 | Q9: 010101 | R9: F | S9: F | T9: T | AU9: 0101015D00F54A24862E6FA42F61F5B94CD11BC56203 | AV9: 89
A10: 핸드홀카바 | B10: 주철각형(1120*680*132) | C10: 조 | D10: 1 | F10: =TRUNC(E10*D10, 0) -> 0 | H10: =TRUNC(G10*D10, 0) -> 0 | J10: =TRUNC(I10*D10, 0) -> 0 | K10: =TRUNC(E10+G10+I10, 0) -> 0 | L10: =TRUNC(F10+H10+J10, 0) -> 0 | N10: 5D00F54A24862E6FA42F61F5B94CD11BC5620B | Q10: 010101 | R10: F | S10: F | T10: T | AU10: 0101015D00F54A24862E6FA42F61F5B94CD11BC5620B | AV10: 90
A11: 누전차단기 | B11: 2P 30AF | C11: 개 | D11: 3 | F11: =TRUNC(E11*D11, 0) -> 0 | H11: =TRUNC(G11*D11, 0) -> 0 | J11: =TRUNC(I11*D11, 0) -> 0 | K11: =TRUNC(E11+G11+I11, 0) -> 0 | L11: =TRUNC(F11+H11+J11, 0) -> 0 | N11: 5D00656FAB8C9DF4C7206B6954442479E12A9E | Q11: 010101 | R11: F | S11: F | T11: T | AU11: 0101015D00656FAB8C9DF4C7206B6954442479E12A9E | AV11: 8
A12: 지중선용가선철물 | B12: 매설표지판, 전규격 | C12: 개 | D12: 9 | F12: =TRUNC(E12*D12, 0) -> 0 | H12: =TRUNC(G12*D12, 0) -> 0 | J12: =TRUNC(I12*D12, 0) -> 0 | K12: =TRUNC(E12+G12+I12, 0) -> 0 | L12: =TRUNC(F12+H12+J12, 0) -> 0 | N12: 5D00656FAB8CAFE094276C3E64492C45CA0119 | Q12: 010101 | R12: F | S12: F | T12: T | AU12: 0101015D00656FAB8CAFE094276C3E64492C45CA0119 | AV12: 91
A13: 지중선용가선철물 | B13: 케이블표지시트, 0.23*400mm | C13: 개 | D13: 1 | F13: =TRUNC(E13*D13, 0) -> 0 | H13: =TRUNC(G13*D13, 0) -> 0 | J13: =TRUNC(I13*D13, 0) -> 0 | K13: =TRUNC(E13+G13+I13, 0) -> 0 | L13: =TRUNC(F13+H13+J13, 0) -> 0 | N13: 5D00656FAB8CAFE094276C3E64492C45CA0236 | Q13: 010101 | R13: F | S13: F | T13: T | AU13: 0101015D00656FAB8CAFE094276C3E64492C45CA0236 | AV13: 92
A14: 파상형경질폴리에틸렌전선관 | B14: 30mm | C14: m | D14: 722 | F14: =TRUNC(E14*D14, 0) -> 0 | H14: =TRUNC(G14*D14, 0) -> 0 | J14: =TRUNC(I14*D14, 0) -> 0 | K14: =TRUNC(E14+G14+I14, 0) -> 0 | L14: =TRUNC(F14+H14+J14, 0) -> 0 | N14: 5D00656FAA823B1D342C671B734BA47543422C | Q14: 010101 | R14: F | S14: F | T14: T | X14: 1 | Y14: 2 | AU14: 0101015D00656FAA823B1D342C671B734BA47543422C | AV14: 9
A15: 파상형경질폴리에틸렌전선관 | B15: 50mm | C15: M | D15: 338 | F15: =TRUNC(E15*D15, 0) -> 0 | H15: =TRUNC(G15*D15, 0) -> 0 | J15: =TRUNC(I15*D15, 0) -> 0 | K15: =TRUNC(E15+G15+I15, 0) -> 0 | L15: =TRUNC(F15+H15+J15, 0) -> 0 | N15: 5D00656FAA823B1D342C671B734BA47543422E | Q15: 010101 | R15: F | S15: F | T15: T | X15: 1 | Y15: 2 | AU15: 0101015D00656FAA823B1D342C671B734BA47543422E | AV15: 202
A16: 전선관부속품비 | B16: 전선관의 15% | C16: 식 | D16: 1 | F16: =TRUNC(E16*D16, 0) -> 0 | H16: =TRUNC(G16*D16, 0) -> 0 | J16: =TRUNC(I16*D16, 0) -> 0 | K16: =TRUNC(E16+G16+I16, 0) -> 0 | L16: =TRUNC(F16+H16+J16, 0) -> 0 | N16: 5B34B5D4A480A92A25266AD8504E001 | Q16: 010101 | R16: F | S16: F | T16: F | U16: 0 | V16: 0 | W16: 0.15 | AU16: 0101015B34B5D4A480A92A25266AD8504C003 | AV16: 226
A17: 잡재료비 | B17: 배관배선의 2% | C17: 식 | D17: 1 | F17: =TRUNC(E17*D17, 0) -> 0 | H17: =TRUNC(G17*D17, 0) -> 0 | J17: =TRUNC(I17*D17, 0) -> 0 | K17: =TRUNC(E17+G17+I17, 0) -> 0 | L17: =TRUNC(F17+H17+J17, 0) -> 0 | N17: 5B34B5D4A480A92A25266AD8504D002 | Q17: 010101 | R17: F | S17: F | T17: F | U17: 0 | V17: 0 | W17: 0.02 | AU17: 0101015B34B5D4A480A92A25266AD8504E001 | AV17: 224
A18: 터파기(기계 9:1) | B18: 보통토사. 백호 90%+인력 10% | C18: ㎥ | D18: 113 | F18: =TRUNC(E18*D18, 0) -> 0 | H18: =TRUNC(G18*D18, 0) -> 0 | J18: =TRUNC(I18*D18, 0) -> 0 | K18: =TRUNC(E18+G18+I18, 0) -> 0 | L18: =TRUNC(F18+H18+J18, 0) -> 0 | N18: 5A28A5270B8E7069F2276D16F94447 | Q18: 010101 | R18: T | S18: F | T18: F | AU18: 0101015A28A5270B8E7069F2276D16F94447 | AV18: 10
A19: 되메우고 다지기(백호우+램머) | B19: 토사,T=15cm | C19: ㎥ | D19: 113 | F19: =TRUNC(E19*D19, 0) -> 0 | H19: =TRUNC(G19*D19, 0) -> 0 | J19: =TRUNC(I19*D19, 0) -> 0 | K19: =TRUNC(E19+G19+I19, 0) -> 0 | L19: =TRUNC(F19+H19+J19, 0) -> 0 | N19: 5A28A521E38C91C9F02A66106242F2 | Q19: 010101 | R19: T | S19: F | T19: F | AU19: 0101015A28A521E38C91C9F02A66106242F2 | AV19: 11
A20: 관로구방수 | B20: ø30 | C20: 개소 | D20: 29 | F20: =TRUNC(E20*D20, 0) -> 0 | H20: =TRUNC(G20*D20, 0) -> 0 | J20: =TRUNC(I20*D20, 0) -> 0 | K20: =TRUNC(E20+G20+I20, 0) -> 0 | L20: =TRUNC(F20+H20+J20, 0) -> 0 | N20: 5A62650CCE8B28D4C72A6838E9469F | Q20: 010101 | R20: T | S20: F | T20: F | AU20: 0101015A62650CCE8B28D4C72A6838E9469F | AV20: 12
A21: 관로구방수 | B21: ø50 | C21: 개소 | D21: 12 | F21: =TRUNC(E21*D21, 0) -> 0 | H21: =TRUNC(G21*D21, 0) -> 0 | J21: =TRUNC(I21*D21, 0) -> 0 | K21: =TRUNC(E21+G21+I21, 0) -> 0 | L21: =TRUNC(F21+H21+J21, 0) -> 0 | N21: 5A62650CCE8B28D4C72A6838E945F8 | Q21: 010101 | R21: T | S21: F | T21: F | AU21: 0101015A62650CCE8B28D4C72A6838E945F8 | AV21: 203
A22: 배관용 구멍뚫기(코어드릴)-Con,c | B22: 두께30cm이하 Ø50mm | C22: 개소 | D22: 39 | F22: =TRUNC(E22*D22, 0) -> 0 | H22: =TRUNC(G22*D22, 0) -> 0 | J22: =TRUNC(I22*D22, 0) -> 0 | K22: =TRUNC(E22+G22+I22, 0) -> 0 | L22: =TRUNC(F22+H22+J22, 0) -> 0 | N22: 5A62650CC28815CD4A2E6FC7894FF6 | Q22: 010101 | R22: T | S22: F | T22: F | AU22: 0101015A62650CC28815CD4A2E6FC7894FF6 | AV22: 13
A23: 아스콘포장 파괴 및 복구 | B23: W1.0xt=5+10+20=35Cm | C23: M | D23: 8 | F23: =TRUNC(E23*D23, 0) -> 0 | H23: =TRUNC(G23*D23, 0) -> 0 | J23: =TRUNC(I23*D23, 0) -> 0 | K23: =TRUNC(E23+G23+I23, 0) -> 0 | L23: =TRUNC(F23+H23+J23, 0) -> 0 | N23: 5A0B75315680E91989276BC8D7496F | Q23: 010101 | R23: T | S23: F | T23: F | AU23: 0101015A0B75315680E91989276BC8D7496F | AV23: 30
A24: CCTV폴대용 기초 | B24: 400x500x600H | C24: 개소 | D24: 5 | F24: =TRUNC(E24*D24, 0) -> 0 | H24: =TRUNC(G24*D24, 0) -> 0 | J24: =TRUNC(I24*D24, 0) -> 0 | K24: =TRUNC(E24+G24+I24, 0) -> 0 | L24: =TRUNC(F24+H24+J24, 0) -> 0 | N24: 5A62650CCE8B289D122E61E2794494 | Q24: 010101 | R24: T | S24: F | T24: F | AU24: 0101015A62650CCE8B289D122E61E2794494 | AV24: 94
A25: FDF | B25: 24CORE | C25: EA | D25: 1 | F25: =TRUNC(E25*D25, 0) -> 0 | H25: =TRUNC(G25*D25, 0) -> 0 | J25: =TRUNC(I25*D25, 0) -> 0 | K25: =TRUNC(E25+G25+I25, 0) -> 0 | L25: =TRUNC(F25+H25+J25, 0) -> 0 | N25: 5B9C1533078C711AFD236026144479A2AEA971 | Q25: 010101 | R25: F | S25: F | T25: T | AU25: 0101015B9C1533078C711AFD236026144479A2AEA971 | AV25: 15
A26: PIG TAIL[설치,성단] | B26: 1.5M | C26: EA | D26: 24 | F26: =TRUNC(E26*D26, 0) -> 0 | H26: =TRUNC(G26*D26, 0) -> 0 | J26: =TRUNC(I26*D26, 0) -> 0 | K26: =TRUNC(E26+G26+I26, 0) -> 0 | L26: =TRUNC(F26+H26+J26, 0) -> 0 | N26: 5B9C1533078C711AFD236026144479A2AEA970 | Q26: 010101 | R26: F | S26: F | T26: T | AU26: 0101015B9C1533078C711AFD236026144479A2AEA970 | AV26: 16
A27: OPTICAL PATCH CORD | B27: 3M | C27: EA | D27: 1 | F27: =TRUNC(E27*D27, 0) -> 0 | H27: =TRUNC(G27*D27, 0) -> 0 | J27: =TRUNC(I27*D27, 0) -> 0 | K27: =TRUNC(E27+G27+I27, 0) -> 0 | L27: =TRUNC(F27+H27+J27, 0) -> 0 | N27: 5B9C1533078C711AFD236026144479A2AEA977 | Q27: 010101 | R27: F | S27: F | T27: T | AU27: 0101015B9C1533078C711AFD236026144479A2AEA977 | AV27: 17
A28: 광접속함체 | B28: 8CORE | C28: EA | D28: 1 | F28: =TRUNC(E28*D28, 0) -> 0 | H28: =TRUNC(G28*D28, 0) -> 0 | J28: =TRUNC(I28*D28, 0) -> 0 | K28: =TRUNC(E28+G28+I28, 0) -> 0 | L28: =TRUNC(F28+H28+J28, 0) -> 0 | N28: 5B9C1533078C711AFD236026144479A2AEAA1F | Q28: 010101 | R28: F | S28: F | T28: T | AU28: 0101015B9C1533078C711AFD236026144479A2AEAA1F | AV28: 19
A29: 광접속함체 | B29: 24CORE | C29: EA | D29: 1 | F29: =TRUNC(E29*D29, 0) -> 0 | H29: =TRUNC(G29*D29, 0) -> 0 | J29: =TRUNC(I29*D29, 0) -> 0 | K29: =TRUNC(E29+G29+I29, 0) -> 0 | L29: =TRUNC(F29+H29+J29, 0) -> 0 | N29: 5B9C1533078C711AFD236026144479A2AEAA1E | Q29: 010101 | R29: F | S29: F | T29: T | AU29: 0101015B9C1533078C711AFD236026144479A2AEAA1E | AV29: 18
A30: 보통인부 | B30: 일반공사 직종 | C30: 인 | D30: 28.11 | F30: =TRUNC(E30*D30, 0) -> 0 | H30: =TRUNC(G30*D30, 0) -> 0 | J30: =TRUNC(I30*D30, 0) -> 0 | K30: =TRUNC(E30+G30+I30, 0) -> 0 | L30: =TRUNC(F30+H30+J30, 0) -> 0 | N30: 5AFB05B6048E0999E32C63460248E3A503BF1C | Q30: 010101 | R30: F | S30: F | T30: T | Z30: 3 | AU30: 0101015AFB05B6048E0999E32C63460248E3A503BF1C | AV30: 216
A31: 특별인부 | B31: 일반공사 직종 | C31: 인 | D31: 2.25 | F31: =TRUNC(E31*D31, 0) -> 0 | H31: =TRUNC(G31*D31, 0) -> 0 | J31: =TRUNC(I31*D31, 0) -> 0 | K31: =TRUNC(E31+G31+I31, 0) -> 0 | L31: =TRUNC(F31+H31+J31, 0) -> 0 | N31: 5AFB05B6048E0999E32C63460248E3A503BF1D | Q31: 010101 | R31: F | S31: F | T31: T | Z31: 3 | AU31: 0101015AFB05B6048E0999E32C63460248E3A503BF1D | AV31: 217
A32: 미장공 | B32: 일반공사 직종 | C32: 인 | D32: 0.08 | F32: =TRUNC(E32*D32, 0) -> 0 | H32: =TRUNC(G32*D32, 0) -> 0 | J32: =TRUNC(I32*D32, 0) -> 0 | K32: =TRUNC(E32+G32+I32, 0) -> 0 | L32: =TRUNC(F32+H32+J32, 0) -> 0 | N32: 5AFB05B6048E0999E32C63460248E3A503BD57 | Q32: 010101 | R32: F | S32: F | T32: T | Z32: 3 | AU32: 0101015AFB05B6048E0999E32C63460248E3A503BD57 | AV32: 218
A33: 내선전공 | B33: 일반공사 직종 | C33: 인 | D33: 0.3 | F33: =TRUNC(E33*D33, 0) -> 0 | H33: =TRUNC(G33*D33, 0) -> 0 | J33: =TRUNC(I33*D33, 0) -> 0 | K33: =TRUNC(E33+G33+I33, 0) -> 0 | L33: =TRUNC(F33+H33+J33, 0) -> 0 | N33: 5AFB05B6048E0999E32C63460248E3A503B8EB | Q33: 010101 | R33: F | S33: F | T33: T | Z33: 3 | AU33: 0101015AFB05B6048E0999E32C63460248E3A503B8EB | AV33: 219
A34: 통신설비공 | B34: 일반공사 직종 | C34: 인 | D34: 0.57 | F34: =TRUNC(E34*D34, 0) -> 0 | H34: =TRUNC(G34*D34, 0) -> 0 | J34: =TRUNC(I34*D34, 0) -> 0 | K34: =TRUNC(E34+G34+I34, 0) -> 0 | L34: =TRUNC(F34+H34+J34, 0) -> 0 | N34: 5AFB05B6048E0999E32C63460248E3A503B7CF | Q34: 010101 | R34: F | S34: F | T34: T | Z34: 3 | AU34: 0101015AFB05B6048E0999E32C63460248E3A503B7CF | AV34: 220
A35: 통신외선공 | B35: 일반공사 직종 | C35: 인 | D35: 6.22 | F35: =TRUNC(E35*D35, 0) -> 0 | H35: =TRUNC(G35*D35, 0) -> 0 | J35: =TRUNC(I35*D35, 0) -> 0 | K35: =TRUNC(E35+G35+I35, 0) -> 0 | L35: =TRUNC(F35+H35+J35, 0) -> 0 | N35: 5AFB05B6048E0999E32C63460248E3A503B7C0 | Q35: 010101 | R35: F | S35: F | T35: T | Z35: 3 | AU35: 0101015AFB05B6048E0999E32C63460248E3A503B7C0 | AV35: 221
A36: 통신케이블공 | B36: 일반공사 직종 | C36: 인 | D36: 15.03 | F36: =TRUNC(E36*D36, 0) -> 0 | H36: =TRUNC(G36*D36, 0) -> 0 | J36: =TRUNC(I36*D36, 0) -> 0 | K36: =TRUNC(E36+G36+I36, 0) -> 0 | L36: =TRUNC(F36+H36+J36, 0) -> 0 | N36: 5AFB05B6048E0999E32C63460248E3A503B7C1 | Q36: 010101 | R36: F | S36: F | T36: T | Z36: 3 | AU36: 0101015AFB05B6048E0999E32C63460248E3A503B7C1 | AV36: 222
A37: 광케이블설치사 | B37: 광전자 직종 | C37: 인 | D37: 11.03 | F37: =TRUNC(E37*D37, 0) -> 0 | H37: =TRUNC(G37*D37, 0) -> 0 | J37: =TRUNC(I37*D37, 0) -> 0 | K37: =TRUNC(E37+G37+I37, 0) -> 0 | L37: =TRUNC(F37+H37+J37, 0) -> 0 | N37: 5AFB05B6048E0999E32F6887E3426555F6EB0C | Q37: 010101 | R37: F | S37: F | T37: T | Z37: 3 | AU37: 0101015AFB05B6048E0999E32F6887E3426555F6EB0C | AV37: 223
A38: 공구손료 | B38: 인력품의 3% | C38: 식 | D38: 1 | F38: =TRUNC(E38*D38, 0) -> 0 | H38: =TRUNC(G38*D38, 0) -> 0 | J38: =TRUNC(I38*D38, 0) -> 0 | K38: =TRUNC(E38+G38+I38, 0) -> 0 | L38: =TRUNC(F38+H38+J38, 0) -> 0 | N38: 5B34B5D4A480A92A25266AD8504C003 | Q38: 010101 | R38: F | S38: F | T38: F | U38: 1 | V38: 0 | W38: 0.03 | AU38: 0101015B34B5D4A480A92A25266AD8504D002 | AV38: 225
A39: [ 합 계 ] | F39: =SUM(F5:F38) -> 0 | H39: =SUM(H5:H38) -> 0 | J39: =SUM(J5:J38) -> 0 | L39: =SUM(L5:L38) -> 0 | N39: TOTAL
A41: 010201 2-1.폐아스콘(1차) | Q41: 010201
A42: 폐기물 중간수집 24톤 운반 | B42: 상차비(L=30km) | C42: 톤 | D42: 7 | F42: =TRUNC(E42*D42, 0) -> 0 | H42: =TRUNC(G42*D42, 0) -> 0 | J42: =TRUNC(I42*D42, 0) -> 0 | K42: =TRUNC(E42+G42+I42, 0) -> 0 | L42: =TRUNC(F42+H42+J42, 0) -> 0 | N42: 5B9C15439387FEEF1C2167AB8B45B9B0651D4E | Q42: 010201 | R42: F | S42: F | T42: T | AU42: 0102015B9C15439387FEEF1C2167AB8B45B9B0651D4E | AV42: 119
A43: 폐기물 중간수집 24톤 운반 | B43: 운반비(L=30km) | C43: 톤 | D43: 7 | F43: =TRUNC(E43*D43, 0) -> 0 | H43: =TRUNC(G43*D43, 0) -> 0 | J43: =TRUNC(I43*D43, 0) -> 0 | K43: =TRUNC(E43+G43+I43, 0) -> 0 | L43: =TRUNC(F43+H43+J43, 0) -> 0 | N43: 5B9C15439387FEEF1C2167AB8B45B9B0651D4D | Q43: 010201 | R43: F | S43: F | T43: T | AU43: 0102015B9C15439387FEEF1C2167AB8B45B9B0651D4D | AV43: 120
A44: 폐아스콘 | B44: (부가세,반입료별도) | C44: 톤 | D44: 7 | F44: =TRUNC(E44*D44, 0) -> 0 | H44: =TRUNC(G44*D44, 0) -> 0 | J44: =TRUNC(I44*D44, 0) -> 0 | K44: =TRUNC(E44+G44+I44, 0) -> 0 | L44: =TRUNC(F44+H44+J44, 0) -> 0 | N44: 5B9C15439387FEEF1C2167AB8B45B9B0651D4C | Q44: 010201 | R44: F | S44: F | T44: T | AU44: 0102015B9C15439387FEEF1C2167AB8B45B9B0651D4C | AV44: 121
A45: [ 합 계 ] | F45: =SUM(F42:F44) -> 0 | H45: =SUM(H42:H44) -> 0 | J45: =SUM(J42:J44) -> 0 | L45: =SUM(L42:L44) -> 0 | N45: TOTAL
A47: 010301 3-1.CCTV 납품 및 설치(1차) | Q47: 010301
A48: 네트워크 BULLET카메라x2, 네트워크스위치 | B48: 2M, IP, IR 0Lux, 가변, 80C 포함, 8PORT, SFP | C48: SET | D48: 1 | E48: 4020000 | F48: 4020000 | G48: 0 | H48: 0 | I48: 0 | J48: 0 | K48: 4020000 | L48: 4020000 | M48: 관급자관급자재 | N48: 5B9C1533078C711AFD2360308C4E21553B8AB2 | Q48: 010301 | R48: F | S48: F | T48: T | AU48: 0103015B9C1533078C711AFD2360308C4E21553B8AB2 | AV48: 69
A49: 네트워크 BULLET카메라 | B49: 2M, IP, IR 0Lux, 가변 | C49: EA | D49: 4 | E49: 1107000 | F49: 4428000 | G49: 0 | H49: 0 | I49: 0 | J49: 0 | K49: 1107000 | L49: 4428000 | M49: 관급자관급자재 | N49: 5B9C1533078C711AFD2360308C4E21553B8AB1 | Q49: 010301 | R49: F | S49: F | T49: T | AU49: 0103015B9C1533078C711AFD2360308C4E21553B8AB1 | AV49: 70
A50: 금속기둥 | B50: STS, Φ152.4, 4m, 기초앙카셋 포함 | C50: EA | D50: 5 | E50: 1575000 | F50: 7875000 | G50: 0 | H50: 0 | I50: 0 | J50: 0 | K50: 1575000 | L50: 7875000 | M50: 관급자관급자재 | N50: 5B9C1533078C711AFD2360308C4E21553B8AB0 | Q50: 010301 | R50: F | S50: F | T50: T | AU50: 0103015B9C1533078C711AFD2360308C4E21553B8AB0 | AV50: 71
A51: 카메라브래킷 | B51: 천정형(부착대), 제작 | C51: EA | D51: 5 | E51: 311000 | F51: 1555000 | G51: 0 | H51: 0 | I51: 0 | J51: 0 | K51: 311000 | L51: 1555000 | M51: 관급자관급자재 | N51: 5B9C1533078C711AFD2360308C4E21553B8ABF | Q51: 010301 | R51: F | S51: F | T51: T | AU51: 0103015B9C1533078C711AFD2360308C4E21553B8ABF | AV51: 72
A52: 금속상자 | B52: 300*400*200mm | C52: EA | D52: 5 | E52: 561000 | F52: 2805000 | G52: 0 | H52: 0 | I52: 0 | J52: 0 | K52: 561000 | L52: 2805000 | M52: 관급자관급자재 | N52: 5B9C1533078C711AFD2360308C4E21553B8ABE | Q52: 010301 | R52: F | S52: F | T52: T | AU52: 0103015B9C1533078C711AFD2360308C4E21553B8ABE | AV52: 73
A53: 서지흡수기 | B53: 전원용, 40kA | C53: EA | D53: 5 | E53: 210000 | F53: 1050000 | G53: 0 | H53: 0 | I53: 0 | J53: 0 | K53: 210000 | L53: 1050000 | M53: 관급자관급자재 | N53: 5B9C1533078C711AFD2360308C4E21553B8B5E | Q53: 010301 | R53: F | S53: F | T53: T | AU53: 0103015B9C1533078C711AFD2360308C4E21553B8B5E | AV53: 74
A54: 서지흡수기 | B54: 신호용, 20kA | C54: EA | D54: 6 | E54: 179000 | F54: 1074000 | G54: 0 | H54: 0 | I54: 0 | J54: 0 | K54: 179000 | L54: 1074000 | M54: 관급자관급자재 | N54: 5B9C1533078C711AFD2360308C4E21553B8B5F | Q54: 010301 | R54: F | S54: F | T54: T | AU54: 0103015B9C1533078C711AFD2360308C4E21553B8B5F | AV54: 75
A55: 네트워크스위치 | B55: 광SFP 4+TP 4 | C55: EA | D55: 4 | E55: 416000 | F55: 1664000 | G55: 0 | H55: 0 | I55: 0 | J55: 0 | K55: 416000 | L55: 1664000 | M55: 관급자관급자재 | N55: 5B9C1533078C711AFD2360308C4E21553B8B5C | Q55: 010301 | R55: F | S55: F | T55: T | AU55: 0103015B9C1533078C711AFD2360308C4E21553B8B5C | AV55: 76
A56: 안내표지판 | B56: CCTV설치안내(중) | C56: EA | D56: 5 | E56: 158460 | F56: 792300 | G56: 0 | H56: 0 | I56: 0 | J56: 0 | K56: 158460 | L56: 792300 | M56: 관급자관급자재 | N56: 5B9C1533078C711AFD2360308C4E21553B8B5D | Q56: 010301 | R56: F | S56: F | T56: T | AU56: 0103015B9C1533078C711AFD2360308C4E21553B8B5D | AV56: 77
A57: 광분배함 | B57: 4PORT | C57: EA | D57: 9 | E57: 72520 | F57: 652680 | G57: 0 | H57: 0 | I57: 0 | J57: 0 | K57: 72520 | L57: 652680 | M57: 관급자관급자재 | N57: 5B9C1533078C711AFD2360308C4E21553B8B5A | Q57: 010301 | R57: F | S57: F | T57: T | AU57: 0103015B9C1533078C711AFD2360308C4E21553B8B5A | AV57: 78
A58: 광점퍼코드 | B58: SM-3 ST | C58: EA | D58: 36 | E58: 8720 | F58: 313920 | G58: 0 | H58: 0 | I58: 0 | J58: 0 | K58: 8720 | L58: 313920 | M58: 관급자관급자재 | N58: 5B9C1533078C711AFD2360308C4E21553B8B5B | Q58: 010301 | R58: F | S58: F | T58: T | AU58: 0103015B9C1533078C711AFD2360308C4E21553B8B5B | AV58: 79
A59: 광접속 | B59: 12코어이하 | C59: EA | D59: 36 | E59: 27930 | F59: 1005480 | G59: 0 | H59: 0 | I59: 0 | J59: 0 | K59: 27930 | L59: 1005480 | M59: 관급자관급자재 | N59: 5B9C1533078C711AFD2360308C4E21553B8B58 | Q59: 010301 | R59: F | S59: F | T59: T | AU59: 0103015B9C1533078C711AFD2360308C4E21553B8B58 | AV59: 80
A60: 라이선스 | B60: 분배/저장 | C60: EA | D60: 6 | E60: 440000 | F60: 2640000 | K60: 440000 | L60: 2640000 | M60: 관급자관급자재 | N60: 5B9DE5C26985D8C023246DCD7E46 | R60: F | S60: F | T60: F | AU60: 0103015B9DE5C26985D8C023246DCD7E46 | AV60: 195
A61: 소계 | D61: 1 | F61: =SUM(F48:F60) -> 29875380 | L61: =TRUNC(F61+H61+J61, 0) -> 29875380 | N61: 5B9C1533078C711AFD2360308C4E21553B8B59 | Q61: 010301 | R61: F | S61: F | T61: T | AU61: 0103015B9C1533078C711AFD2360308C4E21553B8B59 | AV61: 81
A63: [ 합 계 ] | F63: =SUM(F48:F62) -F61 -> 29875380 | H63: =SUM(H48:H62) -H60 -> 0 | J63: =SUM(J48:J62) -J60 -> 0 | L63: =SUM(L48:L62) -L61 -> 29875380 | N63: TOTAL

Sheet 공량산출근거서_일위대가
A1: 공 량 산 출 근 거 서
A2: [ 단풍나무숲길CCTV카메라설치공사 ]
A3: 코 드 | B3: 품 명 | C3: 규 격 | D3: 단위 | E3: 품 셈 목 록 | F3: 수 량 | G3: 할증 | H3: 노임할증-1 | I3: 노임할증-2 | J3: 노임할증-3 | K3: 내역수량 | L3: 직 종 명 | M3: 공 량 | N3: 계 | O3: 번 호 | P3: 비 고 | T3: 일위대가목록+자재 | V3: 보통인부 | W3: 일반공사 직종 | X3: 통신외선공 | Y3: 착암공
A4: 관로구방수 ø30 개소 (호표 3)
A5: 5D00656FAA823B1D342260E82D42202A89C76E | B5: 관구밀폐기 | C5: 실링가스켓, D30 | D5: 개 | E5: 통신 4-1-7 | F5: 1 | G5: 0 | K5: 1 | L5: 보통인부 | M5: =0.13*(H5+100)/100*(I5+100)/100*(J5+100)/100 -> 0.13 | N5: =F5*M5 -> 0.13 | O5: 노임 1 | P5: 0.13*1 | Q5: 5A62650CCE8B28D4C72A6838E9469F | R5: 5AFB05B6048E0999E32C63460248E3A503BF1C | S5: 0.13 | T5: 5A62650CCE8B28D4C72A6838E9469F5D00656FAA823B1D342260E82D42202A89C76E | V5: =N5 -> 0.13
L6: 통신외선공 | M6: =0.13*(H5+100)/100*(I5+100)/100*(J5+100)/100 -> 0.13 | N6: =F5*M6 -> 0.13 | O6: 노임 11 | P6: 0.13*1 | Q6: 5A62650CCE8B28D4C72A6838E9469F | R6: 5AFB05B6048E0999E32C63460248E3A503B7C0 | S6: 0.13 | T6: 5A62650CCE8B28D4C72A6838E9469F5D00656FAA823B1D342260E82D42202A89C76E | X6: =N6 -> 0.13
A7: 5AFB05B6048E0999E32C63460248E3A503BF1C | B7: 보통인부 | C7: 일반공사 직종 | D7: 인 | F7: =SUM(V5:V6) -> 0.13 | K7: =ROUND(F7*공량설정_일위대가!B4/100, 공량설정_일위대가!C5) -> 0.09 | O7: 노임 1 | Q7: 5A62650CCE8B28D4C72A6838E9469F | T7: 5A62650CCE8B28D4C72A6838E9469F5AFB05B6048E0999E32C63460248E3A503BF1C
A8: 5AFB05B6048E0999E32C63460248E3A503B7C0 | B8: 통신외선공 | C8: 일반공사 직종 | D8: 인 | F8: =SUM(X5:X6) -> 0.13 | K8: =ROUND(F8*공량설정_일위대가!B4/100, 공량설정_일위대가!C6) -> 0.09 | O8: 노임 11 | Q8: 5A62650CCE8B28D4C72A6838E9469F | T8: 5A62650CCE8B28D4C72A6838E9469F5AFB05B6048E0999E32C63460248E3A503B7C0
A9: 관로구방수 ø50 개소 (호표 4)
A10: 5D00656FAA823B1D342260E82D42202A89C76D | B10: 관구밀폐기 | C10: 실링가스켓, D50 | D10: 개 | E10: 통신 4-1-7 | F10: 1 | G10: 0 | K10: 1 | L10: 보통인부 | M10: =0.13*(H10+100)/100*(I10+100)/100*(J10+100)/100 -> 0.13 | N10: =F10*M10 -> 0.13 | O10: 노임 1 | P10: 0.13*1 | Q10: 5A62650CCE8B28D4C72A6838E945F8 | R10: 5AFB05B6048E0999E32C63460248E3A503BF1C | S10: 0.13 | T10: 5A62650CCE8B28D4C72A6838E945F85D00656FAA823B1D342260E82D42202A89C76D | V10: =N10 -> 0.13
L11: 통신외선공 | M11: =0.13*(H10+100)/100*(I10+100)/100*(J10+100)/100 -> 0.13 | N11: =F10*M11 -> 0.13 | O11: 노임 11 | P11: 0.13*1 | Q11: 5A62650CCE8B28D4C72A6838E945F8 | R11: 5AFB05B6048E0999E32C63460248E3A503B7C0 | S11: 0.13 | T11: 5A62650CCE8B28D4C72A6838E945F85D00656FAA823B1D342260E82D42202A89C76D | X11: =N11 -> 0.13
A12: 5AFB05B6048E0999E32C63460248E3A503BF1C | B12: 보통인부 | C12: 일반공사 직종 | D12: 인 | F12: =SUM(V10:V11) -> 0.13 | K12: =ROUND(F12*공량설정_일위대가!B7/100, 공량설정_일위대가!C8) -> 0.09 | O12: 노임 1 | Q12: 5A62650CCE8B28D4C72A6838E945F8 | T12: 5A62650CCE8B28D4C72A6838E945F85AFB05B6048E0999E32C63460248E3A503BF1C
A13: 5AFB05B6048E0999E32C63460248E3A503B7C0 | B13: 통신외선공 | C13: 일반공사 직종 | D13: 인 | F13: =SUM(X10:X11) -> 0.13 | K13: =ROUND(F13*공량설정_일위대가!B7/100, 공량설정_일위대가!C9) -> 0.09 | O13: 노임 11 | Q13: 5A62650CCE8B28D4C72A6838E945F8 | T13: 5A62650CCE8B28D4C72A6838E945F85AFB05B6048E0999E32C63460248E3A503B7C0
A14: CCTV폴대용 기초 400x500x600H 개소 (호표 7)
A15: 5B9C1533078C711AFD236026144479A2AEAA1C | B15: CCTV폴대용 기초 | C15: 400x500x600H | D15: EA | E15: 통신 3-7-1 | F15: 1 | G15: 0 | K15: 1 | L15: 보통인부 | M15: =0.11*(H15+100)/100*(I15+100)/100*(J15+100)/100 -> 0.11 | N15: =F15*M15 -> 0.11 | O15: 노임 1 | P15: 0.11*1 | Q15: 5A62650CCE8B289D122E61E2794494 | R15: 5AFB05B6048E0999E32C63460248E3A503BF1C | S15: 0.11 | T15: 5A62650CCE8B289D122E61E27944945B9C1533078C711AFD236026144479A2AEAA1C | V15: =N15 -> 0.11
L16: 착암공 | M16: =0.06*(H15+100)/100*(I15+100)/100*(J15+100)/100 -> 0.06 | N16: =F15*M16 -> 0.06 | O16: 노임 3 | P16: 0.06*1 | Q16: 5A62650CCE8B289D122E61E2794494 | R16: 5AFB05B6048E0999E32C63460248E3A503BE72 | S16: 0.06 | T16: 5A62650CCE8B289D122E61E27944945B9C1533078C711AFD236026144479A2AEAA1C | Y16: =N16 -> 0.06
A17: 5D00656FAB8C9DF4C7276E56424E1DF5E38E72 | B17: 접지봉 | C17: 14∮*1000mm | D17: 개 | E17: 통신 11-5-1 | F17: 1 | G17: 0 | K17: 1 | L17: 보통인부 | M17: =0.1*(H17+100)/100*(I17+100)/100*(J17+100)/100 -> 0.1 | N17: =F17*M17 -> 0.1 | O17: 노임 1 | P17: 0.1*1 | Q17: 5A62650CCE8B289D122E61E2794494 | R17: 5AFB05B6048E0999E32C63460248E3A503BF1C | S17: 0.1 | T17: 5A62650CCE8B289D122E61E27944945D00656FAB8C9DF4C7276E56424E1DF5E38E72 | V17: =N17 -> 0.1
L18: 통신외선공 | M18: =0.2*(H17+100)/100*(I17+100)/100*(J17+100)/100 -> 0.2 | N18: =F17*M18 -> 0.2 | O18: 노임 11 | P18: 0.2*1 | Q18: 5A62650CCE8B289D122E61E2794494 | R18: 5AFB05B6048E0999E32C63460248E3A503B7C0 | S18: 0.2 | T18: 5A62650CCE8B289D122E61E27944945D00656FAB8C9DF4C7276E56424E1DF5E38E72 | X18: =N18 -> 0.2
A19: 5D00656FAB8C9DF4FC2862D235421841305852 | B19: 볼트형콘넥터 | C19: 서비스콘넥터, 22SQ | D19: 개 | E19: 통신 11-5-1 | F19: 1 | G19: 0 | K19: 1 | L19: 통신외선공 | M19: =0.05*(H19+100)/100*(I19+100)/100*(J19+100)/100 -> 0.05 | N19: =F19*M19 -> 0.05 | O19: 노임 11 | P19: 0.05*1 | Q19: 5A62650CCE8B289D122E61E2794494 | R19: 5AFB05B6048E0999E32C63460248E3A503B7C0 | S19: 0.05 | T19: 5A62650CCE8B289D122E61E27944945D00656FAB8C9DF4FC2862D235421841305852 | X19: =N19 -> 0.05
A20: 5D1135E9478B22982F2D6620244676DBB918CF | B20: 접지용비닐절연전선 | C20: F-GV, 6㎟ | D20: M | E20: 통신 11-5-1 | F20: 6 | G20: 10 | K20: 6 | L20: 통신외선공 | M20: =0.01*(H20+100)/100*(I20+100)/100*(J20+100)/100 -> 0.01 | N20: =F20*M20 -> 0.06 | O20: 노임 11 | P20: 0.01*1 | Q20: 5A62650CCE8B289D122E61E2794494 | R20: 5AFB05B6048E0999E32C63460248E3A503B7C0 | S20: 0.01 | T20: 5A62650CCE8B289D122E61E27944945D1135E9478B22982F2D6620244676DBB918CF | X20: =N20 -> 0.06
A21: 5AFB05B6048E0999E32C63460248E3A503BF1C | B21: 보통인부 | C21: 일반공사 직종 | D21: 인 | F21: =SUM(V15:V20) -> 0.21 | K21: =ROUND(F21*공량설정_일위대가!B14/100, 공량설정_일위대가!C15) -> 0.15 | O21: 노임 1 | Q21: 5A62650CCE8B289D122E61E2794494 | T21: 5A62650CCE8B289D122E61E27944945AFB05B6048E0999E32C63460248E3A503BF1C
A22: 5AFB05B6048E0999E32C63460248E3A503BE72 | B22: 착암공 | C22: 일반공사 직종 | D22: 인 | F22: =SUM(Y15:Y20) -> 0.06 | K22: =ROUND(F22*공량설정_일위대가!B14/100, 공량설정_일위대가!C16) -> 0.04 | O22: 노임 3 | Q22: 5A62650CCE8B289D122E61E2794494 | T22: 5A62650CCE8B289D122E61E27944945AFB05B6048E0999E32C63460248E3A503BE72
A23: 5AFB05B6048E0999E32C63460248E3A503B7C0 | B23: 통신외선공 | C23: 일반공사 직종 | D23: 인 | F23: =SUM(X15:X20) -> 0.31 | K23: =ROUND(F23*공량설정_일위대가!B14/100, 공량설정_일위대가!C17) -> 0.22 | O23: 노임 11 | Q23: 5A62650CCE8B289D122E61E2794494 | T23: 5A62650CCE8B289D122E61E27944945AFB05B6048E0999E32C63460248E3A503B7C0

Sheet 공량설정
A1: 공종명 | B1: 적용율(%) | C1: 소수점이하자릿수 | D1: 공종코드
A2: 010101 1-1.CCTV 설치공사(1차) | B2: 70 | D2: 010101
A3: 보통인부 | C3: 2 | D3: 0101015AFB05B6048E0999E32C63460248E3A503BF1C
A4: 특별인부 | C4: 2 | D4: 0101015AFB05B6048E0999E32C63460248E3A503BF1D
A5: 미장공 | C5: 2 | D5: 0101015AFB05B6048E0999E32C63460248E3A503BD57
A6: 내선전공 | C6: 1 | D6: 0101015AFB05B6048E0999E32C63460248E3A503B8EB
A7: 통신설비공 | C7: 2 | D7: 0101015AFB05B6048E0999E32C63460248E3A503B7CF
A8: 통신외선공 | C8: 2 | D8: 0101015AFB05B6048E0999E32C63460248E3A503B7C0
A9: 통신케이블공 | C9: 2 | D9: 0101015AFB05B6048E0999E32C63460248E3A503B7C1
A10: 광케이블설치사 | C10: 2 | D10: 0101015AFB05B6048E0999E32F6887E3426555F6EB0C
A11: 010201 2-1.폐아스콘(1차) | B11: 100 | D11: 010201
A12: 010301 3-1.CCTV 납품 및 설치(1차) | B12: 100 | D12: 010301

Sheet 공량설정_일위대가
A1: 일위대가 | B1: 적용율(%) | C1: 소수점이하자릿수 | D1: 일위대가 코드
A2: 터파기(기계 9:1) 보통토사. 백호 90%+인력 10% (호표 1) | B2: 70 | D2: 5A28A5270B8E7069F2276D16F94447
A3: 되메우고 다지기(백호우+램머) 토사,T=15cm (호표 2) | B3: 70 | D3: 5A28A521E38C91C9F02A66106242F2
A4: 관로구방수 ø30 (호표 3) | B4: 70 | D4: 5A62650CCE8B28D4C72A6838E9469F
A5: 보통인부 | C5: 2 | D5: 5A62650CCE8B28D4C72A6838E9469F5AFB05B6048E0999E32C63460248E3A503BF1C
A6: 통신외선공 | C6: 2 | D6: 5A62650CCE8B28D4C72A6838E9469F5AFB05B6048E0999E32C63460248E3A503B7C0
A7: 관로구방수 ø50 (호표 4) | B7: 70 | D7: 5A62650CCE8B28D4C72A6838E945F8
A8: 보통인부 | C8: 2 | D8: 5A62650CCE8B28D4C72A6838E945F85AFB05B6048E0999E32C63460248E3A503BF1C
A9: 통신외선공 | C9: 2 | D9: 5A62650CCE8B28D4C72A6838E945F85AFB05B6048E0999E32C63460248E3A503B7C0
A10: 배관용 구멍뚫기(코어드릴)-Con,c 두께30cm이하 Ø50mm (호표 5) | B10: 70 | D10: 5A62650CC28815CD4A2E6FC7894FF6
A11: 착암공 | C11: 2 | D11: 5A62650CC28815CD4A2E6FC7894FF65AFB05B6048E0999E32C63460248E3A503BE72
A12: 보통인부 | C12: 2 | D12: 5A62650CC28815CD4A2E6FC7894FF65AFB05B6048E0999E32C63460248E3A503BF1C
A13: 아스콘포장 파괴 및 복구 W1.0xt=5+10+20=35Cm (호표 6) | B13: 70 | D13: 5A0B75315680E91989276BC8D7496F
A14: CCTV폴대용 기초 400x500x600H (호표 7) | B14: 70 | D14: 5A62650CCE8B289D122E61E2794494
A15: 보통인부 | C15: 2 | D15: 5A62650CCE8B289D122E61E27944945AFB05B6048E0999E32C63460248E3A503BF1C
A16: 착암공 | C16: 2 | D16: 5A62650CCE8B289D122E61E27944945AFB05B6048E0999E32C63460248E3A503BE72
A17: 통신외선공 | C17: 2 | D17: 5A62650CCE8B289D122E61E27944945AFB05B6048E0999E32C63460248E3A503B7C0
A18: 굴삭기(무한궤도) 0.7㎥ (호표 8) | B18: 100 | D18: 5D3C35316C8B6C8617296F5C8D421CC6975D19F1
A19: 건설기계운전사 | C19: 0 | D19: 5D3C35316C8B6C8617296F5C8D421CC6975D19F15AFB05B6048E0999E32C63460248E3A503BBAB
A20: 래머 80kg (호표 9) | B20: 100 | D20: 5D3C35316C8B7D7AA42F6554B54ECABF6771F9D4
A21: 일반기계운전사 | C21: 0 | D21: 5D3C35316C8B7D7AA42F6554B54ECABF6771F9D45AFB05B6048E0999E32C63460248E3A503BA9C
A22: 코아드릴 15.24cm (호표 10) | B22: 100 | D22: 5D3C35316C8B37F0D32F617A6B43579CFA5DC570
A23: 커터(콘크리트 및 아스팔트용) 320∼400mm (호표 11) | B23: 100 | D23: 5D3C35316C8B26B40E206DB12748FA118C1EA99B
A24: 일반기계운전사 | C24: 0 | D24: 5D3C35316C8B26B40E206DB12748FA118C1EA99B5AFB05B6048E0999E32C63460248E3A503BA9C
A25: 대형 브레이커 0.7㎥용 (호표 12) | B25: 100 | D25: 5D3C35316C8B6C86212F659CFC45F82D6D6FF880
A26: 대형 브레이커용 치즐 소모량 0.7㎥용, 구조물 헐기 (호표 13) | B26: 100 | D26: 5D3C35316C8B6C86212E6B24514C61DD8A281ACA
A27: 불도저(무한궤도) 19ton (호표 14) | B27: 100 | D27: 5D3C35316C8B6CB35D266078044E5FDC54D863E3
A28: 건설기계운전사 | C28: 0 | D28: 5D3C35316C8B6CB35D266078044E5FDC54D863E35AFB05B6048E0999E32C63460248E3A503BBAB
A29: 로더(타이어) 0.57㎥ (호표 15) | B29: 100 | D29: 5D3C35316C8B6C908E20632F284738A13511528B
A30: 건설기계운전사 | C30: 0 | D30: 5D3C35316C8B6C908E20632F284738A13511528B5AFB05B6048E0999E32C63460248E3A503BBAB
A31: 진동롤러(핸드가이드식) 0.7ton (호표 16) | B31: 100 | D31: 5D3C35316C8B7D227A2B6859064EF672C2EE7FD4
A32: 일반기계운전사 | C32: 0 | D32: 5D3C35316C8B7D227A2B6859064EF672C2EE7FD45AFB05B6048E0999E32C63460248E3A503BA9C
A33: 플레이트 콤팩터 1.5ton (호표 17) | B33: 100 | D33: 5D3C35316C8B7D681F286BFCAF462F68DB0FF3B9
A34: 일반기계운전사 | C34: 0 | D34: 5D3C35316C8B7D681F286BFCAF462F68DB0FF3B95AFB05B6048E0999E32C63460248E3A503BA9C
A35: 물탱크(살수차) 5500L (호표 18) | B35: 100 | D35: 5D3C35316C8B14BE9E24690D204EB8AC1AE671A9
A36: 화물차운전사 | C36: 0 | D36: 5D3C35316C8B14BE9E24690D204EB8AC1AE671A95AFB05B6048E0999E32C63460248E3A503BBAA
A37: 아스팔트 스프레이어 400L (호표 19) | B37: 100 | D37: 5D3C35316C8B5201252B617AE642AD4AE90E5F8C
A38: 일반기계운전사 | C38: 0 | D38: 5D3C35316C8B5201252B617AE642AD4AE90E5F8C5AFB05B6048E0999E32C63460248E3A503BA9C

Sheet  공사설정 
A1: 이 Sheet는 수정하지 마십시요
A2: 공사구분 | B2: E | C2: 타이틀
A3: 확정내역 | B3: 원내역
A4: 자재단가적용 | B4: 5
A5: 경비단가적용 | B5: 5
A6: 품목코드형식 | B6: XXXX-XXXX-XXXXXXXXX
A7: 내역금액소수점처리 | B7: C | C7: 1
A8: 일위대가내역소수점처리 | B8: C | C8: 2
A9: 단가명 | B9: 조달청가격 | C9: 거래가격 | D9: 유통물가 | E9: 물가정보 | F9: 물가자료 | G9: TTTTT
A10: 환율 | B10: 1088 | C10: 0 | D10: 0
A11: 시간당작업량 | B11: R | C11: 4
A12: 1회 사이클시간 | B12: R | C12: 4
A13: 시간당 작업사이클 | B13: R | C13: 3
A14: 일반변수 | B14: C | C14: 5
A15: 시간당 노임산출 계수 | B15: A | C15: 1/8*16/12*25/20 | D15: 1/8*16/12*25/20 | E15: 1/8*16/12*25/20 | F15: 1
A16: 재료비 할증 계수 | B16: 1.11 | C16: 1.12
A17: 노무비 할증 계수 | B17: 1 | C17: 1.5 | D17: 1.16 | E17: 1.6 | F17: 1.6 | G17: 1.6 | H17: 1.94 | I17: 1.94 | J17: 1.94 | K17: 1 | L17: 1 | M17: 1
A18: 경비 할증 계수 | B18: 1.25 | C18: 1.071
A19: 내역,일위대가 품명,규격,단위 따로적용
A20: 내역단가 소수점처리 | B20: C | C20: 1
A21: 코드 | B21: 공종구분명 | C21: 원가비목코드
A22: 1 | B22: 작 업 부 산 물 | C22: A3
A23: 2 | B23: 운 반 비 | C23: C1
A24: 3 | B24: 관 급 자 재 비 | C24: DJ
A25: 4 | B25: 사 급 자 재 비 | C25: D3
A26: 5 | B26: 외 자 재
A27: 6 | B27: ...
A28: 7 | B28: 폐 기 물 처 리 비 | C28: CD
A29: 8 | B29: ...
A30: 9 | B30: ...
