Workbook

Sheet 내역서
A1: 제2전시관 전시교체 전시조명 구매
A2: 품 명 | B2: 규 격 | C2: 단위 | D2: 수량 | E2: 재 료 비 | G2: 노 무 비 | I2: 경 비 | K2: 합 계 | M2: 비 고 | N2: 품목코드 | O2: 변수 | P2: 설정 | Q2: 공종코드 | R2: 일위 | S2: 단산 | T2: 자재 | U2: 손료적용 | V2: 손료저장 | W2: 적용율 | X2: JUK1 | Y2: JUK2 | Z2: JUK3 | AA2: JUK4 | AB2: JUK5 | AC2: JUK6 | AD2: JUK7 | AE2: JUK8 | AF2: JUK9 | AG2: JUK10 | AH2: JUK11 | AI2: JUK12 | AJ2: JUK13 | AK2: JUK14 | AL2: JUK15 | AM2: JUK16 | AN2: JUK17 | AO2: JUK18 | AP2: JUK19 | AQ2: JUK20 | AR2: 자재구분 | AS2: 공종구분 | AT2: 공종레벨 | AU2: 공종+자재 | AV2: 고유번호
E3: 단 가 | F3: 금 액 | G3: 단 가 | H3: 금 액 | I3: 단 가 | J3: 금 액 | K3: 단 가 | L3: 금 액
A4: 010101 전시조명 | B4: 도급자설치 관급자재 | Q4: 010101
A5: 조명기구 "A1" | B5: LED 19W (White) | C5: EA | D5: 248 | N5: 46079F073CA7A6C781217B8404E1A | Q5: 010101 | R5: T | S5: F | T5: F | AU5: 01010146079F073CA7A6C781217B8404E1A | AV5: 4
A6: 조명기구 "B1" | B6: LED 24W (White) | C6: EA | D6: 74 | N6: 46079F073CA7A6C7814176516AC15 | Q6: 010101 | R6: T | S6: F | T6: F | AU6: 01010146079F073CA7A6C7814176516AC15 | AV6: 5
A7: 조명기구 "C1" | B7: LED 12W (Black) | C7: EA | D7: 42 | N7: 4102982A188B26E8EAB175B3806F0 | Q7: 010101 | R7: T | S7: F | T7: F | AU7: 0101014102982A188B26E8EAB175B3806F0 | AV7: 6
A8: TracK | B8: 3m 기준 (White) | C8: EA | D8: 210 | N8: 4102982A188B26DFF82177EB8A044 | Q8: 010101 | R8: T | S8: F | T8: F | AU8: 0101014102982A188B26DFF82177EB8A044 | AV8: 7
A9: L-connector | B9: 트랙 ㄱ 연결용 (White) | C9: EA | D9: 66 | N9: 46839D8EE91896C33AF1764C27B7DB05F98F6 | Q9: 010101 | R9: F | S9: F | T9: T | AU9: 01010146839D8EE91896C33AF1764C27B7DB05F98F6 | AV9: 8
A10: Coupler | B10: 트랙 연결용(연장) (White) | C10: EA | D10: 91 | N10: 46839D8EE91896C33AF1764C27B7DB05F9B4A | Q10: 010101 | R10: F | S10: F | T10: T | AU10: 01010146839D8EE91896C33AF1764C27B7DB05F9B4A | AV10: 9
A11: Live end(right) | B11: 전원연결 (White) | C11: EA | D11: 71 | N11: 46839D8EE91896C33AF1764C27B7DB05F9AA4 | Q11: 010101 | R11: F | S11: F | T11: T | AU11: 01010146839D8EE91896C33AF1764C27B7DB05F9AA4 | AV11: 10
A12: End plate | B12: 전원마감 (White) | C12: EA | D12: 71 | N12: 46839D8EE91896C33AF1764C27B7DB05F9D78 | Q12: 010101 | R12: F | S12: F | T12: T | AU12: 01010146839D8EE91896C33AF1764C27B7DB05F9D78 | AV12: 11
A27: [ 합 계 ] | F27: =SUM(F5:F26) -> 0 | H27: =SUM(H5:H26) -> 0 | J27: =SUM(J5:J26) -> 0 | L27: =SUM(L5:L26) -> 0 | N27: TOTAL

Sheet 일위대가목록
A1: 일 위 대 가 목 록
A2: [ 독립기념관 제2전시관 리모델링공사-전기 ]
A3: 코 드 | B3: 품 명 | C3: 규 격 | D3: 단위 | E3: 재 료 비 | F3: 노 무 비 | G3: 경 비 | H3: 합 계 | I3: 번 호 | J3: 비 고 | K3: 노임계수 | L3: 할증 | M3: 품셈개요 | N3: 장비일위
A4: 4102982A1F3A5693AAD17C64B3A21 | B4: 모르타르배합 | C4: 배합용적비 1:3 | D4: ㎥ | E4: =일위대가!F9 -> #REF! | F4: =일위대가!H9 -> #REF! | G4: =일위대가!J9 -> #REF! | H4: =E4+F4+G4 -> #REF! | I4: 호표 1 | J4: 건축 15-1-1 | M4: 건축 15-1-1
A5: 4102982A1F3A5693AAD17C64B3BC8 | B5: 모르타르바름 | C5: 인력 | D5: ㎡ | E5: =일위대가!F15 -> #REF! | F5: =일위대가!H15 -> #REF! | G5: =일위대가!J15 -> #REF! | H5: =E5+F5+G5 -> #REF! | I5: 호표 2 | J5: 건축 15-1-2 | M5: 건축 15-1-2
A6: 4102982A188B26E80CC17BAB06350 | B6: 0.6/1kV제어용난연(F-CVV-S) | C6: 2C 1.5㎟ | D6: M | E6: =일위대가!F23 -> #REF! | F6: =일위대가!H23 -> #REF! | G6: =일위대가!J23 -> #REF! | H6: =E6+F6+G6 -> #REF! | I6: 호표 3 | J6: 전기 5-13 | M6: 전기 5-13
A7: 4102982A188B26E8EAB175B3806F0 | B7: 압착단자 | C7: R형동선 나압착 16 ㎟ | D7: 개 | E7: =일위대가!F29 -> #REF! | F7: =일위대가!H29 -> #REF! | G7: =일위대가!J29 -> #REF! | H7: =E7+F7+G7 -> #REF! | I7: 호표 4 | J7: 전기 4-37 | M7: 전기 4-37
A8: 4102982A188B26E8FB117ADB7E985 | B8: 노출 분전반 철거 | D8: 면 | E8: =일위대가!F35 -> #REF! | F8: =일위대가!H35 -> #REF! | G8: =일위대가!J35 -> #REF! | H8: =E8+F8+G8 -> #REF! | I8: 호표 5 | J8: 전기 5-4(30%) | M8: 전기 5-4(30%)
A9: 4102982A188B26E8FB4177E5A6904 | B9: 강제전선관 철거 | C9: 16C | D9: M | E9: =일위대가!F41 -> #REF! | F9: =일위대가!H41 -> #REF! | G9: =일위대가!J41 -> #REF! | H9: =E9+F9+G9 -> #REF! | I9: 호표 6 | J9: 전기 5-1(30%) | M9: 전기 5-1(30%)
A10: 4102982A188B26FABB117D68672AE | B10: 케이블트레이지지대 | C10: W450 | D10: 개소 | E10: =일위대가!F52 -> #REF! | F10: =일위대가!H52 -> #REF! | G10: =일위대가!J52 -> #REF! | H10: =E10+F10+G10 -> #REF! | I10: 호표 7 | J10: 전기 5-29 | M10: 전기 5-29
A11: 4102982A188B26FABB31780853B55 | B11: RACEWAY 지지행거 110 * 50 | C11: A형 | D11: 개소 | E11: =일위대가!F60 -> #REF! | F11: =일위대가!H60 -> #REF! | G11: =일위대가!J60 -> #REF! | H11: =E11+F11+G11 -> #REF! | I11: 호표 8 | J11: 전기 5-29 | M11: 전기 5-29
A12: 4102982A188B26FAAAA17E5D16FD0 | B12: 트레이,덕트지지대-벽체or바닥 | C12: W450 | D12: 개소 | E12: =일위대가!F70 -> #REF! | F12: =일위대가!H70 -> #REF! | G12: =일위대가!J70 -> #REF! | H12: =E12+F12+G12 -> #REF! | I12: 호표 9 | J12: 전기 5-29 | M12: 전기 5-29
A13: 4102982A188B26FAAAA17E7829F17 | B13: 트레이,덕트지지대-벽체or바닥 | C13: W600 | D13: 개소 | E13: =일위대가!F80 -> #REF! | F13: =일위대가!H80 -> #REF! | G13: =일위대가!J80 -> #REF! | H13: =E13+F13+G13 -> #REF! | I13: 호표 10 | J13: 전기 5-29 | M13: 전기 5-29
A14: 4102982A188B26DFF82177EB8A044 | B14: 분전반설치비 | D14: 면 | E14: =일위대가!F86 -> #REF! | F14: =일위대가!H86 -> #REF! | G14: =일위대가!J86 -> #REF! | H14: =E14+F14+G14 -> #REF! | I14: 호표 11 | J14: 전기 5-4 | M14: 전기 5-4
A15: 4102982A188B268780717F2BCC9B2 | B15: 관통구 방화폼 (TRAY) | C15: 400mm | D15: 개소 | E15: =일위대가!F96 -> #REF! | F15: =일위대가!H96 -> #REF! | G15: =일위대가!J96 -> #REF! | H15: =E15+F15+G15 -> #REF! | I15: 호표 12 | J15: A사 | M15: A사
A16: 46079F073E55069286B17DD557DA5 | B16: 합성수지제 가요전선관 | C16: CD 난연성 16㎜ | D16: M | E16: =일위대가!F105 -> #REF! | F16: =일위대가!H105 -> #REF! | G16: =일위대가!J105 -> #REF! | H16: =E16+F16+G16 -> #REF! | I16: 호표 13 | J16: 전기 5-1 | M16: 전기 5-1
A17: 46079F073E55069286B17DD557E4C | B17: 합성수지제 가요전선관 | C17: CD 난연성 22㎜ | D17: M | E17: =일위대가!F114 -> #REF! | F17: =일위대가!H114 -> #REF! | G17: =일위대가!J114 -> #REF! | H17: =E17+F17+G17 -> #REF! | I17: 호표 14 | J17: 전기 5-1 | M17: 전기 5-1
A18: 46079F073E5506FB04F172E72C474 | B18: 강제전선관 | C18: 아연도 16 mm | D18: M | E18: =일위대가!F123 -> #REF! | F18: =일위대가!H123 -> #REF! | G18: =일위대가!J123 -> #REF! | H18: =E18+F18+G18 -> #REF! | I18: 호표 15 | J18: 전기 5-1 | M18: 전기 5-1
A19: 46079F073E5506FB04F172E72C7C8 | B19: 강제전선관 | C19: 아연도 22 mm | D19: M | E19: =일위대가!F132 -> #REF! | F19: =일위대가!H132 -> #REF! | G19: =일위대가!J132 -> #REF! | H19: =E19+F19+G19 -> #REF! | I19: 호표 16 | J19: 전기 5-1 | M19: 전기 5-1
A20: 46079F073E5506FB04F172E72C622 | B20: 강제전선관 | C20: 아연도 28 mm | D20: M | E20: =일위대가!F141 -> #REF! | F20: =일위대가!H141 -> #REF! | G20: =일위대가!J141 -> #REF! | H20: =E20+F20+G20 -> #REF! | I20: 호표 17 | J20: 전기 5-1 | M20: 전기 5-1
A21: 46079F073E5506FB04F172E72C1A0 | B21: 강제전선관 | C21: 아연도 36 mm | D21: M | E21: =일위대가!F150 -> #REF! | F21: =일위대가!H150 -> #REF! | G21: =일위대가!J150 -> #REF! | H21: =E21+F21+G21 -> #REF! | I21: 호표 18 | J21: 전기 5-1 | M21: 전기 5-1
A22: 46079F073E5506FB04C175A94CD92 | B22: 강제전선관(노출) | C22: 아연도 16 mm | D22: M | E22: =일위대가!F159 -> #REF! | F22: =일위대가!H159 -> #REF! | G22: =일위대가!J159 -> #REF! | H22: =E22+F22+G22 -> #REF! | I22: 호표 19 | J22: 전기 5-1 | M22: 전기 5-1
A23: 46079F073E5506FB04C175A94CEB9 | B23: 강제전선관(노출) | C23: 아연도 22 mm | D23: M | E23: =일위대가!F168 -> #REF! | F23: =일위대가!H168 -> #REF! | G23: =일위대가!J168 -> #REF! | H23: =E23+F23+G23 -> #REF! | I23: 호표 20 | J23: 전기 5-1 | M23: 전기 5-1
A24: 46079F073E5506FB04C175A94CF5F | B24: 강제전선관(노출) | C24: 아연도 28 mm | D24: M | E24: =일위대가!F177 -> #REF! | F24: =일위대가!H177 -> #REF! | G24: =일위대가!J177 -> #REF! | H24: =E24+F24+G24 -> #REF! | I24: 호표 21 | J24: 전기 5-1 | M24: 전기 5-1
A25: 46079F073E5506FB04C175A94C810 | B25: 강제전선관(노출) | C25: 아연도 36 mm | D25: M | E25: =일위대가!F186 -> #REF! | F25: =일위대가!H186 -> #REF! | G25: =일위대가!J186 -> #REF! | H25: =E25+F25+G25 -> #REF! | I25: 호표 22 | J25: 전기 5-1 | M25: 전기 5-1
A26: 46079F073E5506EAA6117F4B90321 | B26: 1종금속제가요전선관 | C26: 22 mm 비방수 | D26: M | E26: =일위대가!F194 -> #REF! | F26: =일위대가!H194 -> #REF! | G26: =일위대가!J194 -> #REF! | H26: =E26+F26+G26 -> #REF! | I26: 호표 23 | J26: 전기 5-1 | M26: 전기 5-1
A27: 46079F073E5506EAA6117F4B9021A | B27: 1종금속제가요전선관 | C27: 28 mm 비방수 | D27: M | E27: =일위대가!F202 -> #REF! | F27: =일위대가!H202 -> #REF! | G27: =일위대가!J202 -> #REF! | H27: =E27+F27+G27 -> #REF! | I27: 호표 24 | J27: 전기 5-1 | M27: 전기 5-1
A28: 46079F073E5506EAA6117F4B905EE | B28: 1종금속제가요전선관 | C28: 36 mm 비방수 | D28: M | E28: =일위대가!F210 -> #REF! | F28: =일위대가!H210 -> #REF! | G28: =일위대가!J210 -> #REF! | H28: =E28+F28+G28 -> #REF! | I28: 호표 25 | J28: 전기 5-1 | M28: 전기 5-1
A29: 46079F073E5506EAA67171D7CC010 | B29: 1종금속제가요전선관 | C29: 비닐피복, 36 mm 방수 | D29: M | E29: =일위대가!F218 -> #REF! | F29: =일위대가!H218 -> #REF! | G29: =일위대가!J218 -> #REF! | H29: =E29+F29+G29 -> #REF! | I29: 호표 26 | J29: 전기 5-1 | M29: 전기 5-1
A30: 46079F073E550639F3F17A5E98507 | B30: 전선관지지행거 | C30: 16 C | D30: 개소 | E30: =일위대가!F228 -> #REF! | F30: =일위대가!H228 -> #REF! | G30: =일위대가!J228 -> #REF! | H30: =E30+F30+G30 -> #REF! | I30: 호표 27 | J30: 전기 5-29 | M30: 전기 5-29
A31: 46079F073E550639F3F17A5E9862D | B31: 전선관지지행거 | C31: 22 C | D31: 개소 | E31: =일위대가!F238 -> #REF! | F31: =일위대가!H238 -> #REF! | G31: =일위대가!J238 -> #REF! | H31: =E31+F31+G31 -> #REF! | I31: 호표 28 | J31: 전기 5-29 | M31: 전기 5-29
A32: 46079F073E550639F3F17A5E98734 | B32: 전선관지지행거 | C32: 28 C | D32: 개소 | E32: =일위대가!F248 -> #REF! | F32: =일위대가!H248 -> #REF! | G32: =일위대가!J248 -> #REF! | H32: =E32+F32+G32 -> #REF! | I32: 호표 29 | J32: 전기 5-29 | M32: 전기 5-29
A33: 46079F073E550639F3F17A5E98085 | B33: 전선관지지행거 | C33: 36 C | D33: 개소 | E33: =일위대가!F258 -> #REF! | F33: =일위대가!H258 -> #REF! | G33: =일위대가!J258 -> #REF! | H33: =E33+F33+G33 -> #REF! | I33: 호표 30 | J33: 전기 5-29 | M33: 전기 5-29
A34: 46079F073D4E16BCA18170A4C6407 | B34: 저독성폴리올레핀절연전선(HFIX) 바닥 | C34: 4㎟(2.25㎜) | D34: M | E34: =일위대가!F266 -> #REF! | F34: =일위대가!H266 -> #REF! | G34: =일위대가!J266 -> #REF! | H34: =E34+F34+G34 -> #REF! | I34: 호표 31 | J34: 전기 5-10 | M34: 전기 5-10
A35: 46079F073D4E16BCA18170A4C67D8 | B35: 저독성폴리올레핀절연전선(HFIX) | C35: 4㎟(2.25㎜) | D35: M | E35: =일위대가!F274 -> #REF! | F35: =일위대가!H274 -> #REF! | G35: =일위대가!J274 -> #REF! | H35: =E35+F35+G35 -> #REF! | I35: 호표 32 | J35: 전기 5-10 | M35: 전기 5-10
A36: 46079F073D4E1691EAD17E0019949 | B36: 난연성 비닐절연 접지용전선 | C36: 0.6/1kV F-GV 4㎟ | D36: M | E36: =일위대가!F282 -> #REF! | F36: =일위대가!H282 -> #REF! | G36: =일위대가!J282 -> #REF! | H36: =E36+F36+G36 -> #REF! | I36: 호표 33 | J36: 전기 3-38 | M36: 전기 3-38
A37: 46079F073D4E1691EAD17E00198A2 | B37: 난연성 비닐절연 접지용전선 | C37: 0.6/1kV F-GV 6㎟ | D37: M | E37: =일위대가!F290 -> #REF! | F37: =일위대가!H290 -> #REF! | G37: =일위대가!J290 -> #REF! | H37: =E37+F37+G37 -> #REF! | I37: 호표 34 | J37: 전기 3-38 | M37: 전기 3-38
A38: 46079F073D4E1691EAD17E0019320 | B38: 난연성 비닐절연 접지용전선 | C38: 0.6/1kV F-GV 50㎟ | D38: M | E38: =일위대가!F298 -> #REF! | F38: =일위대가!H298 -> #REF! | G38: =일위대가!J298 -> #REF! | H38: =E38+F38+G38 -> #REF! | I38: 호표 35 | J38: 전기 3-38 | M38: 전기 3-38
A39: 46079F073CA7A6C781217B8404E1A | B39: 0.6/1kV가교폴리에틸렌(F-CV) 옥내 | C39: 2C 4㎟ | D39: M | E39: =일위대가!F306 -> #REF! | F39: =일위대가!H306 -> #REF! | G39: =일위대가!J306 -> #REF! | H39: =E39+F39+G39 -> #REF! | I39: 호표 36 | J39: 전기 5-13 | M39: 전기 5-13
A40: 46079F073CA7A6C7814176516AEC2 | B40: 0.6/1kV가교폴리에틸렌(F-CV) 옥내 | C40: 4C 6㎟ | D40: M | E40: =일위대가!F314 -> #REF! | F40: =일위대가!H314 -> #REF! | G40: =일위대가!J314 -> #REF! | H40: =E40+F40+G40 -> #REF! | I40: 호표 37 | J40: 전기 5-13 | M40: 전기 5-13
A41: 46079F073CA7A6C7814176516AC15 | B41: 0.6/1kV가교폴리에틸렌(F-CV) 옥내 | C41: 4C 16㎟ | D41: M | E41: =일위대가!F322 -> #REF! | F41: =일위대가!H322 -> #REF! | G41: =일위대가!J322 -> #REF! | H41: =E41+F41+G41 -> #REF! | I41: 호표 38 | J41: 전기 5-11 | M41: 전기 5-11
A42: 46079F073B81A6C551917100617E5 | B42: 덕트형 케이블트레이 | C42: DUCT, W 450 | D42: M | E42: =일위대가!F329 -> #REF! | F42: =일위대가!H329 -> #REF! | G42: =일위대가!J329 -> #REF! | H42: =E42+F42+G42 -> #REF! | I42: 호표 39 | J42: 전기 5-7 | M42: 전기 5-7
A43: 46079F073B81A6C551917100616DE | B43: 덕트형 케이블트레이 | C43: DUCT, W 600 | D43: M | E43: =일위대가!F336 -> #REF! | F43: =일위대가!H336 -> #REF! | G43: =일위대가!J336 -> #REF! | H43: =E43+F43+G43 -> #REF! | I43: 호표 40 | J43: 전기 5-7 | M43: 전기 5-7
A44: 46079F073B81A6C55191710073E8F | B44: 덕트형 케이블트레이부속품 | C44: HOR. ELBOW, W 450 | D44: M | E44: =일위대가!F342 -> #REF! | F44: =일위대가!H342 -> #REF! | G44: =일위대가!J342 -> #REF! | H44: =E44+F44+G44 -> #REF! | I44: 호표 41 | J44: 전기 5-7 | M44: 전기 5-7
A45: 46079F073B81A6C5519171004675C | B45: 덕트형 케이블트레이부속품 | C45: VER. ELBOW, W 450 | D45: M | E45: =일위대가!F348 -> #REF! | F45: =일위대가!H348 -> #REF! | G45: =일위대가!J348 -> #REF! | H45: =E45+F45+G45 -> #REF! | I45: 호표 42 | J45: 전기 5-7 | M45: 전기 5-7
A46: 46079F073B81A6C55191710046E8B | B46: 덕트형 케이블트레이부속품 | C46: HOR. TEE, W 450 | D46: M | E46: =일위대가!F354 -> #REF! | F46: =일위대가!H354 -> #REF! | G46: =일위대가!J354 -> #REF! | H46: =E46+F46+G46 -> #REF! | I46: 호표 43 | J46: 전기 5-7 | M46: 전기 5-7
A47: 46079F07361F46AB5F517D916315F | B47: 아우트렛박스 | C47: 중형4각 54㎜ | D47: 개 | E47: =일위대가!F360 -> #REF! | F47: =일위대가!H360 -> #REF! | G47: =일위대가!J360 -> #REF! | H47: =E47+F47+G47 -> #REF! | I47: 호표 44 | J47: 전기 5-3 | M47: 전기 5-3
A48: 46079F07361F46AB5F517D916315A | B48: 아우트렛박스(노출) | C48: 8각 54㎜ | D48: 개 | E48: =일위대가!F366 -> #REF! | F48: =일위대가!H366 -> #REF! | G48: =일위대가!J366 -> #REF! | H48: =E48+F48+G48 -> #REF! | I48: 호표 45 | J48: 전기 5-3 | M48: 전기 5-3
A49: 46079F07361F46AB5F517D9163E17 | B49: 아우트렛박스(노출) | C49: 중형4각 54㎜ | D49: 개 | E49: =일위대가!F372 -> #REF! | F49: =일위대가!H372 -> #REF! | G49: =일위대가!J372 -> #REF! | H49: =E49+F49+G49 -> #REF! | I49: 호표 46 | J49: 전기 5-3 | M49: 전기 5-3
A50: 46079F07361F46AB5F517D917DF37 | B50: 스위치박스(노출) | C50: 1 개용 54 mm | D50: 개 | E50: =일위대가!F378 -> #REF! | F50: =일위대가!H378 -> #REF! | G50: =일위대가!J378 -> #REF! | H50: =E50+F50+G50 -> #REF! | I50: 호표 47 | J50: 전기 5-3 | M50: 전기 5-3
A51: 46079F07361F46AB5F517D917DF32 | B51: 스위치박스(노출) | C51: 2 개용 54 mm | D51: 개 | E51: =일위대가!F384 -> #REF! | F51: =일위대가!H384 -> #REF! | G51: =일위대가!J384 -> #REF! | H51: =E51+F51+G51 -> #REF! | I51: 호표 48 | J51: 전기 5-3 | M51: 전기 5-3
A52: 46079F07361F46AB5F41732EDDE1E | B52: 풀박스 | C52: 150x150x100 | D52: 개 | E52: =일위대가!F390 -> #REF! | F52: =일위대가!H390 -> #REF! | G52: =일위대가!J390 -> #REF! | H52: =E52+F52+G52 -> #REF! | I52: 호표 49 | J52: 전기 5-4 | M52: 전기 5-4
A53: 46079F07361F46AB5F41732EDDD78 | B53: 풀박스 | C53: 200x200x150 | D53: 개 | E53: =일위대가!F396 -> #REF! | F53: =일위대가!H396 -> #REF! | G53: =일위대가!J396 -> #REF! | H53: =E53+F53+G53 -> #REF! | I53: 호표 50 | J53: 전기 5-4 | M53: 전기 5-4
A54: 46079F07361F46AB5F41732EC37D5 | B54: 풀박스 | C54: 300x300x150 | D54: 개 | E54: =일위대가!F402 -> #REF! | F54: =일위대가!H402 -> #REF! | G54: =일위대가!J402 -> #REF! | H54: =E54+F54+G54 -> #REF! | I54: 호표 51 | J54: 전기 5-4 | M54: 전기 5-4
A55: 46079F07361F46AB5F41732EC337A | B55: 풀박스 | C55: 400x400x200 | D55: 개 | E55: =일위대가!F408 -> #REF! | F55: =일위대가!H408 -> #REF! | G55: =일위대가!J408 -> #REF! | H55: =E55+F55+G55 -> #REF! | I55: 호표 52 | J55: 전기 5-4 | M55: 전기 5-4
A56: 46079F07361F46AB5F41732EC3D7E | B56: 풀박스 | C56: 500x500x200 | D56: 개 | E56: =일위대가!F414 -> #REF! | F56: =일위대가!H414 -> #REF! | G56: =일위대가!J414 -> #REF! | H56: =E56+F56+G56 -> #REF! | I56: 호표 53 | J56: 전기 5-4 | M56: 전기 5-4
A57: 46079F07361F4688880170A508303 | B57: 단로 스위치 | C57: 1구 | D57: 개 | E57: =일위대가!F420 -> #REF! | F57: =일위대가!H420 -> #REF! | G57: =일위대가!J420 -> #REF! | H57: =E57+F57+G57 -> #REF! | I57: 호표 54 | J57: 전기 5-23(2) | M57: 전기 5-23(2)
A58: 46079F07361F4688880170A50804F | B58: 단로 스위치 | C58: 2구 | D58: 개 | E58: =일위대가!F426 -> #REF! | F58: =일위대가!H426 -> #REF! | G58: =일위대가!J426 -> #REF! | H58: =E58+F58+G58 -> #REF! | I58: 호표 55 | J58: 전기 5-23(2) | M58: 전기 5-23(2)
A59: 46079F07361F4688880170A508531 | B59: 3로 스위치 | C59: 1구 | D59: 개 | E59: =일위대가!F432 -> #REF! | F59: =일위대가!H432 -> #REF! | G59: =일위대가!J432 -> #REF! | H59: =E59+F59+G59 -> #REF! | I59: 호표 56 | J59: 전기 5-23(2) | M59: 전기 5-23(2)
A60: 46079F07361F4688880170A5A81CF | B60: 재실감지센서 | D60: 개 | E60: =일위대가!F438 -> #REF! | F60: =일위대가!H438 -> #REF! | G60: =일위대가!J438 -> #REF! | H60: =E60+F60+G60 -> #REF! | I60: 호표 57 | J60: 전기 5-23(2) | M60: 전기 5-23(2)
A61: 46079F07361F4688880170A5A83FD | B61: 장애인화장실용 자동문 스위치 | D61: 개 | E61: =일위대가!F444 -> #REF! | F61: =일위대가!H444 -> #REF! | G61: =일위대가!J444 -> #REF! | H61: =E61+F61+G61 -> #REF! | I61: 호표 58 | J61: 전기 5-23(2) | M61: 전기 5-23(2)
A62: 46079F07361F4688880170A5A82D6 | B62: 장애인화장실용 자동문 스위치 - 철거 | D62: 개 | E62: =일위대가!F450 -> #REF! | F62: =일위대가!H450 -> #REF! | G62: =일위대가!J450 -> #REF! | H62: =E62+F62+G62 -> #REF! | I62: 호표 59 | J62: 전기 5-23(2)(30%) | M62: 전기 5-23(2)(30%)
A63: 46079F07361F4688880170B7A6252 | B63: 콘센트 | C63: 매입-접지형, 16A 250V 2구 | D63: 개 | E63: =일위대가!F456 -> #REF! | F63: =일위대가!H456 -> #REF! | G63: =일위대가!J456 -> #REF! | H63: =E63+F63+G63 -> #REF! | I63: 호표 60 | J63: 전기 5-23(1) | M63: 전기 5-23(1)
A64: 46079F07361F4688880170B7A6400 | B64: 방적콘센트 | C64: 매입-접지형, 16A 250V 1구 | D64: 개 | E64: =일위대가!F462 -> #REF! | F64: =일위대가!H462 -> #REF! | G64: =일위대가!J462 -> #REF! | H64: =E64+F64+G64 -> #REF! | I64: 호표 61 | J64: 전기 5-23(1) | M64: 전기 5-23(1)
A65: 46079F07361F4688880170B78B2CC | B65: 콘센트 | C65: 노출-접지형, 16A 250V 2구 | D65: 개 | E65: =일위대가!F468 -> #REF! | F65: =일위대가!H468 -> #REF! | G65: =일위대가!J468 -> #REF! | H65: =E65+F65+G65 -> #REF! | I65: 호표 62 | J65: 전기 5-23(1) | M65: 전기 5-23(1)
A66: 46079F07361F4688885178C6CF9E7 | B66: 칼브럭 | C66: 쐐기 9￠ 이하 | D66: 개소 | E66: =일위대가!F474 -> #REF! | F66: =일위대가!H474 -> #REF! | G66: =일위대가!J474 -> #REF! | H66: =E66+F66+G66 -> #REF! | I66: 호표 63 | J66: 전기 5-29 | M66: 전기 5-29
A67: 46079F07361F4688885178C6CFB94 | B67: 배관용홈파기 | C67: 22C 이하 | D67: M | E67: =일위대가!F482 -> #REF! | F67: =일위대가!H482 -> #REF! | G67: =일위대가!J482 -> #REF! | H67: =E67+F67+G67 -> #REF! | I67: 호표 64 | J67: 전기 5-29 | M67: 전기 5-29
A68: 46079F07361F4688885178C6F4D26 | B68: 박스용 구멍따기 | C68: 각종두께 | D68: 개 | E68: =일위대가!F488 -> #REF! | F68: =일위대가!H488 -> #REF! | G68: =일위대가!J488 -> #REF! | H68: =E68+F68+G68 -> #REF! | I68: 호표 65 | J68: 전기 5-29 | M68: 전기 5-29
A69: 46079F07361F4688885178D701700 | B69: 코아드릴 | C69: 15.24cm | D69: HR | E69: =일위대가!F492 -> #REF! | F69: =일위대가!H492 -> #REF! | G69: =일위대가!J492 -> #REF! | H69: =E69+F69+G69 -> #REF! | I69: 호표 66 | J69: 토목 9-2(5901) | M69: 토목 9-2(5901)
A70: 46079F07361F468888517899BEF4C | B70: 배관용 구멍뚫기(코어드릴)-Con,c | C70: 두께15cm이하 Ø25mm, 벽 | D70: 개소 | E70: =일위대가!F500 -> #REF! | F70: =일위대가!H500 -> #REF! | G70: =일위대가!J500 -> #REF! | H70: =E70+F70+G70 -> #REF! | I70: 호표 67 | J70: 전기 5-29-1,나 | M70: 전기 5-29-1,나
A71: 46079F07361F468888517899CFF9B | B71: 배관용 구멍뚫기(코어드릴)-Con,c | C71: 두께30cm이하 Ø400mm, 벽 | D71: 개소 | E71: =일위대가!F508 -> #REF! | F71: =일위대가!H508 -> #REF! | G71: =일위대가!J508 -> #REF! | H71: =E71+F71+G71 -> #REF! | I71: 호표 68 | J71: 전기 5-29-1,나 | M71: 전기 5-29-1,나
A72: 46079F057543F6659E117391AD451 | B72: 레이스웨이 | C72: BODY, 110 x 50 | D72: M | E72: =일위대가!F515 -> #REF! | F72: =일위대가!H515 -> #REF! | G72: =일위대가!J515 -> #REF! | H72: =E72+F72+G72 -> #REF! | I72: 호표 69 | J72: 전기 5-9 | M72: 전기 5-9
A73: 460791E38B8016C2F9817AA66E1BF | B73: 레이스웨이 부속품 | C73: JOINT BOX, W110 x H50 | D73: 개 | E73: =일위대가!F521 -> #REF! | F73: =일위대가!H521 -> #REF! | G73: =일위대가!J521 -> #REF! | H73: =E73+F73+G73 -> #REF! | I73: 호표 70 | J73: 전기 5-3 | M73: 전기 5-3
A74: 460791E38B8016C2F9817AA66E094 | B74: 레이스웨이 부속품 | C74: JOINT BOX,2방, W110 x H50 | D74: 개 | E74: =일위대가!F527 -> #REF! | F74: =일위대가!H527 -> #REF! | G74: =일위대가!J527 -> #REF! | H74: =E74+F74+G74 -> #REF! | I74: 호표 71 | J74: 전기 5-3 | M74: 전기 5-3
A75: 460791E38DB4F62BD94170764ABCC | B75: 시스템 박스 | C75: 전선관용(매입) | D75: 개 | E75: =일위대가!F533 -> #REF! | F75: =일위대가!H533 -> #REF! | G75: =일위대가!J533 -> #REF! | H75: =E75+F75+G75 -> #REF! | I75: 호표 72 | J75: 전기 5-5 | M75: 전기 5-5
A76: 471B9D239F06D646FD11788EAD521 | B76: 조명기구 "A1" | C76: LED 19W | D76: 조 | E76: =일위대가!F539 -> #REF! | F76: =일위대가!H539 -> #REF! | G76: =일위대가!J539 -> #REF! | H76: =E76+F76+G76 -> #REF! | I76: 호표 73
A77: 471B9D239F06D646FD11788EAD6C8 | B77: 조명기구 "B1" | C77: LED 24W | D77: 조 | E77: =일위대가!F545 -> #REF! | F77: =일위대가!H545 -> #REF! | G77: =일위대가!J545 -> #REF! | H77: =E77+F77+G77 -> #REF! | I77: 호표 74
A78: 471B9D239F06D646FD11788EAD7EF | B78: 조명기구 "C1" | C78: LED 12W | D78: 조 | E78: =일위대가!F551 -> #REF! | F78: =일위대가!H551 -> #REF! | G78: =일위대가!J551 -> #REF! | H78: =E78+F78+G78 -> #REF! | I78: 호표 75
A79: 471B9D239F06D646FD11788EAD0BF | B79: 조명기구 "A" | C79: LED 19W | D79: 조 | E79: =일위대가!F557 -> #REF! | F79: =일위대가!H557 -> #REF! | G79: =일위대가!J557 -> #REF! | H79: =E79+F79+G79 -> #REF! | I79: 호표 76
A80: 471B9D239F06D646FD11788EAD146 | B80: 조명기구 "B" | C80: LED 40W | D80: 조 | E80: =일위대가!F563 -> #REF! | F80: =일위대가!H563 -> #REF! | G80: =일위대가!J563 -> #REF! | H80: =E80+F80+G80 -> #REF! | I80: 호표 77
A81: 471B9D239F06D646FD11788EAD26D | B81: 조명기구 "C" | C81: LED 10W | D81: 조 | E81: =일위대가!F569 -> #REF! | F81: =일위대가!H569 -> #REF! | G81: =일위대가!J569 -> #REF! | H81: =E81+F81+G81 -> #REF! | I81: 호표 78
A82: 471B9D239F06D646FD11788EAD374 | B82: 조명기구 "D" | C82: LED 19W | D82: 조 | E82: =일위대가!F575 -> #REF! | F82: =일위대가!H575 -> #REF! | G82: =일위대가!J575 -> #REF! | H82: =E82+F82+G82 -> #REF! | I82: 호표 79
A83: 471B9D239F06D646FD11788EADC50 | B83: 조명기구 "E" | C83: LED 12.8W | D83: 조 | E83: =일위대가!F581 -> #REF! | F83: =일위대가!H581 -> #REF! | G83: =일위대가!J581 -> #REF! | H83: =E83+F83+G83 -> #REF! | I83: 호표 80
A84: 471B9D239F06D646FD11788EADD77 | B84: 조명기구 "F" | C84: LED 40W | D84: 조 | E84: =일위대가!F587 -> #REF! | F84: =일위대가!H587 -> #REF! | G84: =일위대가!J587 -> #REF! | H84: =E84+F84+G84 -> #REF! | I84: 호표 81
A85: 471B9D239F06D646FD11788EBFA1D | B85: 조명기구 "G" | C85: LED 19W | D85: 조 | E85: =일위대가!F593 -> #REF! | F85: =일위대가!H593 -> #REF! | G85: =일위대가!J593 -> #REF! | H85: =E85+F85+G85 -> #REF! | I85: 호표 82
A86: 471B9D239F06D646FD11788EBFB24 | B86: 조명기구 "H" | C86: LED 20W | D86: 조 | E86: =일위대가!F599 -> #REF! | F86: =일위대가!H599 -> #REF! | G86: =일위대가!J599 -> #REF! | H86: =E86+F86+G86 -> #REF! | I86: 호표 83
A87: 471B9D239F06D646FD11788EBF850 | B87: 조명기구 "I" | C87: LED 18W | D87: 조 | E87: =일위대가!F605 -> #REF! | F87: =일위대가!H605 -> #REF! | G87: =일위대가!J605 -> #REF! | H87: =E87+F87+G87 -> #REF! | I87: 호표 84
A88: 471B9D239F06D646FD11788EBF976 | B88: 조명기구 "a" | C88: LED 7.5W | D88: 조 | E88: =일위대가!F611 -> #REF! | F88: =일위대가!H611 -> #REF! | G88: =일위대가!J611 -> #REF! | H88: =E88+F88+G88 -> #REF! | I88: 호표 85
A89: 471B9D239F06D646FD11788EBFEF8 | B89: 조명기구 "b" | C89: LED 7.5W | D89: 조 | E89: =일위대가!F617 -> #REF! | F89: =일위대가!H617 -> #REF! | G89: =일위대가!J617 -> #REF! | H89: =E89+F89+G89 -> #REF! | I89: 호표 86
A90: 471B9D239F06D646FD11788EBFF9F | B90: 조명기구 "c" | C90: LED 7.5W | D90: 조 | E90: =일위대가!F623 -> #REF! | F90: =일위대가!H623 -> #REF! | G90: =일위대가!J623 -> #REF! | H90: =E90+F90+G90 -> #REF! | I90: 호표 87
A91: 471B9D239F06D646FD11788EBFCCB | B91: 조명기구 "연출조명"[설치비만] | D91: 조 | E91: =일위대가!F628 -> #REF! | F91: =일위대가!H628 -> #REF! | G91: =일위대가!J628 -> #REF! | H91: =E91+F91+G91 -> #REF! | I91: 호표 88
A92: 471B9C1DB4A0F69A41817054792B2 | B92: TRACK(3M) | D92: EA | E92: =일위대가!F634 -> #REF! | F92: =일위대가!H634 -> #REF! | G92: =일위대가!J634 -> #REF! | H92: =E92+F92+G92 -> #REF! | I92: 호표 89

Sheet 일위대가
A1: [ 독립기념관 제2전시관 리모델링공사-전기 ]
A2: 품 명 | B2: 규 격 | C2: 단위 | D2: 수량 | E2: 재 료 비 | G2: 노 무 비 | I2: 경 비 | K2: 합 계 | M2: 비 고 | N2: 일위대가 | O2: 품목코드 | P2: 일위 | Q2: 단산 | R2: 자재 | S2: 손료적용 | T2: 손료저장 | U2: 적용율 | V2: JUK1 | W2: JUK2 | X2: JUK3 | Y2: JUK4 | Z2: JUK5 | AA2: JUK6 | AB2: JUK7 | AC2: JUK8 | AD2: JUK9 | AE2: JUK10 | AF2: JUK11 | AG2: JUK12 | AH2: JUK13 | AI2: JUK14 | AJ2: JUK15 | AK2: JUK16 | AL2: JUK17 | AM2: JUK18 | AN2: JUK19 | AO2: JUK20 | AP2: 할증적용 | AQ2: 할증저장 | AR2: 할증율 | AS2: HAL1 | AT2: HAL2 | AU2: HAL3 | AV2: 자재구분 | AW2: 일위대가+자재 | AX2: 장비일위 | AY2: 설정
E3: 단 가 | F3: 금 액 | G3: 단 가 | H3: 금 액 | I3: 단 가 | J3: 금 액 | K3: 단 가 | L3: 금 액
A4: 모르타르배합 배합용적비 1:3 ㎥ 건축 15-1-1 ( 호표 1 ) | N4: 4102982A1F3A5693AAD17C64B3A21
A5: 시멘트 | B5: 보통 | C5: KG | D5: 510 | E5: =#REF! -> #REF! | F5: =TRUNC(E5*D5,1) -> #REF! | G5: =#REF! -> #REF! | H5: =TRUNC(G5*D5,1) -> #REF! | I5: =#REF! -> #REF! | J5: =TRUNC(I5*D5,1) -> #REF! | K5: =TRUNC(E5+G5+I5,1) -> #REF! | L5: =TRUNC(F5+H5+J5,1) -> #REF! | N5: 4102982A1F3A5693AAD17C64B3A21 | O5: 416B97B62C2C66EA0D717F77921B8B5863EED | P5: F | Q5: F | R5: T | AW5: 4102982A1F3A5693AAD17C64B3A21416B97B62C2C66EA0D717F77921B8B5863EED
A6: 모래 | B6: 도착도 | C6: ㎥ | D6: 1.1 | E6: =#REF! -> #REF! | F6: =TRUNC(E6*D6,1) -> #REF! | G6: =#REF! -> #REF! | H6: =TRUNC(G6*D6,1) -> #REF! | I6: =#REF! -> #REF! | J6: =TRUNC(I6*D6,1) -> #REF! | K6: =TRUNC(E6+G6+I6,1) -> #REF! | L6: =TRUNC(F6+H6+J6,1) -> #REF! | N6: 4102982A1F3A5693AAD17C64B3A21 | O6: 414898948BA6C6900A817A0C092ECB837D857 | P6: F | Q6: F | R6: T | AW6: 4102982A1F3A5693AAD17C64B3A21414898948BA6C6900A817A0C092ECB837D857
A7: 보통인부 | B7: 일반공사직종 | C7: 인 | D7: 0.66 | E7: =#REF! -> #REF! | F7: =TRUNC(E7*D7,1) -> #REF! | G7: =#REF! -> #REF! | H7: =TRUNC(G7*D7,1) -> #REF! | I7: =#REF! -> #REF! | J7: =TRUNC(I7*D7,1) -> #REF! | K7: =TRUNC(E7+G7+I7,1) -> #REF! | L7: =TRUNC(F7+H7+J7,1) -> #REF! | N7: 4102982A1F3A5693AAD17C64B3A21 | O7: 4696974B7519B68A6C3172FB3FB8C3471DAED | P7: F | Q7: F | R7: T | V7: 1 | AW7: 4102982A1F3A5693AAD17C64B3A214696974B7519B68A6C3172FB3FB8C3471DAED
A8: 공구손료 | B8: 인력품의 3% | C8: 식 | D8: 1 | E8: =TRUNC(SUMIF(V5:V8, RIGHTB(O8, 1), H5:H8)*U8, 2) -> #REF! | F8: =TRUNC(E8*D8,1) -> #REF! | G8: 0 | H8: =TRUNC(G8*D8,1) -> 0 | I8: 0 | J8: =TRUNC(I8*D8,1) -> 0 | K8: =TRUNC(E8+G8+I8,1) -> #REF! | L8: =TRUNC(F8+H8+J8,1) -> #REF! | N8: 4102982A1F3A5693AAD17C64B3A21 | O8: 475798BFC05A861703917762F51001 | P8: F | Q8: F | R8: F | S8: 1 | T8: 0 | U8: 0.03 | AW8: 4102982A1F3A5693AAD17C64B3A21475798BFC05A861703917762F51001
A9: [ 합 계 ] | F9: =TRUNC(SUMIF(N5:N8, N4, F5:F8),0) -> #REF! | H9: =TRUNC(SUMIF(N5:N8, N4, H5:H8),0) -> #REF! | J9: =TRUNC(SUMIF(N5:N8, N4, J5:J8),0) -> #REF! | L9: =F9+H9+J9 -> #REF! | N9: TOTAL | O9: TOTAL
A11: 모르타르바름 인력 ㎡ 건축 15-1-2 ( 호표 2 ) | N11: 4102982A1F3A5693AAD17C64B3BC8
A12: 보통인부 | B12: 일반공사직종 | C12: 인 | D12: 0.053 | E12: =#REF! -> #REF! | F12: =TRUNC(E12*D12,1) -> #REF! | G12: =#REF! -> #REF! | H12: =TRUNC(G12*D12,1) -> #REF! | I12: =#REF! -> #REF! | J12: =TRUNC(I12*D12,1) -> #REF! | K12: =TRUNC(E12+G12+I12,1) -> #REF! | L12: =TRUNC(F12+H12+J12,1) -> #REF! | N12: 4102982A1F3A5693AAD17C64B3BC8 | O12: 4696974B7519B68A6C3172FB3FB8C3471DAED | P12: F | Q12: F | R12: T | V12: 1 | AW12: 4102982A1F3A5693AAD17C64B3BC84696974B7519B68A6C3172FB3FB8C3471DAED
A13: 미장공 | B13: 일반공사직종 | C13: 인 | D13: 0.131 | E13: =#REF! -> #REF! | F13: =TRUNC(E13*D13,1) -> #REF! | G13: =#REF! -> #REF! | H13: =TRUNC(G13*D13,1) -> #REF! | I13: =#REF! -> #REF! | J13: =TRUNC(I13*D13,1) -> #REF! | K13: =TRUNC(E13+G13+I13,1) -> #REF! | L13: =TRUNC(F13+H13+J13,1) -> #REF! | N13: 4102982A1F3A5693AAD17C64B3BC8 | O13: 4696974B7519B68A6C3172FB3FB8C3471D825 | P13: F | Q13: F | R13: T | V13: 1 | AW13: 4102982A1F3A5693AAD17C64B3BC84696974B7519B68A6C3172FB3FB8C3471D825
A14: 공구손료 | B14: 인력품의 3% | C14: 식 | D14: 1 | E14: =TRUNC(SUMIF(V12:V14, RIGHTB(O14, 1), H12:H14)*U14, 2) -> #REF! | F14: =TRUNC(E14*D14,1) -> #REF! | G14: 0 | H14: =TRUNC(G14*D14,1) -> 0 | I14: 0 | J14: =TRUNC(I14*D14,1) -> 0 | K14: =TRUNC(E14+G14+I14,1) -> #REF! | L14: =TRUNC(F14+H14+J14,1) -> #REF! | N14: 4102982A1F3A5693AAD17C64B3BC8 | O14: 475798BFC05A861703917762F51001 | P14: F | Q14: F | R14: F | S14: 1 | T14: 0 | U14: 0.03 | AW14: 4102982A1F3A5693AAD17C64B3BC8475798BFC05A861703917762F51001
A15: [ 합 계 ] | F15: =TRUNC(SUMIF(N12:N14, N11, F12:F14),0) -> #REF! | H15: =TRUNC(SUMIF(N12:N14, N11, H12:H14),0) -> #REF! | J15: =TRUNC(SUMIF(N12:N14, N11, J12:J14),0) -> #REF! | L15: =F15+H15+J15 -> #REF! | N15: TOTAL | O15: TOTAL
A17: 0.6/1kV제어용난연(F-CVV-S) 2C 1.5㎟ M 전기 5-13 ( 호표 3 ) | N17: 4102982A188B26E80CC17BAB06350
A18: 0.6/1kV제어용난연(F-CVV-S) | B18: 2C 1.5㎟ | C18: m | D18: 1 | E18: =#REF! -> #REF! | F18: =TRUNC(E18*D18,1) -> #REF! | G18: =#REF! -> #REF! | H18: =TRUNC(G18*D18,1) -> #REF! | I18: =#REF! -> #REF! | J18: =TRUNC(I18*D18,1) -> #REF! | K18: =TRUNC(E18+G18+I18,1) -> #REF! | L18: =TRUNC(F18+H18+J18,1) -> #REF! | N18: 4102982A188B26E80CC17BAB06350 | O18: 41759B6CBA11F66C20C17C53BFE65E8CDC1ED | P18: F | Q18: F | R18: T | V18: 1 | AW18: 4102982A188B26E80CC17BAB0635041759B6CBA11F66C20C17C53BFE65E8CDC1ED
A19: 0.6/1kV제어용난연(F-CVV-S) | B19: 2C 1.5㎟ | C19: m | D19: 0.05 | E19: =#REF! -> #REF! | F19: =TRUNC(E19*D19,1) -> #REF! | G19: =#REF! -> #REF! | H19: =TRUNC(G19*D19,1) -> #REF! | I19: =#REF! -> #REF! | J19: =TRUNC(I19*D19,1) -> #REF! | K19: =TRUNC(E19+G19+I19,1) -> #REF! | L19: =TRUNC(F19+H19+J19,1) -> #REF! | N19: 4102982A188B26E80CC17BAB06350 | O19: 41759B6CBA11F66C20C17C53BFE65E8CDC1ED | P19: F | Q19: F | R19: T | AW19: 4102982A188B26E80CC17BAB0635041759B6CBA11F66C20C17C53BFE65E8CDC1ED
A20: 잡재료비 | B20: 배관배선의 2% | C20: 식 | D20: 1 | E20: =TRUNC(SUMIF(V18:V22, RIGHTB(O20, 1), F18:F22)*U20, 2) -> #REF! | F20: =TRUNC(E20*D20,1) -> #REF! | G20: 0 | H20: =TRUNC(G20*D20,1) -> 0 | I20: 0 | J20: =TRUNC(I20*D20,1) -> 0 | K20: =TRUNC(E20+G20+I20,1) -> #REF! | L20: =TRUNC(F20+H20+J20,1) -> #REF! | N20: 4102982A188B26E80CC17BAB06350 | O20: 475798BFC05A861703917762F51001 | P20: F | Q20: F | R20: F | S20: 0 | T20: 0 | U20: 0.02 | AW20: 4102982A188B26E80CC17BAB06350475798BFC05A861703917762F51001
A21: 저압케이블전공 | B21: 일반공사직종 | C21: 인 | D21: 0.0168 | E21: =#REF! -> #REF! | F21: =TRUNC(E21*D21,1) -> #REF! | G21: =#REF! -> #REF! | H21: =TRUNC(G21*D21,1) -> #REF! | I21: =#REF! -> #REF! | J21: =TRUNC(I21*D21,1) -> #REF! | K21: =TRUNC(E21+G21+I21,1) -> #REF! | L21: =TRUNC(F21+H21+J21,1) -> #REF! | N21: 4102982A188B26E80CC17BAB06350 | O21: 4696974B7519B68A6C3172FB3FB8C3471DDAB | P21: F | Q21: F | R21: T | W21: 2 | AW21: 4102982A188B26E80CC17BAB063504696974B7519B68A6C3172FB3FB8C3471DDAB
A22: 공구손료 | B22: 인력품의 3% | C22: 식 | D22: 1 | E22: =TRUNC(SUMIF(W18:W22, RIGHTB(O22, 1), H18:H22)*U22, 2) -> #REF! | F22: =TRUNC(E22*D22,1) -> #REF! | G22: 0 | H22: =TRUNC(G22*D22,1) -> 0 | I22: 0 | J22: =TRUNC(I22*D22,1) -> 0 | K22: =TRUNC(E22+G22+I22,1) -> #REF! | L22: =TRUNC(F22+H22+J22,1) -> #REF! | N22: 4102982A188B26E80CC17BAB06350 | O22: 475798BFC05A861703917762F52002 | P22: F | Q22: F | R22: F | S22: 1 | T22: 0 | U22: 0.03 | AW22: 4102982A188B26E80CC17BAB06350475798BFC05A861703917762F52002
A23: [ 합 계 ] | F23: =TRUNC(SUMIF(N18:N22, N17, F18:F22),0) -> #REF! | H23: =TRUNC(SUMIF(N18:N22, N17, H18:H22),0) -> #REF! | J23: =TRUNC(SUMIF(N18:N22, N17, J18:J22),0) -> #REF! | L23: =F23+H23+J23 -> #REF! | N23: TOTAL | O23: TOTAL
A25: 압착단자 R형동선 나압착 16 ㎟ 개 전기 4-37 ( 호표 4 ) | N25: 4102982A188B26E8EAB175B3806F0
A26: 압착단자 | B26: R형동선 나압착 16 ㎟ | C26: EA | D26: 1 | E26: =#REF! -> #REF! | F26: =TRUNC(E26*D26,1) -> #REF! | G26: =#REF! -> #REF! | H26: =TRUNC(G26*D26,1) -> #REF! | I26: =#REF! -> #REF! | J26: =TRUNC(I26*D26,1) -> #REF! | K26: =TRUNC(E26+G26+I26,1) -> #REF! | L26: =TRUNC(F26+H26+J26,1) -> #REF! | N26: 4102982A188B26E8EAB175B3806F0 | O26: 416B9EE7A80B367E901177E1CBBBB7B394DA7 | P26: F | Q26: F | R26: T | AW26: 4102982A188B26E8EAB175B3806F0416B9EE7A80B367E901177E1CBBBB7B394DA7
A27: 저압케이블전공 | B27: 일반공사직종 | C27: 인 | D27: 0.0972 | E27: =#REF! -> #REF! | F27: =TRUNC(E27*D27,1) -> #REF! | G27: =#REF! -> #REF! | H27: =TRUNC(G27*D27,1) -> #REF! | I27: =#REF! -> #REF! | J27: =TRUNC(I27*D27,1) -> #REF! | K27: =TRUNC(E27+G27+I27,1) -> #REF! | L27: =TRUNC(F27+H27+J27,1) -> #REF! | N27: 4102982A188B26E8EAB175B3806F0 | O27: 4696974B7519B68A6C3172FB3FB8C3471DDAB | P27: F | Q27: F | R27: T | V27: 1 | AW27: 4102982A188B26E8EAB175B3806F04696974B7519B68A6C3172FB3FB8C3471DDAB
A28: 공구손료 | B28: 인력품의 3% | C28: 식 | D28: 1 | E28: =TRUNC(SUMIF(V26:V28, RIGHTB(O28, 1), H26:H28)*U28, 2) -> #REF! | F28: =TRUNC(E28*D28,1) -> #REF! | G28: 0 | H28: =TRUNC(G28*D28,1) -> 0 | I28: 0 | J28: =TRUNC(I28*D28,1) -> 0 | K28: =TRUNC(E28+G28+I28,1) -> #REF! | L28: =TRUNC(F28+H28+J28,1) -> #REF! | N28: 4102982A188B26E8EAB175B3806F0 | O28: 475798BFC05A861703917762F51001 | P28: F | Q28: F | R28: F | S28: 1 | T28: 0 | U28: 0.03 | AW28: 4102982A188B26E8EAB175B3806F0475798BFC05A861703917762F51001
A29: [ 합 계 ] | F29: =TRUNC(SUMIF(N26:N28, N25, F26:F28),0) -> #REF! | H29: =TRUNC(SUMIF(N26:N28, N25, H26:H28),0) -> #REF! | J29: =TRUNC(SUMIF(N26:N28, N25, J26:J28),0) -> #REF! | L29: =F29+H29+J29 -> #REF! | N29: TOTAL | O29: TOTAL
A31: 노출 분전반 철거 면 전기 5-4(30%) ( 호표 5 ) | N31: 4102982A188B26E8FB117ADB7E985
A32: 분전반 철거or이설 | C32: 면 | D32: 1 | E32: =#REF! -> #REF! | F32: =TRUNC(E32*D32,1) -> #REF! | G32: =#REF! -> #REF! | H32: =TRUNC(G32*D32,1) -> #REF! | I32: =#REF! -> #REF! | J32: =TRUNC(I32*D32,1) -> #REF! | K32: =TRUNC(E32+G32+I32,1) -> #REF! | L32: =TRUNC(F32+H32+J32,1) -> #REF! | N32: 4102982A188B26E8FB117ADB7E985 | O32: 416B9EE7A803F641871175614560B7517CC63 | P32: F | Q32: F | R32: T | AW32: 4102982A188B26E8FB117ADB7E985416B9EE7A803F641871175614560B7517CC63
A33: 내선전공 | B33: 일반공사직종 | C33: 인 | D33: 0.369 | E33: =#REF! -> #REF! | F33: =TRUNC(E33*D33,1) -> #REF! | G33: =#REF! -> #REF! | H33: =TRUNC(G33*D33,1) -> #REF! | I33: =#REF! -> #REF! | J33: =TRUNC(I33*D33,1) -> #REF! | K33: =TRUNC(E33+G33+I33,1) -> #REF! | L33: =TRUNC(F33+H33+J33,1) -> #REF! | N33: 4102982A188B26E8FB117ADB7E985 | O33: 4696974B7519B68A6C3172FB3FB8C3471DDA6 | P33: F | Q33: F | R33: T | V33: 1 | AW33: 4102982A188B26E8FB117ADB7E9854696974B7519B68A6C3172FB3FB8C3471DDA6
A34: 공구손료 | B34: 인력품의 3% | C34: 식 | D34: 1 | E34: =TRUNC(SUMIF(V32:V34, RIGHTB(O34, 1), H32:H34)*U34, 2) -> #REF! | F34: =TRUNC(E34*D34,1) -> #REF! | G34: 0 | H34: =TRUNC(G34*D34,1) -> 0 | I34: 0 | J34: =TRUNC(I34*D34,1) -> 0 | K34: =TRUNC(E34+G34+I34,1) -> #REF! | L34: =TRUNC(F34+H34+J34,1) -> #REF! | N34: 4102982A188B26E8FB117ADB7E985 | O34: 475798BFC05A861703917762F51001 | P34: F | Q34: F | R34: F | S34: 1 | T34: 0 | U34: 0.03 | AW34: 4102982A188B26E8FB117ADB7E985475798BFC05A861703917762F51001
A35: [ 합 계 ] | F35: =TRUNC(SUMIF(N32:N34, N31, F32:F34),0) -> #REF! | H35: =TRUNC(SUMIF(N32:N34, N31, H32:H34),0) -> #REF! | J35: =TRUNC(SUMIF(N32:N34, N31, J32:J34),0) -> #REF! | L35: =F35+H35+J35 -> #REF! | N35: TOTAL | O35: TOTAL
A37: 강제전선관 철거 16C M 전기 5-1(30%) ( 호표 6 ) | N37: 4102982A188B26E8FB4177E5A6904
A38: 강제전선관 | B38: 아연도 16 mm | C38: M | D38: 1 | E38: =#REF! -> #REF! | F38: =TRUNC(E38*D38,1) -> #REF! | G38: =#REF! -> #REF! | H38: =TRUNC(G38*D38,1) -> #REF! | I38: =#REF! -> #REF! | J38: =TRUNC(I38*D38,1) -> #REF! | K38: =TRUNC(E38+G38+I38,1) -> #REF! | L38: =TRUNC(F38+H38+J38,1) -> #REF! | M38: 금액제외 | O38: 416B9EE7A9107603C5B1796AFBDEB1FE29ECE | P38: F | Q38: F | R38: T | AW38: 4102982A188B26E8FB4177E5A6904416B9EE7A9107603C5B1796AFBDEB1FE29ECE | AY38: -
A39: 내선전공 | B39: 일반공사직종 | C39: 인 | D39: 0.024 | E39: =#REF! -> #REF! | F39: =TRUNC(E39*D39,1) -> #REF! | G39: =#REF! -> #REF! | H39: =TRUNC(G39*D39,1) -> #REF! | I39: =#REF! -> #REF! | J39: =TRUNC(I39*D39,1) -> #REF! | K39: =TRUNC(E39+G39+I39,1) -> #REF! | L39: =TRUNC(F39+H39+J39,1) -> #REF! | N39: 4102982A188B26E8FB4177E5A6904 | O39: 4696974B7519B68A6C3172FB3FB8C3471DDA6 | P39: F | Q39: F | R39: T | V39: 1 | AW39: 4102982A188B26E8FB4177E5A69044696974B7519B68A6C3172FB3FB8C3471DDA6
A40: 공구손료 | B40: 인력품의 3% | C40: 식 | D40: 1 | E40: =TRUNC(SUMIF(V38:V40, RIGHTB(O40, 1), H38:H40)*U40, 2) -> #REF! | F40: =TRUNC(E40*D40,1) -> #REF! | G40: 0 | H40: =TRUNC(G40*D40,1) -> 0 | I40: 0 | J40: =TRUNC(I40*D40,1) -> 0 | K40: =TRUNC(E40+G40+I40,1) -> #REF! | L40: =TRUNC(F40+H40+J40,1) -> #REF! | N40: 4102982A188B26E8FB4177E5A6904 | O40: 475798BFC05A861703917762F51001 | P40: F | Q40: F | R40: F | S40: 1 | T40: 0 | U40: 0.03 | AW40: 4102982A188B26E8FB4177E5A6904475798BFC05A861703917762F52002
A41: [ 합 계 ] | F41: =TRUNC(SUMIF(N38:N40, N37, F38:F40),0) -> #REF! | H41: =TRUNC(SUMIF(N38:N40, N37, H38:H40),0) -> #REF! | J41: =TRUNC(SUMIF(N38:N40, N37, J38:J40),0) -> #REF! | L41: =F41+H41+J41 -> #REF! | N41: TOTAL | O41: TOTAL
A43: 케이블트레이지지대 W450 개소 전기 5-29 ( 호표 7 ) | N43: 4102982A188B26FABB117D68672AE
A44: 케이블트레이부속품 | B44: U CHANNEL, 41x41x2.6t | C44: M | D44: 0.55 | E44: =#REF! -> #REF! | F44: =TRUNC(E44*D44,1) -> #REF! | G44: =#REF! -> #REF! | H44: =TRUNC(G44*D44,1) -> #REF! | I44: =#REF! -> #REF! | J44: =TRUNC(I44*D44,1) -> #REF! | K44: =TRUNC(E44+G44+I44,1) -> #REF! | L44: =TRUNC(F44+H44+J44,1) -> #REF! | N44: 4102982A188B26FABB117D68672AE | O44: 416B9EE7A9107603C5817C12A7AF92AF4590B | P44: F | Q44: F | R44: T | AW44: 4102982A188B26FABB117D68672AE416B9EE7A9107603C5817C12A7AF92AF4590B
A45: 행거볼트 | B45: M10×1000㎜ | C45: 개 | D45: 2 | E45: =#REF! -> #REF! | F45: =TRUNC(E45*D45,1) -> #REF! | G45: =#REF! -> #REF! | H45: =TRUNC(G45*D45,1) -> #REF! | I45: =#REF! -> #REF! | J45: =TRUNC(I45*D45,1) -> #REF! | K45: =TRUNC(E45+G45+I45,1) -> #REF! | L45: =TRUNC(F45+H45+J45,1) -> #REF! | N45: 4102982A188B26FABB117D68672AE | O45: 416B969137D6B6A3798175BEA05C53CF5FD47 | P45: F | Q45: F | R45: T | AW45: 4102982A188B26FABB117D68672AE416B969137D6B6A3798175BEA05C53CF5FD47
A46: 스트롱앵커 | B46: M10×L50mm | C46: 개 | D46: 2 | E46: =#REF! -> #REF! | F46: =TRUNC(E46*D46,1) -> #REF! | G46: =#REF! -> #REF! | H46: =TRUNC(G46*D46,1) -> #REF! | I46: =#REF! -> #REF! | J46: =TRUNC(I46*D46,1) -> #REF! | K46: =TRUNC(E46+G46+I46,1) -> #REF! | L46: =TRUNC(F46+H46+J46,1) -> #REF! | N46: 4102982A188B26FABB117D68672AE | O46: 416B969137D59643C0D17B710AC0505B489B8 | P46: F | Q46: F | R46: T | AW46: 4102982A188B26FABB117D68672AE416B969137D59643C0D17B710AC0505B489B8
A47: 6각너트 | B47: M10 | C47: EA | D47: 4 | E47: =#REF! -> #REF! | F47: =TRUNC(E47*D47,1) -> #REF! | G47: =#REF! -> #REF! | H47: =TRUNC(G47*D47,1) -> #REF! | I47: =#REF! -> #REF! | J47: =TRUNC(I47*D47,1) -> #REF! | K47: =TRUNC(E47+G47+I47,1) -> #REF! | L47: =TRUNC(F47+H47+J47,1) -> #REF! | N47: 4102982A188B26FABB117D68672AE | O47: 416B969137D6B6BC719176CE731D596E0A1BF | P47: F | Q47: F | R47: T | AW47: 4102982A188B26FABB117D68672AE416B969137D6B6BC719176CE731D596E0A1BF
A48: 스프링 와샤 | B48: 10mm | C48: EA | D48: 4 | E48: =#REF! -> #REF! | F48: =TRUNC(E48*D48,1) -> #REF! | G48: =#REF! -> #REF! | H48: =TRUNC(G48*D48,1) -> #REF! | I48: =#REF! -> #REF! | J48: =TRUNC(I48*D48,1) -> #REF! | K48: =TRUNC(E48+G48+I48,1) -> #REF! | L48: =TRUNC(F48+H48+J48,1) -> #REF! | N48: 4102982A188B26FABB117D68672AE | O48: 416B969137D6B6497A8179E50161D4E164CD0 | P48: F | Q48: F | R48: T | AW48: 4102982A188B26FABB117D68672AE416B969137D6B6497A8179E50161D4E164CD0
A49: 케이블트레이부속품 | B49: RAIL CLAMP | C49: 개 | D49: 2 | E49: =#REF! -> #REF! | F49: =TRUNC(E49*D49,1) -> #REF! | G49: =#REF! -> #REF! | H49: =TRUNC(G49*D49,1) -> #REF! | I49: =#REF! -> #REF! | J49: =TRUNC(I49*D49,1) -> #REF! | K49: =TRUNC(E49+G49+I49,1) -> #REF! | L49: =TRUNC(F49+H49+J49,1) -> #REF! | N49: 4102982A188B26FABB117D68672AE | O49: 416B9EE7A9107603C5817C12A72AB882C2C1D | P49: F | Q49: F | R49: T | AW49: 4102982A188B26FABB117D68672AE416B9EE7A9107603C5817C12A72AB882C2C1D
A50: 내선전공 | B50: 일반공사직종 | C50: 인 | D50: 0.108 | E50: =#REF! -> #REF! | F50: =TRUNC(E50*D50,1) -> #REF! | G50: =#REF! -> #REF! | H50: =TRUNC(G50*D50,1) -> #REF! | I50: =#REF! -> #REF! | J50: =TRUNC(I50*D50,1) -> #REF! | K50: =TRUNC(E50+G50+I50,1) -> #REF! | L50: =TRUNC(F50+H50+J50,1) -> #REF! | N50: 4102982A188B26FABB117D68672AE | O50: 4696974B7519B68A6C3172FB3FB8C3471DDA6 | P50: F | Q50: F | R50: T | V50: 1 | AW50: 4102982A188B26FABB117D68672AE4696974B7519B68A6C3172FB3FB8C3471DDA6
A51: 공구손료 | B51: 인력품의 3% | C51: 식 | D51: 1 | E51: =TRUNC(SUMIF(V44:V51, RIGHTB(O51, 1), H44:H51)*U51, 2) -> #REF! | F51: =TRUNC(E51*D51,1) -> #REF! | G51: 0 | H51: =TRUNC(G51*D51,1) -> 0 | I51: 0 | J51: =TRUNC(I51*D51,1) -> 0 | K51: =TRUNC(E51+G51+I51,1) -> #REF! | L51: =TRUNC(F51+H51+J51,1) -> #REF! | N51: 4102982A188B26FABB117D68672AE | O51: 475798BFC05A861703917762F51001 | P51: F | Q51: F | R51: F | S51: 1 | T51: 0 | U51: 0.03 | AW51: 4102982A188B26FABB117D68672AE475798BFC05A861703917762F51001
A52: [ 합 계 ] | F52: =TRUNC(SUMIF(N44:N51, N43, F44:F51),0) -> #REF! | H52: =TRUNC(SUMIF(N44:N51, N43, H44:H51),0) -> #REF! | J52: =TRUNC(SUMIF(N44:N51, N43, J44:J51),0) -> #REF! | L52: =F52+H52+J52 -> #REF! | N52: TOTAL | O52: TOTAL
A54: RACEWAY 지지행거 110 * 50 A형 개소 전기 5-29 ( 호표 8 ) | N54: 4102982A188B26FABB31780853B55
A55: 레이스웨이 | B55: A형 HANGER, 110 x 50 | C55: 개 | D55: 1 | E55: =#REF! -> #REF! | F55: =TRUNC(E55*D55,1) -> #REF! | G55: =#REF! -> #REF! | H55: =TRUNC(G55*D55,1) -> #REF! | I55: =#REF! -> #REF! | J55: =TRUNC(I55*D55,1) -> #REF! | K55: =TRUNC(E55+G55+I55,1) -> #REF! | L55: =TRUNC(F55+H55+J55,1) -> #REF! | N55: 4102982A188B26FABB31780853B55 | O55: 416B9EE7A9107603C5417698EB0D8E55B048A | P55: F | Q55: F | R55: T | AW55: 4102982A188B26FABB31780853B55416B9EE7A9107603C5417698EB0D8E55B048A
A56: 행거볼트 | B56: M10×1000㎜ | C56: 개 | D56: 1 | E56: =#REF! -> #REF! | F56: =TRUNC(E56*D56,1) -> #REF! | G56: =#REF! -> #REF! | H56: =TRUNC(G56*D56,1) -> #REF! | I56: =#REF! -> #REF! | J56: =TRUNC(I56*D56,1) -> #REF! | K56: =TRUNC(E56+G56+I56,1) -> #REF! | L56: =TRUNC(F56+H56+J56,1) -> #REF! | N56: 4102982A188B26FABB31780853B55 | O56: 416B969137D6B6A3798175BEA05C53CF5FD47 | P56: F | Q56: F | R56: T | AW56: 4102982A188B26FABB31780853B55416B969137D6B6A3798175BEA05C53CF5FD47
A57: 스트롱앵커 | B57: M10×L50mm | C57: 개 | D57: 1 | E57: =#REF! -> #REF! | F57: =TRUNC(E57*D57,1) -> #REF! | G57: =#REF! -> #REF! | H57: =TRUNC(G57*D57,1) -> #REF! | I57: =#REF! -> #REF! | J57: =TRUNC(I57*D57,1) -> #REF! | K57: =TRUNC(E57+G57+I57,1) -> #REF! | L57: =TRUNC(F57+H57+J57,1) -> #REF! | N57: 4102982A188B26FABB31780853B55 | O57: 416B969137D59643C0D17B710AC0505B489B8 | P57: F | Q57: F | R57: T | AW57: 4102982A188B26FABB31780853B55416B969137D59643C0D17B710AC0505B489B8
A58: 내선전공 | B58: 일반공사직종 | C58: 인 | D58: 0.054 | E58: =#REF! -> #REF! | F58: =TRUNC(E58*D58,1) -> #REF! | G58: =#REF! -> #REF! | H58: =TRUNC(G58*D58,1) -> #REF! | I58: =#REF! -> #REF! | J58: =TRUNC(I58*D58,1) -> #REF! | K58: =TRUNC(E58+G58+I58,1) -> #REF! | L58: =TRUNC(F58+H58+J58,1) -> #REF! | N58: 4102982A188B26FABB31780853B55 | O58: 4696974B7519B68A6C3172FB3FB8C3471DDA6 | P58: F | Q58: F | R58: T | V58: 1 | AW58: 4102982A188B26FABB31780853B554696974B7519B68A6C3172FB3FB8C3471DDA6
A59: 공구손료 | B59: 인력품의 3% | C59: 식 | D59: 1 | E59: =TRUNC(SUMIF(V55:V59, RIGHTB(O59, 1), H55:H59)*U59, 2) -> #REF! | F59: =TRUNC(E59*D59,1) -> #REF! | G59: 0 | H59: =TRUNC(G59*D59,1) -> 0 | I59: 0 | J59: =TRUNC(I59*D59,1) -> 0 | K59: =TRUNC(E59+G59+I59,1) -> #REF! | L59: =TRUNC(F59+H59+J59,1) -> #REF! | N59: 4102982A188B26FABB31780853B55 | O59: 475798BFC05A861703917762F51001 | P59: F | Q59: F | R59: F | S59: 1 | T59: 0 | U59: 0.03 | AW59: 4102982A188B26FABB31780853B55475798BFC05A861703917762F51001
A60: [ 합 계 ] | F60: =TRUNC(SUMIF(N55:N59, N54, F55:F59),0) -> #REF! | H60: =TRUNC(SUMIF(N55:N59, N54, H55:H59),0) -> #REF! | J60: =TRUNC(SUMIF(N55:N59, N54, J55:J59),0) -> #REF! | L60: =F60+H60+J60 -> #REF! | N60: TOTAL | O60: TOTAL
A62: 트레이,덕트지지대-벽체or바닥 W450 개소 전기 5-29 ( 호표 9 ) | N62: 4102982A188B26FAAAA17E5D16FD0
A63: 케이블트레이부속품 | B63: U CHANNEL, 41x41x2.6t | C63: M | D63: 0.55 | E63: =#REF! -> #REF! | F63: =TRUNC(E63*D63,1) -> #REF! | G63: =#REF! -> #REF! | H63: =TRUNC(G63*D63,1) -> #REF! | I63: =#REF! -> #REF! | J63: =TRUNC(I63*D63,1) -> #REF! | K63: =TRUNC(E63+G63+I63,1) -> #REF! | L63: =TRUNC(F63+H63+J63,1) -> #REF! | N63: 4102982A188B26FAAAA17E5D16FD0 | O63: 416B9EE7A9107603C5817C12A7AF92AF4590B | P63: F | Q63: F | R63: T | AW63: 4102982A188B26FAAAA17E5D16FD0416B9EE7A9107603C5817C12A7AF92AF4590B
A64: 셋트앵커 | B64: M10×L75mm | C64: 개 | D64: 2 | E64: =#REF! -> #REF! | F64: =TRUNC(E64*D64,1) -> #REF! | G64: =#REF! -> #REF! | H64: =TRUNC(G64*D64,1) -> #REF! | I64: =#REF! -> #REF! | J64: =TRUNC(I64*D64,1) -> #REF! | K64: =TRUNC(E64+G64+I64,1) -> #REF! | L64: =TRUNC(F64+H64+J64,1) -> #REF! | N64: 4102982A188B26FAAAA17E5D16FD0 | O64: 416B969137D59643C0D17B710AC0505B48B7C | P64: F | Q64: F | R64: T | AW64: 4102982A188B26FAAAA17E5D16FD0416B969137D59643C0D17B710AC0505B48B7C
A65: 6각너트 | B65: M10 | C65: EA | D65: 2 | E65: =#REF! -> #REF! | F65: =TRUNC(E65*D65,1) -> #REF! | G65: =#REF! -> #REF! | H65: =TRUNC(G65*D65,1) -> #REF! | I65: =#REF! -> #REF! | J65: =TRUNC(I65*D65,1) -> #REF! | K65: =TRUNC(E65+G65+I65,1) -> #REF! | L65: =TRUNC(F65+H65+J65,1) -> #REF! | N65: 4102982A188B26FAAAA17E5D16FD0 | O65: 416B969137D6B6BC719176CE731D596E0A1BF | P65: F | Q65: F | R65: T | AW65: 4102982A188B26FAAAA17E5D16FD0416B969137D6B6BC719176CE731D596E0A1BF
A66: 스프링 와샤 | B66: 10mm | C66: EA | D66: 2 | E66: =#REF! -> #REF! | F66: =TRUNC(E66*D66,1) -> #REF! | G66: =#REF! -> #REF! | H66: =TRUNC(G66*D66,1) -> #REF! | I66: =#REF! -> #REF! | J66: =TRUNC(I66*D66,1) -> #REF! | K66: =TRUNC(E66+G66+I66,1) -> #REF! | L66: =TRUNC(F66+H66+J66,1) -> #REF! | N66: 4102982A188B26FAAAA17E5D16FD0 | O66: 416B969137D6B6497A8179E50161D4E164CD0 | P66: F | Q66: F | R66: T | AW66: 4102982A188B26FAAAA17E5D16FD0416B969137D6B6497A8179E50161D4E164CD0
A67: 케이블트레이부속품 | B67: RAIL CLAMP | C67: 개 | D67: 2 | E67: =#REF! -> #REF! | F67: =TRUNC(E67*D67,1) -> #REF! | G67: =#REF! -> #REF! | H67: =TRUNC(G67*D67,1) -> #REF! | I67: =#REF! -> #REF! | J67: =TRUNC(I67*D67,1) -> #REF! | K67: =TRUNC(E67+G67+I67,1) -> #REF! | L67: =TRUNC(F67+H67+J67,1) -> #REF! | N67: 4102982A188B26FAAAA17E5D16FD0 | O67: 416B9EE7A9107603C5817C12A72AB882C2C1D | P67: F | Q67: F | R67: T | AW67: 4102982A188B26FAAAA17E5D16FD0416B9EE7A9107603C5817C12A72AB882C2C1D
A68: 내선전공 | B68: 일반공사직종 | C68: 인 | D68: 0.072 | E68: =#REF! -> #REF! | F68: =TRUNC(E68*D68,1) -> #REF! | G68: =#REF! -> #REF! | H68: =TRUNC(G68*D68,1) -> #REF! | I68: =#REF! -> #REF! | J68: =TRUNC(I68*D68,1) -> #REF! | K68: =TRUNC(E68+G68+I68,1) -> #REF! | L68: =TRUNC(F68+H68+J68,1) -> #REF! | N68: 4102982A188B26FAAAA17E5D16FD0 | O68: 4696974B7519B68A6C3172FB3FB8C3471DDA6 | P68: F | Q68: F | R68: T | V68: 1 | AW68: 4102982A188B26FAAAA17E5D16FD04696974B7519B68A6C3172FB3FB8C3471DDA6
A69: 공구손료 | B69: 인력품의 3% | C69: 식 | D69: 1 | E69: =TRUNC(SUMIF(V63:V69, RIGHTB(O69, 1), H63:H69)*U69, 2) -> #REF! | F69: =TRUNC(E69*D69,1) -> #REF! | G69: 0 | H69: =TRUNC(G69*D69,1) -> 0 | I69: 0 | J69: =TRUNC(I69*D69,1) -> 0 | K69: =TRUNC(E69+G69+I69,1) -> #REF! | L69: =TRUNC(F69+H69+J69,1) -> #REF! | N69: 4102982A188B26FAAAA17E5D16FD0 | O69: 475798BFC05A861703917762F51001 | P69: F | Q69: F | R69: F | S69: 1 | T69: 0 | U69: 0.03 | AW69: 4102982A188B26FAAAA17E5D16FD0475798BFC05A861703917762F51001
A70: [ 합 계 ] | F70: =TRUNC(SUMIF(N63:N69, N62, F63:F69),0) -> #REF! | H70: =TRUNC(SUMIF(N63:N69, N62, H63:H69),0) -> #REF! | J70: =TRUNC(SUMIF(N63:N69, N62, J63:J69),0) -> #REF! | L70: =F70+H70+J70 -> #REF! | N70: TOTAL | O70: TOTAL
A72: 트레이,덕트지지대-벽체or바닥 W600 개소 전기 5-29 ( 호표 10 ) | N72: 4102982A188B26FAAAA17E7829F17
A73: 케이블트레이부속품 | B73: U CHANNEL, 41x41x2.6t | C73: M | D73: 0.7 | E73: =#REF! -> #REF! | F73: =TRUNC(E73*D73,1) -> #REF! | G73: =#REF! -> #REF! | H73: =TRUNC(G73*D73,1) -> #REF! | I73: =#REF! -> #REF! | J73: =TRUNC(I73*D73,1) -> #REF! | K73: =TRUNC(E73+G73+I73,1) -> #REF! | L73: =TRUNC(F73+H73+J73,1) -> #REF! | N73: 4102982A188B26FAAAA17E7829F17 | O73: 416B9EE7A9107603C5817C12A7AF92AF4590B | P73: F | Q73: F | R73: T | AW73: 4102982A188B26FAAAA17E7829F17416B9EE7A9107603C5817C12A7AF92AF4590B
A74: 셋트앵커 | B74: M10×L75mm | C74: 개 | D74: 2 | E74: =#REF! -> #REF! | F74: =TRUNC(E74*D74,1) -> #REF! | G74: =#REF! -> #REF! | H74: =TRUNC(G74*D74,1) -> #REF! | I74: =#REF! -> #REF! | J74: =TRUNC(I74*D74,1) -> #REF! | K74: =TRUNC(E74+G74+I74,1) -> #REF! | L74: =TRUNC(F74+H74+J74,1) -> #REF! | N74: 4102982A188B26FAAAA17E7829F17 | O74: 416B969137D59643C0D17B710AC0505B48B7C | P74: F | Q74: F | R74: T | AW74: 4102982A188B26FAAAA17E7829F17416B969137D59643C0D17B710AC0505B48B7C
A75: 6각너트 | B75: M10 | C75: EA | D75: 2 | E75: =#REF! -> #REF! | F75: =TRUNC(E75*D75,1) -> #REF! | G75: =#REF! -> #REF! | H75: =TRUNC(G75*D75,1) -> #REF! | I75: =#REF! -> #REF! | J75: =TRUNC(I75*D75,1) -> #REF! | K75: =TRUNC(E75+G75+I75,1) -> #REF! | L75: =TRUNC(F75+H75+J75,1) -> #REF! | N75: 4102982A188B26FAAAA17E7829F17 | O75: 416B969137D6B6BC719176CE731D596E0A1BF | P75: F | Q75: F | R75: T | AW75: 4102982A188B26FAAAA17E7829F17416B969137D6B6BC719176CE731D596E0A1BF
A76: 스프링 와샤 | B76: 10mm | C76: EA | D76: 2 | E76: =#REF! -> #REF! | F76: =TRUNC(E76*D76,1) -> #REF! | G76: =#REF! -> #REF! | H76: =TRUNC(G76*D76,1) -> #REF! | I76: =#REF! -> #REF! | J76: =TRUNC(I76*D76,1) -> #REF! | K76: =TRUNC(E76+G76+I76,1) -> #REF! | L76: =TRUNC(F76+H76+J76,1) -> #REF! | N76: 4102982A188B26FAAAA17E7829F17 | O76: 416B969137D6B6497A8179E50161D4E164CD0 | P76: F | Q76: F | R76: T | AW76: 4102982A188B26FAAAA17E7829F17416B969137D6B6497A8179E50161D4E164CD0
A77: 케이블트레이부속품 | B77: RAIL CLAMP | C77: 개 | D77: 2 | E77: =#REF! -> #REF! | F77: =TRUNC(E77*D77,1) -> #REF! | G77: =#REF! -> #REF! | H77: =TRUNC(G77*D77,1) -> #REF! | I77: =#REF! -> #REF! | J77: =TRUNC(I77*D77,1) -> #REF! | K77: =TRUNC(E77+G77+I77,1) -> #REF! | L77: =TRUNC(F77+H77+J77,1) -> #REF! | N77: 4102982A188B26FAAAA17E7829F17 | O77: 416B9EE7A9107603C5817C12A72AB882C2C1D | P77: F | Q77: F | R77: T | AW77: 4102982A188B26FAAAA17E7829F17416B9EE7A9107603C5817C12A72AB882C2C1D
A78: 내선전공 | B78: 일반공사직종 | C78: 인 | D78: 0.072 | E78: =#REF! -> #REF! | F78: =TRUNC(E78*D78,1) -> #REF! | G78: =#REF! -> #REF! | H78: =TRUNC(G78*D78,1) -> #REF! | I78: =#REF! -> #REF! | J78: =TRUNC(I78*D78,1) -> #REF! | K78: =TRUNC(E78+G78+I78,1) -> #REF! | L78: =TRUNC(F78+H78+J78,1) -> #REF! | N78: 4102982A188B26FAAAA17E7829F17 | O78: 4696974B7519B68A6C3172FB3FB8C3471DDA6 | P78: F | Q78: F | R78: T | V78: 1 | AW78: 4102982A188B26FAAAA17E7829F174696974B7519B68A6C3172FB3FB8C3471DDA6
A79: 공구손료 | B79: 인력품의 3% | C79: 식 | D79: 1 | E79: =TRUNC(SUMIF(V73:V79, RIGHTB(O79, 1), H73:H79)*U79, 2) -> #REF! | F79: =TRUNC(E79*D79,1) -> #REF! | G79: 0 | H79: =TRUNC(G79*D79,1) -> 0 | I79: 0 | J79: =TRUNC(I79*D79,1) -> 0 | K79: =TRUNC(E79+G79+I79,1) -> #REF! | L79: =TRUNC(F79+H79+J79,1) -> #REF! | N79: 4102982A188B26FAAAA17E7829F17 | O79: 475798BFC05A861703917762F51001 | P79: F | Q79: F | R79: F | S79: 1 | T79: 0 | U79: 0.03 | AW79: 4102982A188B26FAAAA17E7829F17475798BFC05A861703917762F51001
A80: [ 합 계 ] | F80: =TRUNC(SUMIF(N73:N79, N72, F73:F79),0) -> #REF! | H80: =TRUNC(SUMIF(N73:N79, N72, H73:H79),0) -> #REF! | J80: =TRUNC(SUMIF(N73:N79, N72, J73:J79),0) -> #REF! | L80: =F80+H80+J80 -> #REF! | N80: TOTAL | O80: TOTAL
A82: 분전반설치비 면 전기 5-4 ( 호표 11 ) | N82: 4102982A188B26DFF82177EB8A044
A83: 분전반설치비(재료비제외) | C83: 면 | D83: 1 | E83: =#REF! -> #REF! | F83: =TRUNC(E83*D83,1) -> #REF! | G83: =#REF! -> #REF! | H83: =TRUNC(G83*D83,1) -> #REF! | I83: =#REF! -> #REF! | J83: =TRUNC(I83*D83,1) -> #REF! | K83: =TRUNC(E83+G83+I83,1) -> #REF! | L83: =TRUNC(F83+H83+J83,1) -> #REF! | N83: 4102982A188B26DFF82177EB8A044 | O83: 416B9EE7A803F6418711756145608A1BC2BCE | P83: F | Q83: F | R83: T | AW83: 4102982A188B26DFF82177EB8A044416B9EE7A803F6418711756145608A1BC2BCE
A84: 내선전공 | B84: 일반공사직종 | C84: 인 | D84: 1.476 | E84: =#REF! -> #REF! | F84: =TRUNC(E84*D84,1) -> #REF! | G84: =#REF! -> #REF! | H84: =TRUNC(G84*D84,1) -> #REF! | I84: =#REF! -> #REF! | J84: =TRUNC(I84*D84,1) -> #REF! | K84: =TRUNC(E84+G84+I84,1) -> #REF! | L84: =TRUNC(F84+H84+J84,1) -> #REF! | N84: 4102982A188B26DFF82177EB8A044 | O84: 4696974B7519B68A6C3172FB3FB8C3471DDA6 | P84: F | Q84: F | R84: T | V84: 1 | AW84: 4102982A188B26DFF82177EB8A0444696974B7519B68A6C3172FB3FB8C3471DDA6
A85: 공구손료 | B85: 인력품의 3% | C85: 식 | D85: 1 | E85: =TRUNC(SUMIF(V83:V85, RIGHTB(O85, 1), H83:H85)*U85, 2) -> #REF! | F85: =TRUNC(E85*D85,1) -> #REF! | G85: 0 | H85: =TRUNC(G85*D85,1) -> 0 | I85: 0 | J85: =TRUNC(I85*D85,1) -> 0 | K85: =TRUNC(E85+G85+I85,1) -> #REF! | L85: =TRUNC(F85+H85+J85,1) -> #REF! | N85: 4102982A188B26DFF82177EB8A044 | O85: 475798BFC05A861703917762F51001 | P85: F | Q85: F | R85: F | S85: 1 | T85: 0 | U85: 0.03 | AW85: 4102982A188B26DFF82177EB8A044475798BFC05A861703917762F51001
A86: [ 합 계 ] | F86: =TRUNC(SUMIF(N83:N85, N82, F83:F85),0) -> #REF! | H86: =TRUNC(SUMIF(N83:N85, N82, H83:H85),0) -> #REF! | J86: =TRUNC(SUMIF(N83:N85, N82, J83:J85),0) -> #REF! | L86: =F86+H86+J86 -> #REF! | N86: TOTAL | O86: TOTAL
A88: 관통구 방화폼 (TRAY) 400mm 개소 A사 ( 호표 12 ) | N88: 4102982A188B268780717F2BCC9B2
A89: 미네랄울보온판 | B89: 미네랄울 (100kg/㎥) | C89: ㎡ | D89: 0.15 | E89: =#REF! -> #REF! | F89: =TRUNC(E89*D89,1) -> #REF! | G89: =#REF! -> #REF! | H89: =TRUNC(G89*D89,1) -> #REF! | I89: =#REF! -> #REF! | J89: =TRUNC(I89*D89,1) -> #REF! | K89: =TRUNC(E89+G89+I89,1) -> #REF! | L89: =TRUNC(F89+H89+J89,1) -> #REF! | N89: 4102982A188B268780717F2BCC9B2 | O89: 46839DEE72E6B689DDF17CABB1E29CB20710E | P89: F | Q89: F | R89: T | AW89: 4102982A188B268780717F2BCC9B246839DEE72E6B689DDF17CABB1E29CB20710E
A90: 실리콘 RTV 폼 | B90: BMG-80 | C90: kg | D90: 3.2 | E90: =#REF! -> #REF! | F90: =TRUNC(E90*D90,1) -> #REF! | G90: =#REF! -> #REF! | H90: =TRUNC(G90*D90,1) -> #REF! | I90: =#REF! -> #REF! | J90: =TRUNC(I90*D90,1) -> #REF! | K90: =TRUNC(E90+G90+I90,1) -> #REF! | L90: =TRUNC(F90+H90+J90,1) -> #REF! | N90: 4102982A188B268780717F2BCC9B2 | O90: 46839DEE72E6B689DDF17CABB1E29CB23C50C | P90: F | Q90: F | R90: T | AW90: 4102982A188B268780717F2BCC9B246839DEE72E6B689DDF17CABB1E29CB23C50C
A91: 방화 실리콘 실란트 | B91: BMG-LS109(실란트) | C91: ml | D91: 480 | E91: =#REF! -> #REF! | F91: =TRUNC(E91*D91,1) -> #REF! | G91: =#REF! -> #REF! | H91: =TRUNC(G91*D91,1) -> #REF! | I91: =#REF! -> #REF! | J91: =TRUNC(I91*D91,1) -> #REF! | K91: =TRUNC(E91+G91+I91,1) -> #REF! | L91: =TRUNC(F91+H91+J91,1) -> #REF! | N91: 4102982A188B268780717F2BCC9B2 | O91: 46839DEE72E6B689DDF17CABB1E29CB223F82 | P91: F | Q91: F | R91: T | AW91: 4102982A188B268780717F2BCC9B246839DEE72E6B689DDF17CABB1E29CB223F82
A92: 내장공 | B92: 일반공사직종 | C92: 인 | D92: 0.125 | E92: =#REF! -> #REF! | F92: =TRUNC(E92*D92,1) -> #REF! | G92: =#REF! -> #REF! | H92: =TRUNC(G92*D92,1) -> #REF! | I92: =#REF! -> #REF! | J92: =TRUNC(I92*D92,1) -> #REF! | K92: =TRUNC(E92+G92+I92,1) -> #REF! | L92: =TRUNC(F92+H92+J92,1) -> #REF! | N92: 4102982A188B268780717F2BCC9B2 | O92: 4696974B7519B68A6C3172FB3FB8C3471D9C8 | P92: F | Q92: F | R92: T | V92: 1 | AW92: 4102982A188B268780717F2BCC9B24696974B7519B68A6C3172FB3FB8C3471D9C8
A93: 특별인부 | B93: 일반공사직종 | C93: 인 | D93: 0.125 | E93: =#REF! -> #REF! | F93: =TRUNC(E93*D93,1) -> #REF! | G93: =#REF! -> #REF! | H93: =TRUNC(G93*D93,1) -> #REF! | I93: =#REF! -> #REF! | J93: =TRUNC(I93*D93,1) -> #REF! | K93: =TRUNC(E93+G93+I93,1) -> #REF! | L93: =TRUNC(F93+H93+J93,1) -> #REF! | N93: 4102982A188B268780717F2BCC9B2 | O93: 4696974B7519B68A6C3172FB3FB8C3471DAEC | P93: F | Q93: F | R93: T | V93: 1 | AW93: 4102982A188B268780717F2BCC9B24696974B7519B68A6C3172FB3FB8C3471DAEC
A94: 보통인부 | B94: 일반공사직종 | C94: 인 | D94: 0.125 | E94: =#REF! -> #REF! | F94: =TRUNC(E94*D94,1) -> #REF! | G94: =#REF! -> #REF! | H94: =TRUNC(G94*D94,1) -> #REF! | I94: =#REF! -> #REF! | J94: =TRUNC(I94*D94,1) -> #REF! | K94: =TRUNC(E94+G94+I94,1) -> #REF! | L94: =TRUNC(F94+H94+J94,1) -> #REF! | N94: 4102982A188B268780717F2BCC9B2 | O94: 4696974B7519B68A6C3172FB3FB8C3471DAED | P94: F | Q94: F | R94: T | V94: 1 | AW94: 4102982A188B268780717F2BCC9B24696974B7519B68A6C3172FB3FB8C3471DAED
A95: 공구손료 | B95: 인력품의 3% | C95: 식 | D95: 1 | E95: =TRUNC(SUMIF(V89:V95, RIGHTB(O95, 1), H89:H95)*U95, 2) -> #REF! | F95: =TRUNC(E95*D95,1) -> #REF! | G95: 0 | H95: =TRUNC(G95*D95,1) -> 0 | I95: 0 | J95: =TRUNC(I95*D95,1) -> 0 | K95: =TRUNC(E95+G95+I95,1) -> #REF! | L95: =TRUNC(F95+H95+J95,1) -> #REF! | N95: 4102982A188B268780717F2BCC9B2 | O95: 475798BFC05A861703917762F51001 | P95: F | Q95: F | R95: F | S95: 1 | T95: 0 | U95: 0.03 | AW95: 4102982A188B268780717F2BCC9B2475798BFC05A861703917762F51001
A96: [ 합 계 ] | F96: =TRUNC(SUMIF(N89:N95, N88, F89:F95),0) -> #REF! | H96: =TRUNC(SUMIF(N89:N95, N88, H89:H95),0) -> #REF! | J96: =TRUNC(SUMIF(N89:N95, N88, J89:J95),0) -> #REF! | L96: =F96+H96+J96 -> #REF! | N96: TOTAL | O96: TOTAL
A98: 합성수지제 가요전선관 CD 난연성 16㎜ M 전기 5-1 ( 호표 13 ) | N98: 46079F073E55069286B17DD557DA5
A99: 합성수지제 가요전선관 | B99: CD 난연성 16㎜ | C99: M | D99: 1 | E99: =#REF! -> #REF! | F99: =TRUNC(E99*D99,1) -> #REF! | G99: =#REF! -> #REF! | H99: =TRUNC(G99*D99,1) -> #REF! | I99: =#REF! -> #REF! | J99: =TRUNC(I99*D99,1) -> #REF! | K99: =TRUNC(E99+G99+I99,1) -> #REF! | L99: =TRUNC(F99+H99+J99,1) -> #REF! | N99: 46079F073E55069286B17DD557DA5 | O99: 416B9EE7A9107603C5B1796AFBDEB1EC5F18B | P99: F | Q99: F | R99: T | V99: 1 | W99: 2 | AW99: 46079F073E55069286B17DD557DA5416B9EE7A9107603C5B1796AFBDEB1EC5F18B
A100: 합성수지제 가요전선관 | B100: CD 난연성 16㎜ | C100: M | D100: 0.1 | E100: =#REF! -> #REF! | F100: =TRUNC(E100*D100,1) -> #REF! | G100: =#REF! -> #REF! | H100: =TRUNC(G100*D100,1) -> #REF! | I100: =#REF! -> #REF! | J100: =TRUNC(I100*D100,1) -> #REF! | K100: =TRUNC(E100+G100+I100,1) -> #REF! | L100: =TRUNC(F100+H100+J100,1) -> #REF! | N100: 46079F073E55069286B17DD557DA5 | O100: 416B9EE7A9107603C5B1796AFBDEB1EC5F18B | P100: F | Q100: F | R100: T | AW100: 46079F073E55069286B17DD557DA5416B9EE7A9107603C5B1796AFBDEB1EC5F18B
A101: 잡재료비 | B101: 배관배선의 2% | C101: 식 | D101: 1 | E101: =TRUNC(SUMIF(V99:V104, RIGHTB(O101, 1), F99:F104)*U101, 2) -> #REF! | F101: =TRUNC(E101*D101,1) -> #REF! | G101: 0 | H101: =TRUNC(G101*D101,1) -> 0 | I101: 0 | J101: =TRUNC(I101*D101,1) -> 0 | K101: =TRUNC(E101+G101+I101,1) -> #REF! | L101: =TRUNC(F101+H101+J101,1) -> #REF! | N101: 46079F073E55069286B17DD557DA5 | O101: 475798BFC05A861703917762F51001 | P101: F | Q101: F | R101: F | S101: 0 | T101: 0 | U101: 0.02 | AW101: 46079F073E55069286B17DD557DA5475798BFC05A861703917762F51001
A102: 전선관부속품비 | B102: CD 관의 40% | C102: 식 | D102: 1 | E102: =TRUNC(SUMIF(W99:W104, RIGHTB(O102, 1), F99:F104)*U102, 2) -> #REF! | F102: =TRUNC(E102*D102,1) -> #REF! | G102: 0 | H102: =TRUNC(G102*D102,1) -> 0 | I102: 0 | J102: =TRUNC(I102*D102,1) -> 0 | K102: =TRUNC(E102+G102+I102,1) -> #REF! | L102: =TRUNC(F102+H102+J102,1) -> #REF! | N102: 46079F073E55069286B17DD557DA5 | O102: 475798BFC05A861703917762F52002 | P102: F | Q102: F | R102: F | S102: 0 | T102: 0 | U102: 0.4 | AW102: 46079F073E55069286B17DD557DA5475798BFC05A861703917762F52002
A103: 내선전공 | B103: 일반공사직종 | C103: 인 | D103: 0.04 | E103: =#REF! -> #REF! | F103: =TRUNC(E103*D103,1) -> #REF! | G103: =#REF! -> #REF! | H103: =TRUNC(G103*D103,1) -> #REF! | I103: =#REF! -> #REF! | J103: =TRUNC(I103*D103,1) -> #REF! | K103: =TRUNC(E103+G103+I103,1) -> #REF! | L103: =TRUNC(F103+H103+J103,1) -> #REF! | N103: 46079F073E55069286B17DD557DA5 | O103: 4696974B7519B68A6C3172FB3FB8C3471DDA6 | P103: F | Q103: F | R103: T | X103: 3 | AW103: 46079F073E55069286B17DD557DA54696974B7519B68A6C3172FB3FB8C3471DDA6
A104: 공구손료 | B104: 인력품의 3% | C104: 식 | D104: 1 | E104: =TRUNC(SUMIF(X99:X104, RIGHTB(O104, 1), H99:H104)*U104, 2) -> #REF! | F104: =TRUNC(E104*D104,1) -> #REF! | G104: 0 | H104: =TRUNC(G104*D104,1) -> 0 | I104: 0 | J104: =TRUNC(I104*D104,1) -> 0 | K104: =TRUNC(E104+G104+I104,1) -> #REF! | L104: =TRUNC(F104+H104+J104,1) -> #REF! | N104: 46079F073E55069286B17DD557DA5 | O104: 475798BFC05A861703917762F53003 | P104: F | Q104: F | R104: F | S104: 1 | T104: 0 | U104: 0.03 | AW104: 46079F073E55069286B17DD557DA5475798BFC05A861703917762F51001
A105: [ 합 계 ] | F105: =TRUNC(SUMIF(N99:N104, N98, F99:F104),0) -> #REF! | H105: =TRUNC(SUMIF(N99:N104, N98, H99:H104),0) -> #REF! | J105: =TRUNC(SUMIF(N99:N104, N98, J99:J104),0) -> #REF! | L105: =F105+H105+J105 -> #REF! | N105: TOTAL | O105: TOTAL
A107: 합성수지제 가요전선관 CD 난연성 22㎜ M 전기 5-1 ( 호표 14 ) | N107: 46079F073E55069286B17DD557E4C
A108: 합성수지제 가요전선관 | B108: CD 난연성 22㎜ | C108: M | D108: 1 | E108: =#REF! -> #REF! | F108: =TRUNC(E108*D108,1) -> #REF! | G108: =#REF! -> #REF! | H108: =TRUNC(G108*D108,1) -> #REF! | I108: =#REF! -> #REF! | J108: =TRUNC(I108*D108,1) -> #REF! | K108: =TRUNC(E108+G108+I108,1) -> #REF! | L108: =TRUNC(F108+H108+J108,1) -> #REF! | N108: 46079F073E55069286B17DD557E4C | O108: 416B9EE7A9107603C5B1796AFBDEB1EC5F18A | P108: F | Q108: F | R108: T | V108: 1 | W108: 2 | AW108: 46079F073E55069286B17DD557E4C416B9EE7A9107603C5B1796AFBDEB1EC5F18A
A109: 합성수지제 가요전선관 | B109: CD 난연성 22㎜ | C109: M | D109: 0.1 | E109: =#REF! -> #REF! | F109: =TRUNC(E109*D109,1) -> #REF! | G109: =#REF! -> #REF! | H109: =TRUNC(G109*D109,1) -> #REF! | I109: =#REF! -> #REF! | J109: =TRUNC(I109*D109,1) -> #REF! | K109: =TRUNC(E109+G109+I109,1) -> #REF! | L109: =TRUNC(F109+H109+J109,1) -> #REF! | N109: 46079F073E55069286B17DD557E4C | O109: 416B9EE7A9107603C5B1796AFBDEB1EC5F18A | P109: F | Q109: F | R109: T | AW109: 46079F073E55069286B17DD557E4C416B9EE7A9107603C5B1796AFBDEB1EC5F18A
A110: 잡재료비 | B110: 배관배선의 2% | C110: 식 | D110: 1 | E110: =TRUNC(SUMIF(V108:V113, RIGHTB(O110, 1), F108:F113)*U110, 2) -> #REF! | F110: =TRUNC(E110*D110,1) -> #REF! | G110: 0 | H110: =TRUNC(G110*D110,1) -> 0 | I110: 0 | J110: =TRUNC(I110*D110,1) -> 0 | K110: =TRUNC(E110+G110+I110,1) -> #REF! | L110: =TRUNC(F110+H110+J110,1) -> #REF! | N110: 46079F073E55069286B17DD557E4C | O110: 475798BFC05A861703917762F51001 | P110: F | Q110: F | R110: F | S110: 0 | T110: 0 | U110: 0.02 | AW110: 46079F073E55069286B17DD557E4C475798BFC05A861703917762F51001
A111: 전선관부속품비 | B111: CD 관의 40% | C111: 식 | D111: 1 | E111: =TRUNC(SUMIF(W108:W113, RIGHTB(O111, 1), F108:F113)*U111, 2) -> #REF! | F111: =TRUNC(E111*D111,1) -> #REF! | G111: 0 | H111: =TRUNC(G111*D111,1) -> 0 | I111: 0 | J111: =TRUNC(I111*D111,1) -> 0 | K111: =TRUNC(E111+G111+I111,1) -> #REF! | L111: =TRUNC(F111+H111+J111,1) -> #REF! | N111: 46079F073E55069286B17DD557E4C | O111: 475798BFC05A861703917762F52002 | P111: F | Q111: F | R111: F | S111: 0 | T111: 0 | U111: 0.4 | AW111: 46079F073E55069286B17DD557E4C475798BFC05A861703917762F52002
A112: 내선전공 | B112: 일반공사직종 | C112: 인 | D112: 0.048 | E112: =#REF! -> #REF! | F112: =TRUNC(E112*D112,1) -> #REF! | G112: =#REF! -> #REF! | H112: =TRUNC(G112*D112,1) -> #REF! | I112: =#REF! -> #REF! | J112: =TRUNC(I112*D112,1) -> #REF! | K112: =TRUNC(E112+G112+I112,1) -> #REF! | L112: =TRUNC(F112+H112+J112,1) -> #REF! | N112: 46079F073E55069286B17DD557E4C | O112: 4696974B7519B68A6C3172FB3FB8C3471DDA6 | P112: F | Q112: F | R112: T | X112: 3 | AW112: 46079F073E55069286B17DD557E4C4696974B7519B68A6C3172FB3FB8C3471DDA6
A113: 공구손료 | B113: 인력품의 3% | C113: 식 | D113: 1 | E113: =TRUNC(SUMIF(X108:X113, RIGHTB(O113, 1), H108:H113)*U113, 2) -> #REF! | F113: =TRUNC(E113*D113,1) -> #REF! | G113: 0 | H113: =TRUNC(G113*D113,1) -> 0 | I113: 0 | J113: =TRUNC(I113*D113,1) -> 0 | K113: =TRUNC(E113+G113+I113,1) -> #REF! | L113: =TRUNC(F113+H113+J113,1) -> #REF! | N113: 46079F073E55069286B17DD557E4C | O113: 475798BFC05A861703917762F53003 | P113: F | Q113: F | R113: F | S113: 1 | T113: 0 | U113: 0.03 | AW113: 46079F073E55069286B17DD557E4C475798BFC05A861703917762F51001
...

Sheet  공사설정 
A1: 이 Sheet는 수정하지 마십시요
A2: 공사구분 | B2: D
A3: 확정내역 | B3: 원내역
A4: 자재단가적용 | B4: 5
A5: 경비단가적용 | B5: 5
A6: 품목코드형식 | B6: XXXX-XXXX-XXXXXXXXX
A7: 내역금액소수점처리 | B7: C | C7: 1
A8: 일위대가내역소수점처리 | B8: C | C8: 2
A9: 단가명 | B9: 가격정보 | C9: 물가자료 | D9: 유통물가 | E9: 거래가격 | F9: 조사가격 | G9: TTTTT
A10: 환율 | B10: 1055.3 | C10: 0 | D10: 0
A11: 시간당작업량 | B11: R | C11: 3
A12: 1회 사이클시간 | B12: R | C12: 3
A13: 시간당 작업사이클 | B13: R | C13: 2
A14: 일반변수 | B14: C | C14: 5
A15: 시간당 노임산출 계수 | B15: A | C15: 1/8*16/12*25/20 | D15: 1/8*16/12*25/20 | E15: 1/8*16/12*25/20 | F15: 1
A16: 재료비 할증 계수 | B16: 11 | C16: 12
A17: 노무비 할증 계수 | B17: 0 | C17: 50 | D17: 16 | E17: 60 | F17: 60 | G17: 60 | H17: 94 | I17: 94 | J17: 94 | K17: 0 | L17: 0 | M17: 0
A18: 경비 할증 계수 | B18: 12.5 | C18: 7.1
A19: 내역,일위대가 품명,규격,단위 따로적용
A20: 내역단가 소수점처리 | B20: C | C20: 1
A21: 코드 | B21: 공종구분명 | C21: 원가비목코드
A22: 1 | B22: 작 업 부 산 물 | C22: A3
A23: 2 | B23: 운 반 비 | C23: C1
A24: 3 | B24: 관 급 자 재 비 | C24: DJ
A25: 4 | B25: 사 급 자 재 비 | C25: D3
A26: 5 | B26: 외 자 재
A27: 6 | B27: 한 전 인 입 비
A28: 7 | B28: 조 달 수 수 료
A29: 8 | B29: ...
A30: 9 | B30: ...

Sheet Sheet1
