Workbook

Sheet 내역서
A1: 제2전시관 전시교체 전시조명 구매
A2: 품 명 | B2: 규 격 | C2: 단위 | D2: 수량 | E2: 재 료 비 | G2: 노 무 비 | I2: 경 비 | K2: 합 계 | M2: 비 고 | N2: 품목코드 | O2: 변수 | P2: 설정 | Q2: 공종코드 | R2: 일위 | S2: 단산 | T2: 자재 | U2: 손료적용 | V2: 손료저장 | W2: 적용율 | X2: JUK1 | Y2: JUK2 | Z2: JUK3 | AA2: JUK4 | AB2: JUK5 | AC2: JUK6 | AD2: JUK7 | AE2: JUK8 | AF2: JUK9 | AG2: JUK10 | AH2: JUK11 | AI2: JUK12 | AJ2: JUK13 | AK2: JUK14 | AL2: JUK15 | AM2: JUK16 | AN2: JUK17 | AO2: JUK18 | AP2: JUK19 | AQ2: JUK20 | AR2: 자재구분 | AS2: 공종구분 | AT2: 공종레벨 | AU2: 공종+자재 | AV2: 고유번호
E3: 단 가 | F3: 금 액 | G3: 단 가 | H3: 금 액 | I3: 단 가 | J3: 금 액 | K3: 단 가 | L3: 금 액
A4: 010101 전시조명 | B4: 도급자설치 관급자재 | Q4: 010101
A5: 조명기구 "A1" | B5: LED 19W (White) | C5: EA | D5: 248 | N5: 46079F073CA7A6C781217B8404E1A | Q5: 010101 | R5: T | S5: F | T5: F | AU5: 01010146079F073CA7A6C781217B8404E1A | AV5: 4
A6: 조명기구 "B1" | B6: LED 24W (White) | C6: EA | D6: 74 | N6: 46079F073CA7A6C7814176516AC15 | Q6: 010101 | R6: T | S6: F | T6: F | AU6: 01010146079F073CA7A6C7814176516AC15 | AV6: 5
A7: 조명기구 "C1" | B7: LED 12W (Black) | C7: EA | D7: 42 | N7: 4102982A188B26E8EAB175B3806F0 | Q7: 010101 | R7: T | S7: F | T7: F | AU7: 0101014102982A188B26E8EAB175B3806F0 | AV7: 6
A8: TracK | B8: 3m 기준 (White) | C8: EA | D8: 210 | N8: 4102982A188B26DFF82177EB8A044 | Q8: 010101 | R8: T | S8: F | T8: F | AU8: 0101014102982A188B26DFF82177EB8A044 | AV8: 7
A9: L-connector | B9: 트랙 ㄱ 연결용 (White) | C9: EA | D9: 66 | N9: 46839D8EE91896C33AF1764C27B7DB05F98F6 | Q9: 010101 | R9: F | S9: F | T9: T | AU9: 01010146839D8EE91896C33AF1764C27B7DB05F98F6 | AV9: 8
A10: Coupler | B10: 트랙 연결용(연장) (White) | C10: EA | D10: 91 | N10: 46839D8EE91896C33AF1764C27B7DB05F9B4A | Q10: 010101 | R10: F | S10: F | T10: T | AU10: 01010146839D8EE91896C33AF1764C27B7DB05F9B4A | AV10: 9
A11: Live end(right) | B11: 전원연결 (White) | C11: EA | D11: 71 | N11: 46839D8EE91896C33AF1764C27B7DB05F9AA4 | Q11: 010101 | R11: F | S11: F | T11: T | AU11: 01010146839D8EE91896C33AF1764C27B7DB05F9AA4 | AV11: 10
A12: End plate | B12: 전원마감 (White) | C12: EA | D12: 71 | N12: 46839D8EE91896C33AF1764C27B7DB05F9D78 | Q12: 010101 | R12: F | S12: F | T12: T | AU12: 01010146839D8EE91896C33AF1764C27B7DB05F9D78 | AV12: 11
A27: [ 합 계 ] | F27: =SUM(F5:F26) -> 0 | H27: =SUM(H5:H26) -> 0 | J27: =SUM(J5:J26) -> 0 | L27: =SUM(L5:L26) -> 0 | N27: TOTAL

Sheet 일위대가목록
A1: 일 위 대 가 목 록
A2: [ 독립기념관 제2전시관 리모델링공사-전기 ]
A3: 코 드 | B3: 품 명 | C3: 규 격 | D3: 단위 | E3: 재 료 비 | F3: 노 무 비 | G3: 경 비 | H3: 합 계 | I3: 번 호 | J3: 비 고 | K3: 노임계수 | L3: 할증 | M3: 품셈개요 | N3: 장비일위
A4: 4102982A1F3A5693AAD17C64B3A21 | B4: 모르타르배합 | C4: 배합용적비 1:3 | D4: ㎥ | E4: =일위대가!F9 -> #REF! | F4: =일위대가!H9 -> #REF! | G4: =일위대가!J9 -> #REF! | H4: =E4+F4+G4 -> #REF! | I4: 호표 1 | J4: 건축 15-1-1 | M4: 건축 15-1-1
A5: 4102982A1F3A5693AAD17C64B3BC8 | B5: 모르타르바름 | C5: 인력 | D5: ㎡ | E5: =일위대가!F15 -> #REF! | F5: =일위대가!H15 -> #REF! | G5: =일위대가!J15 -> #REF! | H5: =E5+F5+G5 -> #REF! | I5: 호표 2 | J5: 건축 15-1-2 | M5: 건축 15-1-2
A6: 4102982A188B26E80CC17BAB06350 | B6: 0.6/1kV제어용난연(F-CVV-S) | C6: 2C 1.5㎟ | D6: M | E6: =일위대가!F23 -> #REF! | F6: =일위대가!H23 -> #REF! | G6: =일위대가!J23 -> #REF! | H6: =E6+F6+G6 -> #REF! | I6: 호표 3 | J6: 전기 5-13 | M6: 전기 5-13
A7: 4102982A188B26E8EAB175B3806F0 | B7: 압착단자 | C7: R형동선 나압착 16 ㎟ | D7: 개 | E7: =일위대가!F29 -> #REF! | F7: =일위대가!H29 -> #REF! | G7: =일위대가!J29 -> #REF! | H7: =E7+F7+G7 -> #REF! | I7: 호표 4 | J7: 전기 4-37 | M7: 전기 4-37
A8: 4102982A188B26E8FB117ADB7E985 | B8: 노출 분전반 철거 | D8: 면 | E8: =일위대가!F35 -> #REF! | F8: =일위대가!H35 -> #REF! | G8: =일위대가!J35 -> #REF! | H8: =E8+F8+G8 -> #REF! | I8: 호표 5 | J8: 전기 5-4(30%) | M8: 전기 5-4(30%)
A9: 4102982A188B26E8FB4177E5A6904 | B9: 강제전선관 철거 | C9: 16C | D9: M | E9: =일위대가!F41 -> #REF! | F9: =일위대가!H41 -> #REF! | G9: =일위대가!J41 -> #REF! | H9: =E9+F9+G9 -> #REF! | I9: 호표 6 | J9: 전기 5-1(30%) | M9: 전기 5-1(30%)
A10: 4102982A188B26FABB117D68672AE | B10: 케이블트레이지지대 | C10: W450 | D10: 개소 | E10: =일위대가!F52 -> #REF! | F10: =일위대가!H52 -> #REF! | G10: =일위대가!J52 -> #REF! | H10: =E10+F10+G10 -> #REF! | I10: 호표 7 | J10: 전기 5-29 | M10: 전기 5-29
A11: 4102982A188B26FABB31780853B55 | B11: RACEWAY 지지행거 110 * 50 | C11: A형 | D11: 개소 | E11: =일위대가!F60 -> #REF! | F11: =일위대가!H60 -> #REF! | G11: =일위대가!J60 -> #REF! | H11: =E11+F11+G11 -> #REF! | I11: 호표 8 | J11: 전기 5-29 | M11: 전기 5-29
A12: 4102982A188B26FAAAA17E5D16FD0 | B12: 트레이,덕트지지대-벽체or바닥 | C12: W450 | D12: 개소 | E12: =일위대가!F70 -> #REF! | F12: =일위대가!H70 -> #REF! | G12: =일위대가!J70 -> #REF! | H12: =E12+F12+G12 -> #REF! | I12: 호표 9 | J12: 전기 5-29 | M12: 전기 5-29
A13: 4102982A188B26FAAAA17E7829F17 | B13: 트레이,덕트지지대-벽체or바닥 | C13: W600 | D13: 개소 | E13: =일위대가!F80 -> #REF! | F13: =일위대가!H80 -> #REF! | G13: =일위대가!J80 -> #REF! | H13: =E13+F13+G13 -> #REF! | I13: 호표 10 | J13: 전기 5-29 | M13: 전기 5-29
A14: 4102982A188B26DFF82177EB8A044 | B14: 분전반설치비 | D14: 면 | E14: =일위대가!F86 -> #REF! | F14: =일위대가!H86 -> #REF! | G14: =일위대가!J86 -> #REF! | H14: =E14+F14+G14 -> #REF! | I14: 호표 11 | J14: 전기 5-4 | M14: 전기 5-4
A15: 4102982A188B268780717F2BCC9B2 | B15: 관통구 방화폼 (TRAY) | C15: 400mm | D15: 개소 | E15: =일위대가!F96 -> #REF! | F15: =일위대가!H96 -> #REF! | G15: =일위대가!J96 -> #REF! | H15: =E15+F15+G15 -> #REF! | I15: 호표 12 | J15: A사 | M15: A사
A16: 46079F073E55069286B17DD557DA5 | B16: 합성수지제 가요전선관 | C16: CD 난연성 16㎜ | D16: M | E16: =일위대가!F105 -> #REF! | F16: =일위대가!H105 -> #REF! | G16: =일위대가!J105 -> #REF! | H16: =E16+F16+G16 -> #REF! | I16: 호표 13 | J16: 전기 5-1 | M16: 전기 5-1
A17: 46079F073E55069286B17DD557E4C | B17: 합성수지제 가요전선관 | C17: CD 난연성 22㎜ | D17: M | E17: =일위대가!F114 -> #REF! | F17: =일위대가!H114 -> #REF! | G17: =일위대가!J114 -> #REF! | H17: =E17+F17+G17 -> #REF! | I17: 호표 14 | J17: 전기 5-1 | M17: 전기 5-1
A18: 46079F073E5506FB04F172E72C474 | B18: 강제전선관 | C18: 아연도 16 mm | D18: M | E18: =일위대가!F123 -> #REF! | F18: =일위대가!H123 -> #REF! | G18: =일위대가!J123 -> #REF! | H18: =E18+F18+G18 -> #REF! | I18: 호표 15 | J18: 전기 5-1 | M18: 전기 5-1
A19: 46079F073E5506FB04F172E72C7C8 | B19: 강제전선관 | C19: 아연도 22 mm | D19: M | E19: =일위대가!F132 -> #REF! | F19: =일위대가!H132 -> #REF! | G19: =일위대가!J132 -> #REF! | H19: =E19+F19+G19 -> #REF! | I19: 호표 16 | J19: 전기 5-1 | M19: 전기 5-1
A20: 46079F073E5506FB04F172E72C622 | B20: 강제전선관 | C20: 아연도 28 mm | D20: M | E20: =일위대가!F141 -> #REF! | F20: =일위대가!H141 -> #REF! | G20: =일위대가!J141 -> #REF! | H20: =E20+F20+G20 -> #REF! | I20: 호표 17 | J20: 전기 5-1 | M20: 전기 5-1
A21: 46079F073E5506FB04F172E72C1A0 | B21: 강제전선관 | C21: 아연도 36 mm | D21: M | E21: =일위대가!F150 -> #REF! | F21: =일위대가!H150 -> #REF! | G21: =일위대가!J150 -> #REF! | H21: =E21+F21+G21 -> #REF! | I21: 호표 18 | J21: 전기 5-1 | M21: 전기 5-1
A22: 46079F073E5506FB04C175A94CD92 | B22: 강제전선관(노출) | C22: 아연도 16 mm | D22: M | E22: =일위대가!F159 -> #REF! | F22: =일위대가!H159 -> #REF! | G22: =일위대가!J159 -> #REF! | H22: =E22+F22+G22 -> #REF! | I22: 호표 19 | J22: 전기 5-1 | M22: 전기 5-1
A23: 46079F073E5506FB04C175A94CEB9 | B23: 강제전선관(노출) | C23: 아연도 22 mm | D23: M | E23: =일위대가!F168 -> #REF! | F23: =일위대가!H168 -> #REF! | G23: =일위대가!J168 -> #REF! | H23: =E23+F23+G23 -> #REF! | I23: 호표 20 | J23: 전기 5-1 | M23: 전기 5-1
A24: 46079F073E5506FB04C175A94CF5F | B24: 강제전선관(노출) | C24: 아연도 28 mm | D24: M | E24: =일위대가!F177 -> #REF! | F24: =일위대가!H177 -> #REF! | G24: =일위대가!J177 -> #REF! | H24: =E24+F24+G24 -> #REF! | I24: 호표 21 | J24: 전기 5-1 | M24: 전기 5-1
A25: 46079F073E5506FB04C175A94C810 | B25: 강제전선관(노출) | C25: 아연도 36 mm | D25: M | E25: =일위대가!F186 -> #REF! | F25: =일위대가!H186 -> #REF! | G25: =일위대가!J186 -> #REF! | H25: =E25+F25+G25 -> #REF! | I25: 호표 22 | J25: 전기 5-1 | M25: 전기 5-1
A26: 46079F073E5506EAA6117F4B90321 | B26: 1종금속제가요전선관 | C26: 22 mm 비방수 | D26: M | E26: =일위대가!F194 -> #REF! | F26: =일위대가!H194 -> #REF! | G26: =일위대가!J194 -> #REF! | H26: =E26+F26+G26 -> #REF! | I26: 호표 23 | J26: 전기 5-1 | M26: 전기 5-1
A27: 46079F073E5506EAA6117F4B9021A | B27: 1종금속제가요전선관 | C27: 28 mm 비방수 | D27: M | E27: =일위대가!F202 -> #REF! | F27: =일위대가!H202 -> #REF! | G27: =일위대가!J202 -> #REF! | H27: =E27+F27+G27 -> #REF! | I27: 호표 24 | J27: 전기 5-1 | M27: 전기 5-1
A28: 46079F073E5506EAA6117F4B905EE | B28: 1종금속제가요전선관 | C28: 36 mm 비방수 | D28: M | E28: =일위대가!F210 -> #REF! | F28: =일위대가!H210 -> #REF! | G28: =일위대가!J210 -> #REF! | H28: =E28+F28+G28 -> #REF! | I28: 호표 25 | J28: 전기 5-1 | M28: 전기 5-1
A29: 46079F073E5506EAA67171D7CC010 | B29: 1종금속제가요전선관 | C29: 비닐피복, 36 mm 방수 | D29: M | E29: =일위대가!F218 -> #REF! | F29: =일위대가!H218 -> #REF! | G29: =일위대가!J218 -> #REF! | H29: =E29+F29+G29 -> #REF! | I29: 호표 26 | J29: 전기 5-1 | M29: 전기 5-1
A30: 46079F073E550639F3F17A5E98507 | B30: 전선관지지행거 | C30: 16 C | D30: 개소 | E30: =일위대가!F228 -> #REF! | F30: =일위대가!H228 -> #REF! | G30: =일위대가!J228 -> #REF! | H30: =E30+F30+G30 -> #REF! | I30: 호표 27 | J30: 전기 5-29 | M30: 전기 5-29
A31: 46079F073E550639F3F17A5E9862D | B31: 전선관지지행거 | C31: 22 C | D31: 개소 | E31: =일위대가!F238 -> #REF! | F31: =일위대가!H238 -> #REF! | G31: =일위대가!J238 -> #REF! | H31: =E31+F31+G31 -> #REF! | I31: 호표 28 | J31: 전기 5-29 | M31: 전기 5-29
A32: 46079F073E550639F3F17A5E98734 | B32: 전선관지지행거 | C32: 28 C | D32: 개소 | E32: =일위대가!F248 -> #REF! | F32: =일위대가!H248 -> #REF! | G32: =일위대가!J248 -> #REF! | H32: =E32+F32+G32 -> #REF! | I32: 호표 29 | J32: 전기 5-29 | M32: 전기 5-29
A33: 46079F073E550639F3F17A5E98085 | B33: 전선관지지행거 | C33: 36 C | D33: 개소 | E33: =일위대가!F258 -> #REF! | F33: =일위대가!H258 -> #REF! | G33: =일위대가!J258 -> #REF! | H33: =E33+F33+G33 -> #REF! | I33: 호표 30 | J33: 전기 5-29 | M33: 전기 5-29
A34: 46079F073D4E16BCA18170A4C6407 | B34: 저독성폴리올레핀절연전선(HFIX) 바닥 | C34: 4㎟(2.25㎜) | D34: M | E34: =일위대가!F266 -> #REF! | F34: =일위대가!H266 -> #REF! | G34: =일위대가!J266 -> #REF! | H34: =E34+F34+G34 -> #REF! | I34: 호표 31 | J34: 전기 5-10 | M34: 전기 5-10
A35: 46079F073D4E16BCA18170A4C67D8 | B35: 저독성폴리올레핀절연전선(HFIX) | C35: 4㎟(2.25㎜) | D35: M | E35: =일위대가!F274 -> #REF! | F35: =일위대가!H274 -> #REF! | G35: =일위대가!J274 -> #REF! | H35: =E35+F35+G35 -> #REF! | I35: 호표 32 | J35: 전기 5-10 | M35: 전기 5-10
A36: 46079F073D4E1691EAD17E0019949 | B36: 난연성 비닐절연 접지용전선 | C36: 0.6/1kV F-GV 4㎟ | D36: M | E36: =일위대가!F282 -> #REF! | F36: =일위대가!H282 -> #REF! | G36: =일위대가!J282 -> #REF! | H36: =E36+F36+G36 -> #REF! | I36: 호표 33 | J36: 전기 3-38 | M36: 전기 3-38
A37: 46079F073D4E1691EAD17E00198A2 | B37: 난연성 비닐절연 접지용전선 | C37: 0.6/1kV F-GV 6㎟ | D37: M | E37: =일위대가!F290 -> #REF! | F37: =일위대가!H290 -> #REF! | G37: =일위대가!J290 -> #REF! | H37: =E37+F37+G37 -> #REF! | I37: 호표 34 | J37: 전기 3-38 | M37: 전기 3-38
A38: 46079F073D4E1691EAD17E0019320 | B38: 난연성 비닐절연 접지용전선 | C38: 0.6/1kV F-GV 50㎟ | D38: M | E38: =일위대가!F298 -> #REF! | F38: =일위대가!H298 -> #REF! | G38: =일위대가!J298 -> #REF! | H38: =E38+F38+G38 -> #REF! | I38: 호표 35 | J38: 전기 3-38 | M38: 전기 3-38
A39: 46079F073CA7A6C781217B8404E1A | B39: 0.6/1kV가교폴리에틸렌(F-CV) 옥내 | C39: 2C 4㎟ | D39: M | E39: =일위대가!F306 -> #REF! | F39: =일위대가!H306 -> #REF! | G39: =일위대가!J306 -> #REF! | H39: =E39+F39+G39 -> #REF! | I39: 호표 36 | J39: 전기 5-13 | M39: 전기 5-13
A40: 46079F073CA7A6C7814176516AEC2 | B40: 0.6/1kV가교폴리에틸렌(F-CV) 옥내 | C40: 4C 6㎟ | D40: M | E40: =일위대가!F314 -> #REF! | F40: =일위대가!H314 -> #REF! | G40: =일위대가!J314 -> #REF! | H40: =E40+F40+G40 -> #REF! | I40: 호표 37 | J40: 전기 5-13 | M40: 전기 5-13
...

Sheet 일위대가
A1: [ 독립기념관 제2전시관 리모델링공사-전기 ]
A2: 품 명 | B2: 규 격 | C2: 단위 | D2: 수량 | E2: 재 료 비 | G2: 노 무 비 | I2: 경 비 | K2: 합 계 | M2: 비 고 | N2: 일위대가 | O2: 품목코드 | P2: 일위 | Q2: 단산 | R2: 자재 | S2: 손료적용 | T2: 손료저장 | U2: 적용율 | V2: JUK1 | W2: JUK2 | X2: JUK3 | Y2: JUK4 | Z2: JUK5 | AA2: JUK6 | AB2: JUK7 | AC2: JUK8 | AD2: JUK9 | AE2: JUK10 | AF2: JUK11 | AG2: JUK12 | AH2: JUK13 | AI2: JUK14 | AJ2: JUK15 | AK2: JUK16 | AL2: JUK17 | AM2: JUK18 | AN2: JUK19 | AO2: JUK20 | AP2: 할증적용 | AQ2: 할증저장 | AR2: 할증율 | AS2: HAL1 | AT2: HAL2 | AU2: HAL3 | AV2: 자재구분 | AW2: 일위대가+자재 | AX2: 장비일위 | AY2: 설정
E3: 단 가 | F3: 금 액 | G3: 단 가 | H3: 금 액 | I3: 단 가 | J3: 금 액 | K3: 단 가 | L3: 금 액
A4: 모르타르배합 배합용적비 1:3 ㎥ 건축 15-1-1 ( 호표 1 ) | N4: 4102982A1F3A5693AAD17C64B3A21
A5: 시멘트 | B5: 보통 | C5: KG | D5: 510 | E5: =#REF! -> #REF! | F5: =TRUNC(E5*D5,1) -> #REF! | G5: =#REF! -> #REF! | H5: =TRUNC(G5*D5,1) -> #REF! | I5: =#REF! -> #REF! | J5: =TRUNC(I5*D5,1) -> #REF! | K5: =TRUNC(E5+G5+I5,1) -> #REF! | L5: =TRUNC(F5+H5+J5,1) -> #REF! | N5: 4102982A1F3A5693AAD17C64B3A21 | O5: 416B97B62C2C66EA0D717F77921B8B5863EED | P5: F | Q5: F | R5: T | AW5: 4102982A1F3A5693AAD17C64B3A21416B97B62C2C66EA0D717F77921B8B5863EED
A6: 모래 | B6: 도착도 | C6: ㎥ | D6: 1.1 | E6: =#REF! -> #REF! | F6: =TRUNC(E6*D6,1) -> #REF! | G6: =#REF! -> #REF! | H6: =TRUNC(G6*D6,1) -> #REF! | I6: =#REF! -> #REF! | J6: =TRUNC(I6*D6,1) -> #REF! | K6: =TRUNC(E6+G6+I6,1) -> #REF! | L6: =TRUNC(F6+H6+J6,1) -> #REF! | N6: 4102982A1F3A5693AAD17C64B3A21 | O6: 414898948BA6C6900A817A0C092ECB837D857 | P6: F | Q6: F | R6: T | AW6: 4102982A1F3A5693AAD17C64B3A21414898948BA6C6900A817A0C092ECB837D857
A7: 보통인부 | B7: 일반공사직종 | C7: 인 | D7: 0.66 | E7: =#REF! -> #REF! | F7: =TRUNC(E7*D7,1) -> #REF! | G7: =#REF! -> #REF! | H7: =TRUNC(G7*D7,1) -> #REF! | I7: =#REF! -> #REF! | J7: =TRUNC(I7*D7,1) -> #REF! | K7: =TRUNC(E7+G7+I7,1) -> #REF! | L7: =TRUNC(F7+H7+J7,1) -> #REF! | N7: 4102982A1F3A5693AAD17C64B3A21 | O7: 4696974B7519B68A6C3172FB3FB8C3471DAED | P7: F | Q7: F | R7: T | V7: 1 | AW7: 4102982A1F3A5693AAD17C64B3A214696974B7519B68A6C3172FB3FB8C3471DAED
A8: 공구손료 | B8: 인력품의 3% | C8: 식 | D8: 1 | E8: =TRUNC(SUMIF(V5:V8, RIGHTB(O8, 1), H5:H8)*U8, 2) -> #REF! | F8: =TRUNC(E8*D8,1) -> #REF! | G8: 0 | H8: =TRUNC(G8*D8,1) -> 0 | I8: 0 | J8: =TRUNC(I8*D8,1) -> 0 | K8: =TRUNC(E8+G8+I8,1) -> #REF! | L8: =TRUNC(F8+H8+J8,1) -> #REF! | N8: 4102982A1F3A5693AAD17C64B3A21 | O8: 475798BFC05A861703917762F51001 | P8: F | Q8: F | R8: F | S8: 1 | T8: 0 | U8: 0.03 | AW8: 4102982A1F3A5693AAD17C64B3A21475798BFC05A861703917762F51001
A9: [ 합 계 ] | F9: =TRUNC(SUMIF(N5:N8, N4, F5:F8),0) -> #REF! | H9: =TRUNC(SUMIF(N5:N8, N4, H5:H8),0) -> #REF! | J9: =TRUNC(SUMIF(N5:N8, N4, J5:J8),0) -> #REF! | L9: =F9+H9+J9 -> #REF! | N9: TOTAL | O9: TOTAL
A11: 모르타르바름 인력 ㎡ 건축 15-1-2 ( 호표 2 ) | N11: 4102982A1F3A5693AAD17C64B3BC8
A12: 보통인부 | B12: 일반공사직종 | C12: 인 | D12: 0.053 | E12: =#REF! -> #REF! | F12: =TRUNC(E12*D12,1) -> #REF! | G12: =#REF! -> #REF! | H12: =TRUNC(G12*D12,1) -> #REF! | I12: =#REF! -> #REF! | J12: =TRUNC(I12*D12,1) -> #REF! | K12: =TRUNC(E12+G12+I12,1) -> #REF! | L12: =TRUNC(F12+H12+J12,1) -> #REF! | N12: 4102982A1F3A5693AAD17C64B3BC8 | O12: 4696974B7519B68A6C3172FB3FB8C3471DAED | P12: F | Q12: F | R12: T | V12: 1 | AW12: 4102982A1F3A5693AAD17C64B3BC84696974B7519B68A6C3172FB3FB8C3471DAED
A13: 미장공 | B13: 일반공사직종 | C13: 인 | D13: 0.131 | E13: =#REF! -> #REF! | F13: =TRUNC(E13*D13,1) -> #REF! | G13: =#REF! -> #REF! | H13: =TRUNC(G13*D13,1) -> #REF! | I13: =#REF! -> #REF! | J13: =TRUNC(I13*D13,1) -> #REF! | K13: =TRUNC(E13+G13+I13,1) -> #REF! | L13: =TRUNC(F13+H13+J13,1) -> #REF! | N13: 4102982A1F3A5693AAD17C64B3BC8 | O13: 4696974B7519B68A6C3172FB3FB8C3471D825 | P13: F | Q13: F | R13: T | V13: 1 | AW13: 4102982A1F3A5693AAD17C64B3BC84696974B7519B68A6C3172FB3FB8C3471D825
A14: 공구손료 | B14: 인력품의 3% | C14: 식 | D14: 1 | E14: =TRUNC(SUMIF(V12:V14, RIGHTB(O14, 1), H12:H14)*U14, 2) -> #REF! | F14: =TRUNC(E14*D14,1) -> #REF! | G14: 0 | H14: =TRUNC(G14*D14,1) -> 0 | I14: 0 | J14: =TRUNC(I14*D14,1) -> 0 | K14: =TRUNC(E14+G14+I14,1) -> #REF! | L14: =TRUNC(F14+H14+J14,1) -> #REF! | N14: 4102982A1F3A5693AAD17C64B3BC8 | O14: 475798BFC05A861703917762F51001 | P14: F | Q14: F | R14: F | S14: 1 | T14: 0 | U14: 0.03 | AW14: 4102982A1F3A5693AAD17C64B3BC8475798BFC05A861703917762F51001
A15: [ 합 계 ] | F15: =TRUNC(SUMIF(N12:N14, N11, F12:F14),0) -> #REF! | H15: =TRUNC(SUMIF(N12:N14, N11, H12:H14),0) -> #REF! | J15: =TRUNC(SUMIF(N12:N14, N11, J12:J14),0) -> #REF! | L15: =F15+H15+J15 -> #REF! | N15: TOTAL | O15: TOTAL
A17: 0.6/1kV제어용난연(F-CVV-S) 2C 1.5㎟ M 전기 5-13 ( 호표 3 ) | N17: 4102982A188B26E80CC17BAB06350
A18: 0.6/1kV제어용난연(F-CVV-S) | B18: 2C 1.5㎟ | C18: m | D18: 1 | E18: =#REF! -> #REF! | F18: =TRUNC(E18*D18,1) -> #REF! | G18: =#REF! -> #REF! | H18: =TRUNC(G18*D18,1) -> #REF! | I18: =#REF! -> #REF! | J18: =TRUNC(I18*D18,1) -> #REF! | K18: =TRUNC(E18+G18+I18,1) -> #REF! | L18: =TRUNC(F18+H18+J18,1) -> #REF! | N18: 4102982A188B26E80CC17BAB06350 | O18: 41759B6CBA11F66C20C17C53BFE65E8CDC1ED | P18: F | Q18: F | R18: T | V18: 1 | AW18: 4102982A188B26E80CC17BAB0635041759B6CBA11F66C20C17C53BFE65E8CDC1ED
A19: 0.6/1kV제어용난연(F-CVV-S) | B19: 2C 1.5㎟ | C19: m | D19: 0.05 | E19: =#REF! -> #REF! | F19: =TRUNC(E19*D19,1) -> #REF! | G19: =#REF! -> #REF! | H19: =TRUNC(G19*D19,1) -> #REF! | I19: =#REF! -> #REF! | J19: =TRUNC(I19*D19,1) -> #REF! | K19: =TRUNC(E19+G19+I19,1) -> #REF! | L19: =TRUNC(F19+H19+J19,1) -> #REF! | N19: 4102982A188B26E80CC17BAB06350 | O19: 41759B6CBA11F66C20C17C53BFE65E8CDC1ED | P19: F | Q19: F | R19: T | AW19: 4102982A188B26E80CC17BAB0635041759B6CBA11F66C20C17C53BFE65E8CDC1ED
A20: 잡재료비 | B20: 배관배선의 2% | C20: 식 | D20: 1 | E20: =TRUNC(SUMIF(V18:V22, RIGHTB(O20, 1), F18:F22)*U20, 2) -> #REF! | F20: =TRUNC(E20*D20,1) -> #REF! | G20: 0 | H20: =TRUNC(G20*D20,1) -> 0 | I20: 0 | J20: =TRUNC(I20*D20,1) -> 0 | K20: =TRUNC(E20+G20+I20,1) -> #REF! | L20: =TRUNC(F20+H20+J20,1) -> #REF! | N20: 4102982A188B26E80CC17BAB06350 | O20: 475798BFC05A861703917762F51001 | P20: F | Q20: F | R20: F | S20: 0 | T20: 0 | U20: 0.02 | AW20: 4102982A188B26E80CC17BAB06350475798BFC05A861703917762F51001
A21: 저압케이블전공 | B21: 일반공사직종 | C21: 인 | D21: 0.0168 | E21: =#REF! -> #REF! | F21: =TRUNC(E21*D21,1) -> #REF! | G21: =#REF! -> #REF! | H21: =TRUNC(G21*D21,1) -> #REF! | I21: =#REF! -> #REF! | J21: =TRUNC(I21*D21,1) -> #REF! | K21: =TRUNC(E21+G21+I21,1) -> #REF! | L21: =TRUNC(F21+H21+J21,1) -> #REF! | N21: 4102982A188B26E80CC17BAB06350 | O21: 4696974B7519B68A6C3172FB3FB8C3471DDAB | P21: F | Q21: F | R21: T | W21: 2 | AW21: 4102982A188B26E80CC17BAB063504696974B7519B68A6C3172FB3FB8C3471DDAB
A22: 공구손료 | B22: 인력품의 3% | C22: 식 | D22: 1 | E22: =TRUNC(SUMIF(W18:W22, RIGHTB(O22, 1), H18:H22)*U22, 2) -> #REF! | F22: =TRUNC(E22*D22,1) -> #REF! | G22: 0 | H22: =TRUNC(G22*D22,1) -> 0 | I22: 0 | J22: =TRUNC(I22*D22,1) -> 0 | K22: =TRUNC(E22+G22+I22,1) -> #REF! | L22: =TRUNC(F22+H22+J22,1) -> #REF! | N22: 4102982A188B26E80CC17BAB06350 | O22: 475798BFC05A861703917762F52002 | P22: F | Q22: F | R22: F | S22: 1 | T22: 0 | U22: 0.03 | AW22: 4102982A188B26E80CC17BAB06350475798BFC05A861703917762F52002
A23: [ 합 계 ] | F23: =TRUNC(SUMIF(N18:N22, N17, F18:F22),0) -> #REF! | H23: =TRUNC(SUMIF(N18:N22, N17, H18:H22),0) -> #REF! | J23: =TRUNC(SUMIF(N18:N22, N17, J18:J22),0) -> #REF! | L23: =F23+H23+J23 -> #REF! | N23: TOTAL | O23: TOTAL
A25: 압착단자 R형동선 나압착 16 ㎟ 개 전기 4-37 ( 호표 4 ) | N25: 4102982A188B26E8EAB175B3806F0
A26: 압착단자 | B26: R형동선 나압착 16 ㎟ | C26: EA | D26: 1 | E26: =#REF! -> #REF! | F26: =TRUNC(E26*D26,1) -> #REF! | G26: =#REF! -> #REF! | H26: =TRUNC(G26*D26,1) -> #REF! | I26: =#REF! -> #REF! | J26: =TRUNC(I26*D26,1) -> #REF! | K26: =TRUNC(E26+G26+I26,1) -> #REF! | L26: =TRUNC(F26+H26+J26,1) -> #REF! | N26: 4102982A188B26E8EAB175B3806F0 | O26: 416B9EE7A80B367E901177E1CBBBB7B394DA7 | P26: F | Q26: F | R26: T | AW26: 4102982A188B26E8EAB175B3806F0416B9EE7A80B367E901177E1CBBBB7B394DA7
A27: 저압케이블전공 | B27: 일반공사직종 | C27: 인 | D27: 0.0972 | E27: =#REF! -> #REF! | F27: =TRUNC(E27*D27,1) -> #REF! | G27: =#REF! -> #REF! | H27: =TRUNC(G27*D27,1) -> #REF! | I27: =#REF! -> #REF! | J27: =TRUNC(I27*D27,1) -> #REF! | K27: =TRUNC(E27+G27+I27,1) -> #REF! | L27: =TRUNC(F27+H27+J27,1) -> #REF! | N27: 4102982A188B26E8EAB175B3806F0 | O27: 4696974B7519B68A6C3172FB3FB8C3471DDAB | P27: F | Q27: F | R27: T | V27: 1 | AW27: 4102982A188B26E8EAB175B3806F04696974B7519B68A6C3172FB3FB8C3471DDAB
A28: 공구손료 | B28: 인력품의 3% | C28: 식 | D28: 1 | E28: =TRUNC(SUMIF(V26:V28, RIGHTB(O28, 1), H26:H28)*U28, 2) -> #REF! | F28: =TRUNC(E28*D28,1) -> #REF! | G28: 0 | H28: =TRUNC(G28*D28,1) -> 0 | I28: 0 | J28: =TRUNC(I28*D28,1) -> 0 | K28: =TRUNC(E28+G28+I28,1) -> #REF! | L28: =TRUNC(F28+H28+J28,1) -> #REF! | N28: 4102982A188B26E8EAB175B3806F0 | O28: 475798BFC05A861703917762F51001 | P28: F | Q28: F | R28: F | S28: 1 | T28: 0 | U28: 0.03 | AW28: 4102982A188B26E8EAB175B3806F0475798BFC05A861703917762F51001
A29: [ 합 계 ] | F29: =TRUNC(SUMIF(N26:N28, N25, F26:F28),0) -> #REF! | H29: =TRUNC(SUMIF(N26:N28, N25, H26:H28),0) -> #REF! | J29: =TRUNC(SUMIF(N26:N28, N25, J26:J28),0) -> #REF! | L29: =F29+H29+J29 -> #REF! | N29: TOTAL | O29: TOTAL
A31: 노출 분전반 철거 면 전기 5-4(30%) ( 호표 5 ) | N31: 4102982A188B26E8FB117ADB7E985
A32: 분전반 철거or이설 | C32: 면 | D32: 1 | E32: =#REF! -> #REF! | F32: =TRUNC(E32*D32,1) -> #REF! | G32: =#REF! -> #REF! | H32: =TRUNC(G32*D32,1) -> #REF! | I32: =#REF! -> #REF! | J32: =TRUNC(I32*D32,1) -> #REF! | K32: =TRUNC(E32+G32+I32,1) -> #REF! | L32: =TRUNC(F32+H32+J32,1) -> #REF! | N32: 4102982A188B26E8FB117ADB7E985 | O32: 416B9EE7A803F641871175614560B7517CC63 | P32: F | Q32: F | R32: T | AW32: 4102982A188B26E8FB117ADB7E985416B9EE7A803F641871175614560B7517CC63
A33: 내선전공 | B33: 일반공사직종 | C33: 인 | D33: 0.369 | E33: =#REF! -> #REF! | F33: =TRUNC(E33*D33,1) -> #REF! | G33: =#REF! -> #REF! | H33: =TRUNC(G33*D33,1) -> #REF! | I33: =#REF! -> #REF! | J33: =TRUNC(I33*D33,1) -> #REF! | K33: =TRUNC(E33+G33+I33,1) -> #REF! | L33: =TRUNC(F33+H33+J33,1) -> #REF! | N33: 4102982A188B26E8FB117ADB7E985 | O33: 4696974B7519B68A6C3172FB3FB8C3471DDA6 | P33: F | Q33: F | R33: T | V33: 1 | AW33: 4102982A188B26E8FB117ADB7E9854696974B7519B68A6C3172FB3FB8C3471DDA6
A34: 공구손료 | B34: 인력품의 3% | C34: 식 | D34: 1 | E34: =TRUNC(SUMIF(V32:V34, RIGHTB(O34, 1), H32:H34)*U34, 2) -> #REF! | F34: =TRUNC(E34*D34,1) -> #REF! | G34: 0 | H34: =TRUNC(G34*D34,1) -> 0 | I34: 0 | J34: =TRUNC(I34*D34,1) -> 0 | K34: =TRUNC(E34+G34+I34,1) -> #REF! | L34: =TRUNC(F34+H34+J34,1) -> #REF! | N34: 4102982A188B26E8FB117ADB7E985 | O34: 475798BFC05A861703917762F51001 | P34: F | Q34: F | R34: F | S34: 1 | T34: 0 | U34: 0.03 | AW34: 4102982A188B26E8FB117ADB7E985475798BFC05A861703917762F51001
A35: [ 합 계 ] | F35: =TRUNC(SUMIF(N32:N34, N31, F32:F34),0) -> #REF! | H35: =TRUNC(SUMIF(N32:N34, N31, H32:H34),0) -> #REF! | J35: =TRUNC(SUMIF(N32:N34, N31, J32:J34),0) -> #REF! | L35: =F35+H35+J35 -> #REF! | N35: TOTAL | O35: TOTAL
A37: 강제전선관 철거 16C M 전기 5-1(30%) ( 호표 6 ) | N37: 4102982A188B26E8FB4177E5A6904
A38: 강제전선관 | B38: 아연도 16 mm | C38: M | D38: 1 | E38: =#REF! -> #REF! | F38: =TRUNC(E38*D38,1) -> #REF! | G38: =#REF! -> #REF! | H38: =TRUNC(G38*D38,1) -> #REF! | I38: =#REF! -> #REF! | J38: =TRUNC(I38*D38,1) -> #REF! | K38: =TRUNC(E38+G38+I38,1) -> #REF! | L38: =TRUNC(F38+H38+J38,1) -> #REF! | M38: 금액제외 | O38: 416B9EE7A9107603C5B1796AFBDEB1FE29ECE | P38: F | Q38: F | R38: T | AW38: 4102982A188B26E8FB4177E5A6904416B9EE7A9107603C5B1796AFBDEB1FE29ECE | AY38: -
A39: 내선전공 | B39: 일반공사직종 | C39: 인 | D39: 0.024 | E39: =#REF! -> #REF! | F39: =TRUNC(E39*D39,1) -> #REF! | G39: =#REF! -> #REF! | H39: =TRUNC(G39*D39,1) -> #REF! | I39: =#REF! -> #REF! | J39: =TRUNC(I39*D39,1) -> #REF! | K39: =TRUNC(E39+G39+I39,1) -> #REF! | L39: =TRUNC(F39+H39+J39,1) -> #REF! | N39: 4102982A188B26E8FB4177E5A6904 | O39: 4696974B7519B68A6C3172FB3FB8C3471DDA6 | P39: F | Q39: F | R39: T | V39: 1 | AW39: 4102982A188B26E8FB4177E5A69044696974B7519B68A6C3172FB3FB8C3471DDA6
A40: 공구손료 | B40: 인력품의 3% | C40: 식 | D40: 1 | E40: =TRUNC(SUMIF(V38:V40, RIGHTB(O40, 1), H38:H40)*U40, 2) -> #REF! | F40: =TRUNC(E40*D40,1) -> #REF! | G40: 0 | H40: =TRUNC(G40*D40,1) -> 0 | I40: 0 | J40: =TRUNC(I40*D40,1) -> 0 | K40: =TRUNC(E40+G40+I40,1) -> #REF! | L40: =TRUNC(F40+H40+J40,1) -> #REF! | N40: 4102982A188B26E8FB4177E5A6904 | O40: 475798BFC05A861703917762F51001 | P40: F | Q40: F | R40: F | S40: 1 | T40: 0 | U40: 0.03 | AW40: 4102982A188B26E8FB4177E5A6904475798BFC05A861703917762F52002
A41: [ 합 계 ] | F41: =TRUNC(SUMIF(N38:N40, N37, F38:F40),0) -> #REF! | H41: =TRUNC(SUMIF(N38:N40, N37, H38:H40),0) -> #REF! | J41: =TRUNC(SUMIF(N38:N40, N37, J38:J40),0) -> #REF! | L41: =F41+H41+J41 -> #REF! | N41: TOTAL | O41: TOTAL
A43: 케이블트레이지지대 W450 개소 전기 5-29 ( 호표 7 ) | N43: 4102982A188B26FABB117D68672AE
A44: 케이블트레이부속품 | B44: U CHANNEL, 41x41x2.6t | C44: M | D44: 0.55 | E44: =#REF! -> #REF! | F44: =TRUNC(E44*D44,1) -> #REF! | G44: =#REF! -> #REF! | H44: =TRUNC(G44*D44,1) -> #REF! | I44: =#REF! -> #REF! | J44: =TRUNC(I44*D44,1) -> #REF! | K44: =TRUNC(E44+G44+I44,1) -> #REF! | L44: =TRUNC(F44+H44+J44,1) -> #REF! | N44: 4102982A188B26FABB117D68672AE | O44: 416B9EE7A9107603C5817C12A7AF92AF4590B | P44: F | Q44: F | R44: T | AW44: 4102982A188B26FABB117D68672AE416B9EE7A9107603C5817C12A7AF92AF4590B
A45: 행거볼트 | B45: M10×1000㎜ | C45: 개 | D45: 2 | E45: =#REF! -> #REF! | F45: =TRUNC(E45*D45,1) -> #REF! | G45: =#REF! -> #REF! | H45: =TRUNC(G45*D45,1) -> #REF! | I45: =#REF! -> #REF! | J45: =TRUNC(I45*D45,1) -> #REF! | K45: =TRUNC(E45+G45+I45,1) -> #REF! | L45: =TRUNC(F45+H45+J45,1) -> #REF! | N45: 4102982A188B26FABB117D68672AE | O45: 416B969137D6B6A3798175BEA05C53CF5FD47 | P45: F | Q45: F | R45: T | AW45: 4102982A188B26FABB117D68672AE416B969137D6B6A3798175BEA05C53CF5FD47
A46: 스트롱앵커 | B46: M10×L50mm | C46: 개 | D46: 2 | E46: =#REF! -> #REF! | F46: =TRUNC(E46*D46,1) -> #REF! | G46: =#REF! -> #REF! | H46: =TRUNC(G46*D46,1) -> #REF! | I46: =#REF! -> #REF! | J46: =TRUNC(I46*D46,1) -> #REF! | K46: =TRUNC(E46+G46+I46,1) -> #REF! | L46: =TRUNC(F46+H46+J46,1) -> #REF! | N46: 4102982A188B26FABB117D68672AE | O46: 416B969137D59643C0D17B710AC0505B489B8 | P46: F | Q46: F | R46: T | AW46: 4102982A188B26FABB117D68672AE416B969137D59643C0D17B710AC0505B489B8
...

Sheet  공사설정 
A1: 이 Sheet는 수정하지 마십시요
A2: 공사구분 | B2: D
A3: 확정내역 | B3: 원내역
A4: 자재단가적용 | B4: 5
A5: 경비단가적용 | B5: 5
A6: 품목코드형식 | B6: XXXX-XXXX-XXXXXXXXX
A7: 내역금액소수점처리 | B7: C | C7: 1
A8: 일위대가내역소수점처리 | B8: C | C8: 2
A9: 단가명 | B9: 가격정보 | C9: 물가자료 | D9: 유통물가 | E9: 거래가격 | F9: 조사가격 | G9: TTTTT
A10: 환율 | B10: 1055.3 | C10: 0 | D10: 0
A11: 시간당작업량 | B11: R | C11: 3
A12: 1회 사이클시간 | B12: R | C12: 3
A13: 시간당 작업사이클 | B13: R | C13: 2
A14: 일반변수 | B14: C | C14: 5
A15: 시간당 노임산출 계수 | B15: A | C15: 1/8*16/12*25/20 | D15: 1/8*16/12*25/20 | E15: 1/8*16/12*25/20 | F15: 1
A16: 재료비 할증 계수 | B16: 11 | C16: 12
A17: 노무비 할증 계수 | B17: 0 | C17: 50 | D17: 16 | E17: 60 | F17: 60 | G17: 60 | H17: 94 | I17: 94 | J17: 94 | K17: 0 | L17: 0 | M17: 0
A18: 경비 할증 계수 | B18: 12.5 | C18: 7.1
A19: 내역,일위대가 품명,규격,단위 따로적용
A20: 내역단가 소수점처리 | B20: C | C20: 1
A21: 코드 | B21: 공종구분명 | C21: 원가비목코드
A22: 1 | B22: 작 업 부 산 물 | C22: A3
A23: 2 | B23: 운 반 비 | C23: C1
A24: 3 | B24: 관 급 자 재 비 | C24: DJ
A25: 4 | B25: 사 급 자 재 비 | C25: D3
A26: 5 | B26: 외 자 재
A27: 6 | B27: 한 전 인 입 비
A28: 7 | B28: 조 달 수 수 료
A29: 8 | B29: ...
A30: 9 | B30: ...

Sheet Sheet1
